BEGIN:VCALENDAR
VERSION:2.0
PRODID:-//My Recovery - ECPv6.15.17//NONSGML v1.0//EN
CALSCALE:GREGORIAN
METHOD:PUBLISH
X-WR-CALNAME:My Recovery
X-ORIGINAL-URL:https://myrecovery.org
X-WR-CALDESC:Events for My Recovery
REFRESH-INTERVAL;VALUE=DURATION:PT1H
X-Robots-Tag:noindex
X-PUBLISHED-TTL:PT1H
BEGIN:VTIMEZONE
TZID:UTC
BEGIN:STANDARD
TZOFFSETFROM:+0000
TZOFFSETTO:+0000
TZNAME:UTC
DTSTART:20240101T000000
END:STANDARD
END:VTIMEZONE
BEGIN:VEVENT
DTSTART;TZID=UTC:20250615T100000
DTEND;TZID=UTC:20250615T230000
DTSTAMP:20260421T121410
CREATED:20250611T222401Z
LAST-MODIFIED:20250708T160343Z
UID:10010378-1749981600-1750028400@myrecovery.org
SUMMARY:AA - 50 + Elder Meeting - Format: Topic
DESCRIPTION:Topic: Recovery Meetings center around a topic that is picked out by the Trusted Servant or group conscience. Attendees have the opportunity to share how they relate to the topic. \nCLICK HERE to join the meeting!
URL:https://myrecovery.org/event/aa-50-elder-meeting-format-topic/2025-06-15/
CATEGORIES:Elders,Topics
ATTACH;FMTTYPE=image/jpeg:https://myrecovery.org/wp-content/uploads/2024/09/AA-50-Elder-Meeting-Format-Topic.jpg
LOCATION:https://zoom.us/j/113724870?pwd=NmQvWTF4RHBwMytzV1dObHFvRjhZUT09
END:VEVENT
BEGIN:VEVENT
DTSTART;TZID=UTC:20250617T180000
DTEND;TZID=UTC:20250617T190000
DTSTAMP:20260421T121410
CREATED:20250611T221951Z
LAST-MODIFIED:20250613T170214Z
UID:10010367-1750183200-1750186800@myrecovery.org
SUMMARY:AA - Serenity Squad - Format: Steps and Topic
DESCRIPTION:Topic: Meetings center around a topic that is picked out by the Trusted Servant or group conscience. Attendees have the opportunity to share how they relate to the topic. \nSteps: Meetings will focus on the 12 steps rotating through a step per week. The Trusted Servant speaks about the step and opens the meeting up for discussion for all attendees. \nCLICK HERE to join the meeting!
URL:https://myrecovery.org/event/aa-serenity-squad-format-steps-and-topic/2025-06-17/
CATEGORIES:AA,Steps,Topics
ATTACH;FMTTYPE=image/jpeg:https://myrecovery.org/wp-content/uploads/2024/02/AA-Serenity-Squad-Format-Steps-and-Topic-web.jpg
LOCATION:https://us02web.zoom.us/j/87229802583?pwd=MVEveFBxRlNqVkRGY2dYS3p0dlRJdz09
END:VEVENT
BEGIN:VEVENT
DTSTART;TZID=UTC:20250617T183000
DTEND;TZID=UTC:20250617T193000
DTSTAMP:20260421T121410
CREATED:20250611T221927Z
LAST-MODIFIED:20250613T170320Z
UID:10010366-1750185000-1750188600@myrecovery.org
SUMMARY:AA - We Can - Format: Topic WOMEN ONLY
DESCRIPTION:Women Only: Open to women only. \nTopic: Recovery Meetings center around a topic that is picked out by the Trusted Servant or group conscience. Attendees have the opportunity to share how they relate to the topic. \nCLICK HERE to join the meeting!
URL:https://myrecovery.org/event/aa-we-can-format-topic-women-only/2025-06-17/
CATEGORIES:AA,Topics,Women's Meeting
ATTACH;FMTTYPE=image/jpeg:https://myrecovery.org/wp-content/uploads/2024/02/AA-We-Can-Format-Topic-WOMEN-ONLY.jpg
LOCATION:https://zoom.us/j/91991719596?pwd=bDY2U0NkVXkxQ1FHaURmVFJXYnJ0Zz09
END:VEVENT
BEGIN:VEVENT
DTSTART;TZID=UTC:20250622T100000
DTEND;TZID=UTC:20250622T230000
DTSTAMP:20260421T121410
CREATED:20250611T222401Z
LAST-MODIFIED:20250708T160343Z
UID:10016485-1750586400-1750633200@myrecovery.org
SUMMARY:AA - 50 + Elder Meeting - Format: Topic
DESCRIPTION:Topic: Recovery Meetings center around a topic that is picked out by the Trusted Servant or group conscience. Attendees have the opportunity to share how they relate to the topic. \nCLICK HERE to join the meeting!
URL:https://myrecovery.org/event/aa-50-elder-meeting-format-topic/2025-06-22/
CATEGORIES:Elders,Topics
ATTACH;FMTTYPE=image/jpeg:https://myrecovery.org/wp-content/uploads/2024/09/AA-50-Elder-Meeting-Format-Topic.jpg
LOCATION:https://zoom.us/j/113724870?pwd=NmQvWTF4RHBwMytzV1dObHFvRjhZUT09
END:VEVENT
BEGIN:VEVENT
DTSTART;TZID=UTC:20250624T180000
DTEND;TZID=UTC:20250624T190000
DTSTAMP:20260421T121410
CREATED:20250611T221951Z
LAST-MODIFIED:20250613T170214Z
UID:10013100-1750788000-1750791600@myrecovery.org
SUMMARY:AA - Serenity Squad - Format: Steps and Topic
DESCRIPTION:Topic: Meetings center around a topic that is picked out by the Trusted Servant or group conscience. Attendees have the opportunity to share how they relate to the topic. \nSteps: Meetings will focus on the 12 steps rotating through a step per week. The Trusted Servant speaks about the step and opens the meeting up for discussion for all attendees. \nCLICK HERE to join the meeting!
URL:https://myrecovery.org/event/aa-serenity-squad-format-steps-and-topic/2025-06-24/
CATEGORIES:AA,Steps,Topics
ATTACH;FMTTYPE=image/jpeg:https://myrecovery.org/wp-content/uploads/2024/02/AA-Serenity-Squad-Format-Steps-and-Topic-web.jpg
LOCATION:https://us02web.zoom.us/j/87229802583?pwd=MVEveFBxRlNqVkRGY2dYS3p0dlRJdz09
END:VEVENT
BEGIN:VEVENT
DTSTART;TZID=UTC:20250624T183000
DTEND;TZID=UTC:20250624T193000
DTSTAMP:20260421T121410
CREATED:20250611T221927Z
LAST-MODIFIED:20250613T170320Z
UID:10013690-1750789800-1750793400@myrecovery.org
SUMMARY:AA - We Can - Format: Topic WOMEN ONLY
DESCRIPTION:Women Only: Open to women only. \nTopic: Recovery Meetings center around a topic that is picked out by the Trusted Servant or group conscience. Attendees have the opportunity to share how they relate to the topic. \nCLICK HERE to join the meeting!
URL:https://myrecovery.org/event/aa-we-can-format-topic-women-only/2025-06-24/
CATEGORIES:AA,Topics,Women's Meeting
ATTACH;FMTTYPE=image/jpeg:https://myrecovery.org/wp-content/uploads/2024/02/AA-We-Can-Format-Topic-WOMEN-ONLY.jpg
LOCATION:https://zoom.us/j/91991719596?pwd=bDY2U0NkVXkxQ1FHaURmVFJXYnJ0Zz09
END:VEVENT
BEGIN:VEVENT
DTSTART;TZID=UTC:20250625T183000
DTEND;TZID=UTC:20250625T203000
DTSTAMP:20260421T121410
CREATED:20250611T221620Z
LAST-MODIFIED:20250611T221620Z
UID:10010362-1750876200-1750883400@myrecovery.org
SUMMARY:Women In Recovery (Women Only) - Format: Speaker
DESCRIPTION:Women Only: Open to women only. \nSpeaker: Recovery meetings focus on a guest speaker that shares their experience\, strength and hope with the group. \nCLICK HERE to join the meeting!
URL:https://myrecovery.org/event/women-in-recovery-women-only-format-speaker-2/2025-06-25/
CATEGORIES:AA,Topics,Women's Meeting
ATTACH;FMTTYPE=image/jpeg:https://myrecovery.org/wp-content/uploads/2024/09/Women-In-Recovery-Women-Only-Format-Speaker.jpg
LOCATION:https://zoom.us/j/96253168010?pwd=blJsZnFFN2Vvd0lFUmUyVFVoaGVDUT09
END:VEVENT
BEGIN:VEVENT
DTSTART;TZID=UTC:20250629T100000
DTEND;TZID=UTC:20250629T230000
DTSTAMP:20260421T121410
CREATED:20250611T222401Z
LAST-MODIFIED:20250708T160343Z
UID:10016486-1751191200-1751238000@myrecovery.org
SUMMARY:AA - 50 + Elder Meeting - Format: Topic
DESCRIPTION:Topic: Recovery Meetings center around a topic that is picked out by the Trusted Servant or group conscience. Attendees have the opportunity to share how they relate to the topic. \nCLICK HERE to join the meeting!
URL:https://myrecovery.org/event/aa-50-elder-meeting-format-topic/2025-06-29/
CATEGORIES:Elders,Topics
ATTACH;FMTTYPE=image/jpeg:https://myrecovery.org/wp-content/uploads/2024/09/AA-50-Elder-Meeting-Format-Topic.jpg
LOCATION:https://zoom.us/j/113724870?pwd=NmQvWTF4RHBwMytzV1dObHFvRjhZUT09
END:VEVENT
END:VCALENDAR