BEGIN:VCALENDAR
VERSION:2.0
PRODID:-//My Recovery - ECPv6.15.17//NONSGML v1.0//EN
CALSCALE:GREGORIAN
METHOD:PUBLISH
X-ORIGINAL-URL:https://myrecovery.org
X-WR-CALDESC:Events for My Recovery
REFRESH-INTERVAL;VALUE=DURATION:PT1H
X-Robots-Tag:noindex
X-PUBLISHED-TTL:PT1H
BEGIN:VTIMEZONE
TZID:UTC
BEGIN:STANDARD
TZOFFSETFROM:+0000
TZOFFSETTO:+0000
TZNAME:UTC
DTSTART:20260101T000000
END:STANDARD
END:VTIMEZONE
BEGIN:VEVENT
DTSTART;TZID=UTC:20270713T183000
DTEND;TZID=UTC:20270713T193000
DTSTAMP:20260420T205231
CREATED:20250611T221846Z
LAST-MODIFIED:20250613T170344Z
UID:10014057-1815503400-1815507000@myrecovery.org
SUMMARY:Al-Anon - Tuesday Night Group B - Format: Steps
DESCRIPTION:Topic: Recovery Meetings center around a topic that is picked out by the Trusted Servant or group conscience. Attendees have the opportunity to share how they relate to the topic. \nCLICK HERE to join the meeting!
URL:https://myrecovery.org/event/al-anon-tuesday-night-group-b-format-steps/2027-07-13/
CATEGORIES:Al-Anon,Steps
ATTACH;FMTTYPE=image/jpeg:https://myrecovery.org/wp-content/uploads/2024/02/Al-Anon-Tuesday-Night-Group-B-Format-Steps.jpg
LOCATION:https://zoom.us/j/94544814618?pwd=WU0yaVdsMmFmMk94UUdZWnJxRWdRUT09
END:VEVENT
BEGIN:VEVENT
DTSTART;TZID=UTC:20270713T190000
DTEND;TZID=UTC:20270713T200000
DTSTAMP:20260420T205231
CREATED:20250611T221826Z
LAST-MODIFIED:20250613T170406Z
UID:10014317-1815505200-1815508800@myrecovery.org
SUMMARY:Al-Anon - Into Action - Format: Steps/Traditions
DESCRIPTION:Steps: Recovery meetings will focus on the 12 steps rotating through a step per week. The Trusted Servant speaks about the step and opens the meeting up for discussion for all attendees. \nTraditions: Recovery Meetings will focus primarily on the 12 traditions.  The Trusted Servant speaks about the selected Tradition and opens the meeting up for discussion for all attendees. \nCLICK HERE to join the meeting!
URL:https://myrecovery.org/event/al-anon-into-action-format-steps-traditions/2027-07-13/
CATEGORIES:Al-Anon,Steps,Traditions
ATTACH;FMTTYPE=image/jpeg:https://myrecovery.org/wp-content/uploads/2024/02/Al-Anon-Into-Action-Format-Steps-Traditions.jpg
LOCATION:https://zoom.us/j/703672043?pwd=NEtBdDNTUzhYc2U1emlMQTNsTFVWZz09
END:VEVENT
BEGIN:VEVENT
DTSTART;TZID=UTC:20270714T183000
DTEND;TZID=UTC:20270714T193000
DTSTAMP:20260420T205231
CREATED:20250613T170637Z
LAST-MODIFIED:20250613T170637Z
UID:10015169-1815589800-1815593400@myrecovery.org
SUMMARY:Nar-Anon - West Metro Hope For Recovery - Format: Steps/Topics Discussion
DESCRIPTION:Steps: Recovery meetings will focus on the 12 steps rotating through a step per week. The Trusted Servant speaks about the step and opens the meeting up for discussion for all attendees. \nTopic: Recovery Meetings center around a topic that is picked out by the Trusted Servant or group conscience. Attendees have the opportunity to share how they relate to the topic. \nBig Book or Discussion: Recovery meetings center around Big Book topics or pages selected by the Trusted Servant. The Trusted Servant speaks about the Big Book topic or pages selected and opens the meeting up for discussion for all attendees. \nCLICK HERE to join the meeting!
URL:https://myrecovery.org/event/nar-anon-west-metro-hope-for-recovery-format-steps-topics-discussion/2027-07-14/
CATEGORIES:Anon,Steps
ATTACH;FMTTYPE=image/jpeg:https://myrecovery.org/wp-content/uploads/2024/02/Nar-Anon-West-Metro-Hope-For-Recovery-Format-Steps-Topics-Discussion.jpg
LOCATION:https://zoom.us/j/940657043?pwd=djc0NU1kcFUxdWNNZ0djYllQdk1jUT09
END:VEVENT
BEGIN:VEVENT
DTSTART;TZID=UTC:20270715T193000
DTEND;TZID=UTC:20270715T203000
DTSTAMP:20260420T205231
CREATED:20250611T222617Z
LAST-MODIFIED:20250613T171123Z
UID:10015952-1815679800-1815683400@myrecovery.org
SUMMARY:Al-Anon - Quiet Moments - Format: Steps
DESCRIPTION:Steps: Recovery meetings will focus on the 12 steps rotating through a step per week. The Trusted Servant speaks about the step and opens the meeting up for discussion for all attendees. \nCLICK HERE to join the meeting!
URL:https://myrecovery.org/event/al-anon-quiet-moments-format-steps-2/2027-07-15/
CATEGORIES:Al-Anon,Steps
ATTACH;FMTTYPE=image/jpeg:https://myrecovery.org/wp-content/uploads/2024/01/Al-Anon-Quiet-Moments-Format-Steps.jpg
END:VEVENT
BEGIN:VEVENT
DTSTART;TZID=UTC:20270719T180000
DTEND;TZID=UTC:20270719T190000
DTSTAMP:20260420T205231
CREATED:20250611T222336Z
LAST-MODIFIED:20250613T165754Z
UID:10011318-1816020000-1816023600@myrecovery.org
SUMMARY:Al-Anon - Hope For Today - Format: Steps
DESCRIPTION:Steps: Recovery meetings will focus on the 12 steps rotating through a step per week. The Trusted Servant speaks about the step and opens the meeting up for discussion for all attendees. \nCLICK HERE to join the meeting!
URL:https://myrecovery.org/event/al-anon-hope-for-today-format-steps-2/2027-07-19/
CATEGORIES:Al-Anon,Steps
ATTACH;FMTTYPE=image/jpeg:https://myrecovery.org/wp-content/uploads/2024/08/AA-Serenity-Squad-Format-Steps-and-Topic.jpg
LOCATION:https://us06web.zoom.us/j/82926477061
END:VEVENT
BEGIN:VEVENT
DTSTART;TZID=UTC:20270719T190000
DTEND;TZID=UTC:20270719T200000
DTSTAMP:20260420T205231
CREATED:20250611T222134Z
LAST-MODIFIED:20250613T165920Z
UID:10011838-1816023600-1816027200@myrecovery.org
SUMMARY:AA - Complete Defeat AA - Format: Steps and Discussion
DESCRIPTION:Steps: Recovery meetings will focus on the 12 steps rotating through a step per week. The Trusted Servant speaks about the step and opens the meeting up for discussion for all attendees. \nBig Book or Discussion: Recovery meetings center around Big Book topics or pages selected by the Trusted Servant. The Trusted Servant speaks about the Big Book topic or pages selected and opens the meeting up for discussion for all attendees. \nCLICK HERE to join the meeting!
URL:https://myrecovery.org/event/aa-complete-defeat-aa-format-steps-and-discussion-2/2027-07-19/
CATEGORIES:AA,Discussion,Steps
ATTACH;FMTTYPE=image/jpeg:https://myrecovery.org/wp-content/uploads/2024/02/AA-Complete-Defeat-AA-Format-Steps-and-Discussion.jpg
LOCATION:https://zoom.us/j/674001502?pwd=T0VkdjhXc2tkRmZxR0t6ZVpzQWs0dz09
END:VEVENT
BEGIN:VEVENT
DTSTART;TZID=UTC:20270720T183000
DTEND;TZID=UTC:20270720T193000
DTSTAMP:20260420T205231
CREATED:20250611T221846Z
LAST-MODIFIED:20250613T170344Z
UID:10014058-1816108200-1816111800@myrecovery.org
SUMMARY:Al-Anon - Tuesday Night Group B - Format: Steps
DESCRIPTION:Topic: Recovery Meetings center around a topic that is picked out by the Trusted Servant or group conscience. Attendees have the opportunity to share how they relate to the topic. \nCLICK HERE to join the meeting!
URL:https://myrecovery.org/event/al-anon-tuesday-night-group-b-format-steps/2027-07-20/
CATEGORIES:Al-Anon,Steps
ATTACH;FMTTYPE=image/jpeg:https://myrecovery.org/wp-content/uploads/2024/02/Al-Anon-Tuesday-Night-Group-B-Format-Steps.jpg
LOCATION:https://zoom.us/j/94544814618?pwd=WU0yaVdsMmFmMk94UUdZWnJxRWdRUT09
END:VEVENT
BEGIN:VEVENT
DTSTART;TZID=UTC:20270720T190000
DTEND;TZID=UTC:20270720T200000
DTSTAMP:20260420T205231
CREATED:20250611T221826Z
LAST-MODIFIED:20250613T170406Z
UID:10014318-1816110000-1816113600@myrecovery.org
SUMMARY:Al-Anon - Into Action - Format: Steps/Traditions
DESCRIPTION:Steps: Recovery meetings will focus on the 12 steps rotating through a step per week. The Trusted Servant speaks about the step and opens the meeting up for discussion for all attendees. \nTraditions: Recovery Meetings will focus primarily on the 12 traditions.  The Trusted Servant speaks about the selected Tradition and opens the meeting up for discussion for all attendees. \nCLICK HERE to join the meeting!
URL:https://myrecovery.org/event/al-anon-into-action-format-steps-traditions/2027-07-20/
CATEGORIES:Al-Anon,Steps,Traditions
ATTACH;FMTTYPE=image/jpeg:https://myrecovery.org/wp-content/uploads/2024/02/Al-Anon-Into-Action-Format-Steps-Traditions.jpg
LOCATION:https://zoom.us/j/703672043?pwd=NEtBdDNTUzhYc2U1emlMQTNsTFVWZz09
END:VEVENT
BEGIN:VEVENT
DTSTART;TZID=UTC:20270721T183000
DTEND;TZID=UTC:20270721T193000
DTSTAMP:20260420T205231
CREATED:20250613T170637Z
LAST-MODIFIED:20250613T170637Z
UID:10015170-1816194600-1816198200@myrecovery.org
SUMMARY:Nar-Anon - West Metro Hope For Recovery - Format: Steps/Topics Discussion
DESCRIPTION:Steps: Recovery meetings will focus on the 12 steps rotating through a step per week. The Trusted Servant speaks about the step and opens the meeting up for discussion for all attendees. \nTopic: Recovery Meetings center around a topic that is picked out by the Trusted Servant or group conscience. Attendees have the opportunity to share how they relate to the topic. \nBig Book or Discussion: Recovery meetings center around Big Book topics or pages selected by the Trusted Servant. The Trusted Servant speaks about the Big Book topic or pages selected and opens the meeting up for discussion for all attendees. \nCLICK HERE to join the meeting!
URL:https://myrecovery.org/event/nar-anon-west-metro-hope-for-recovery-format-steps-topics-discussion/2027-07-21/
CATEGORIES:Anon,Steps
ATTACH;FMTTYPE=image/jpeg:https://myrecovery.org/wp-content/uploads/2024/02/Nar-Anon-West-Metro-Hope-For-Recovery-Format-Steps-Topics-Discussion.jpg
LOCATION:https://zoom.us/j/940657043?pwd=djc0NU1kcFUxdWNNZ0djYllQdk1jUT09
END:VEVENT
BEGIN:VEVENT
DTSTART;TZID=UTC:20270722T193000
DTEND;TZID=UTC:20270722T203000
DTSTAMP:20260420T205231
CREATED:20250611T222617Z
LAST-MODIFIED:20250613T171123Z
UID:10015953-1816284600-1816288200@myrecovery.org
SUMMARY:Al-Anon - Quiet Moments - Format: Steps
DESCRIPTION:Steps: Recovery meetings will focus on the 12 steps rotating through a step per week. The Trusted Servant speaks about the step and opens the meeting up for discussion for all attendees. \nCLICK HERE to join the meeting!
URL:https://myrecovery.org/event/al-anon-quiet-moments-format-steps-2/2027-07-22/
CATEGORIES:Al-Anon,Steps
ATTACH;FMTTYPE=image/jpeg:https://myrecovery.org/wp-content/uploads/2024/01/Al-Anon-Quiet-Moments-Format-Steps.jpg
END:VEVENT
BEGIN:VEVENT
DTSTART;TZID=UTC:20270726T180000
DTEND;TZID=UTC:20270726T190000
DTSTAMP:20260420T205231
CREATED:20250611T222336Z
LAST-MODIFIED:20250613T165754Z
UID:10011319-1816624800-1816628400@myrecovery.org
SUMMARY:Al-Anon - Hope For Today - Format: Steps
DESCRIPTION:Steps: Recovery meetings will focus on the 12 steps rotating through a step per week. The Trusted Servant speaks about the step and opens the meeting up for discussion for all attendees. \nCLICK HERE to join the meeting!
URL:https://myrecovery.org/event/al-anon-hope-for-today-format-steps-2/2027-07-26/
CATEGORIES:Al-Anon,Steps
ATTACH;FMTTYPE=image/jpeg:https://myrecovery.org/wp-content/uploads/2024/08/AA-Serenity-Squad-Format-Steps-and-Topic.jpg
LOCATION:https://us06web.zoom.us/j/82926477061
END:VEVENT
BEGIN:VEVENT
DTSTART;TZID=UTC:20270726T190000
DTEND;TZID=UTC:20270726T200000
DTSTAMP:20260420T205231
CREATED:20250611T222134Z
LAST-MODIFIED:20250613T165920Z
UID:10011839-1816628400-1816632000@myrecovery.org
SUMMARY:AA - Complete Defeat AA - Format: Steps and Discussion
DESCRIPTION:Steps: Recovery meetings will focus on the 12 steps rotating through a step per week. The Trusted Servant speaks about the step and opens the meeting up for discussion for all attendees. \nBig Book or Discussion: Recovery meetings center around Big Book topics or pages selected by the Trusted Servant. The Trusted Servant speaks about the Big Book topic or pages selected and opens the meeting up for discussion for all attendees. \nCLICK HERE to join the meeting!
URL:https://myrecovery.org/event/aa-complete-defeat-aa-format-steps-and-discussion-2/2027-07-26/
CATEGORIES:AA,Discussion,Steps
ATTACH;FMTTYPE=image/jpeg:https://myrecovery.org/wp-content/uploads/2024/02/AA-Complete-Defeat-AA-Format-Steps-and-Discussion.jpg
LOCATION:https://zoom.us/j/674001502?pwd=T0VkdjhXc2tkRmZxR0t6ZVpzQWs0dz09
END:VEVENT
BEGIN:VEVENT
DTSTART;TZID=UTC:20270727T183000
DTEND;TZID=UTC:20270727T193000
DTSTAMP:20260420T205231
CREATED:20250611T221846Z
LAST-MODIFIED:20250613T170344Z
UID:10014059-1816713000-1816716600@myrecovery.org
SUMMARY:Al-Anon - Tuesday Night Group B - Format: Steps
DESCRIPTION:Topic: Recovery Meetings center around a topic that is picked out by the Trusted Servant or group conscience. Attendees have the opportunity to share how they relate to the topic. \nCLICK HERE to join the meeting!
URL:https://myrecovery.org/event/al-anon-tuesday-night-group-b-format-steps/2027-07-27/
CATEGORIES:Al-Anon,Steps
ATTACH;FMTTYPE=image/jpeg:https://myrecovery.org/wp-content/uploads/2024/02/Al-Anon-Tuesday-Night-Group-B-Format-Steps.jpg
LOCATION:https://zoom.us/j/94544814618?pwd=WU0yaVdsMmFmMk94UUdZWnJxRWdRUT09
END:VEVENT
BEGIN:VEVENT
DTSTART;TZID=UTC:20270727T190000
DTEND;TZID=UTC:20270727T200000
DTSTAMP:20260420T205231
CREATED:20250611T221826Z
LAST-MODIFIED:20250613T170406Z
UID:10014319-1816714800-1816718400@myrecovery.org
SUMMARY:Al-Anon - Into Action - Format: Steps/Traditions
DESCRIPTION:Steps: Recovery meetings will focus on the 12 steps rotating through a step per week. The Trusted Servant speaks about the step and opens the meeting up for discussion for all attendees. \nTraditions: Recovery Meetings will focus primarily on the 12 traditions.  The Trusted Servant speaks about the selected Tradition and opens the meeting up for discussion for all attendees. \nCLICK HERE to join the meeting!
URL:https://myrecovery.org/event/al-anon-into-action-format-steps-traditions/2027-07-27/
CATEGORIES:Al-Anon,Steps,Traditions
ATTACH;FMTTYPE=image/jpeg:https://myrecovery.org/wp-content/uploads/2024/02/Al-Anon-Into-Action-Format-Steps-Traditions.jpg
LOCATION:https://zoom.us/j/703672043?pwd=NEtBdDNTUzhYc2U1emlMQTNsTFVWZz09
END:VEVENT
BEGIN:VEVENT
DTSTART;TZID=UTC:20270728T183000
DTEND;TZID=UTC:20270728T193000
DTSTAMP:20260420T205231
CREATED:20250613T170637Z
LAST-MODIFIED:20250613T170637Z
UID:10015171-1816799400-1816803000@myrecovery.org
SUMMARY:Nar-Anon - West Metro Hope For Recovery - Format: Steps/Topics Discussion
DESCRIPTION:Steps: Recovery meetings will focus on the 12 steps rotating through a step per week. The Trusted Servant speaks about the step and opens the meeting up for discussion for all attendees. \nTopic: Recovery Meetings center around a topic that is picked out by the Trusted Servant or group conscience. Attendees have the opportunity to share how they relate to the topic. \nBig Book or Discussion: Recovery meetings center around Big Book topics or pages selected by the Trusted Servant. The Trusted Servant speaks about the Big Book topic or pages selected and opens the meeting up for discussion for all attendees. \nCLICK HERE to join the meeting!
URL:https://myrecovery.org/event/nar-anon-west-metro-hope-for-recovery-format-steps-topics-discussion/2027-07-28/
CATEGORIES:Anon,Steps
ATTACH;FMTTYPE=image/jpeg:https://myrecovery.org/wp-content/uploads/2024/02/Nar-Anon-West-Metro-Hope-For-Recovery-Format-Steps-Topics-Discussion.jpg
LOCATION:https://zoom.us/j/940657043?pwd=djc0NU1kcFUxdWNNZ0djYllQdk1jUT09
END:VEVENT
BEGIN:VEVENT
DTSTART;TZID=UTC:20270729T193000
DTEND;TZID=UTC:20270729T203000
DTSTAMP:20260420T205231
CREATED:20250611T222617Z
LAST-MODIFIED:20250613T171123Z
UID:10015954-1816889400-1816893000@myrecovery.org
SUMMARY:Al-Anon - Quiet Moments - Format: Steps
DESCRIPTION:Steps: Recovery meetings will focus on the 12 steps rotating through a step per week. The Trusted Servant speaks about the step and opens the meeting up for discussion for all attendees. \nCLICK HERE to join the meeting!
URL:https://myrecovery.org/event/al-anon-quiet-moments-format-steps-2/2027-07-29/
CATEGORIES:Al-Anon,Steps
ATTACH;FMTTYPE=image/jpeg:https://myrecovery.org/wp-content/uploads/2024/01/Al-Anon-Quiet-Moments-Format-Steps.jpg
END:VEVENT
BEGIN:VEVENT
DTSTART;TZID=UTC:20270802T180000
DTEND;TZID=UTC:20270802T190000
DTSTAMP:20260420T205231
CREATED:20250611T222336Z
LAST-MODIFIED:20250613T165754Z
UID:10011320-1817229600-1817233200@myrecovery.org
SUMMARY:Al-Anon - Hope For Today - Format: Steps
DESCRIPTION:Steps: Recovery meetings will focus on the 12 steps rotating through a step per week. The Trusted Servant speaks about the step and opens the meeting up for discussion for all attendees. \nCLICK HERE to join the meeting!
URL:https://myrecovery.org/event/al-anon-hope-for-today-format-steps-2/2027-08-02/
CATEGORIES:Al-Anon,Steps
ATTACH;FMTTYPE=image/jpeg:https://myrecovery.org/wp-content/uploads/2024/08/AA-Serenity-Squad-Format-Steps-and-Topic.jpg
LOCATION:https://us06web.zoom.us/j/82926477061
END:VEVENT
BEGIN:VEVENT
DTSTART;TZID=UTC:20270802T190000
DTEND;TZID=UTC:20270802T200000
DTSTAMP:20260420T205231
CREATED:20250611T222134Z
LAST-MODIFIED:20250613T165920Z
UID:10011840-1817233200-1817236800@myrecovery.org
SUMMARY:AA - Complete Defeat AA - Format: Steps and Discussion
DESCRIPTION:Steps: Recovery meetings will focus on the 12 steps rotating through a step per week. The Trusted Servant speaks about the step and opens the meeting up for discussion for all attendees. \nBig Book or Discussion: Recovery meetings center around Big Book topics or pages selected by the Trusted Servant. The Trusted Servant speaks about the Big Book topic or pages selected and opens the meeting up for discussion for all attendees. \nCLICK HERE to join the meeting!
URL:https://myrecovery.org/event/aa-complete-defeat-aa-format-steps-and-discussion-2/2027-08-02/
CATEGORIES:AA,Discussion,Steps
ATTACH;FMTTYPE=image/jpeg:https://myrecovery.org/wp-content/uploads/2024/02/AA-Complete-Defeat-AA-Format-Steps-and-Discussion.jpg
LOCATION:https://zoom.us/j/674001502?pwd=T0VkdjhXc2tkRmZxR0t6ZVpzQWs0dz09
END:VEVENT
BEGIN:VEVENT
DTSTART;TZID=UTC:20270803T183000
DTEND;TZID=UTC:20270803T193000
DTSTAMP:20260420T205231
CREATED:20250611T221846Z
LAST-MODIFIED:20250613T170344Z
UID:10014060-1817317800-1817321400@myrecovery.org
SUMMARY:Al-Anon - Tuesday Night Group B - Format: Steps
DESCRIPTION:Topic: Recovery Meetings center around a topic that is picked out by the Trusted Servant or group conscience. Attendees have the opportunity to share how they relate to the topic. \nCLICK HERE to join the meeting!
URL:https://myrecovery.org/event/al-anon-tuesday-night-group-b-format-steps/2027-08-03/
CATEGORIES:Al-Anon,Steps
ATTACH;FMTTYPE=image/jpeg:https://myrecovery.org/wp-content/uploads/2024/02/Al-Anon-Tuesday-Night-Group-B-Format-Steps.jpg
LOCATION:https://zoom.us/j/94544814618?pwd=WU0yaVdsMmFmMk94UUdZWnJxRWdRUT09
END:VEVENT
BEGIN:VEVENT
DTSTART;TZID=UTC:20270803T190000
DTEND;TZID=UTC:20270803T200000
DTSTAMP:20260420T205231
CREATED:20250611T221826Z
LAST-MODIFIED:20250613T170406Z
UID:10014320-1817319600-1817323200@myrecovery.org
SUMMARY:Al-Anon - Into Action - Format: Steps/Traditions
DESCRIPTION:Steps: Recovery meetings will focus on the 12 steps rotating through a step per week. The Trusted Servant speaks about the step and opens the meeting up for discussion for all attendees. \nTraditions: Recovery Meetings will focus primarily on the 12 traditions.  The Trusted Servant speaks about the selected Tradition and opens the meeting up for discussion for all attendees. \nCLICK HERE to join the meeting!
URL:https://myrecovery.org/event/al-anon-into-action-format-steps-traditions/2027-08-03/
CATEGORIES:Al-Anon,Steps,Traditions
ATTACH;FMTTYPE=image/jpeg:https://myrecovery.org/wp-content/uploads/2024/02/Al-Anon-Into-Action-Format-Steps-Traditions.jpg
LOCATION:https://zoom.us/j/703672043?pwd=NEtBdDNTUzhYc2U1emlMQTNsTFVWZz09
END:VEVENT
BEGIN:VEVENT
DTSTART;TZID=UTC:20270804T183000
DTEND;TZID=UTC:20270804T193000
DTSTAMP:20260420T205231
CREATED:20250613T170637Z
LAST-MODIFIED:20250613T170637Z
UID:10015172-1817404200-1817407800@myrecovery.org
SUMMARY:Nar-Anon - West Metro Hope For Recovery - Format: Steps/Topics Discussion
DESCRIPTION:Steps: Recovery meetings will focus on the 12 steps rotating through a step per week. The Trusted Servant speaks about the step and opens the meeting up for discussion for all attendees. \nTopic: Recovery Meetings center around a topic that is picked out by the Trusted Servant or group conscience. Attendees have the opportunity to share how they relate to the topic. \nBig Book or Discussion: Recovery meetings center around Big Book topics or pages selected by the Trusted Servant. The Trusted Servant speaks about the Big Book topic or pages selected and opens the meeting up for discussion for all attendees. \nCLICK HERE to join the meeting!
URL:https://myrecovery.org/event/nar-anon-west-metro-hope-for-recovery-format-steps-topics-discussion/2027-08-04/
CATEGORIES:Anon,Steps
ATTACH;FMTTYPE=image/jpeg:https://myrecovery.org/wp-content/uploads/2024/02/Nar-Anon-West-Metro-Hope-For-Recovery-Format-Steps-Topics-Discussion.jpg
LOCATION:https://zoom.us/j/940657043?pwd=djc0NU1kcFUxdWNNZ0djYllQdk1jUT09
END:VEVENT
BEGIN:VEVENT
DTSTART;TZID=UTC:20270805T193000
DTEND;TZID=UTC:20270805T203000
DTSTAMP:20260420T205231
CREATED:20250611T222617Z
LAST-MODIFIED:20250613T171123Z
UID:10015955-1817494200-1817497800@myrecovery.org
SUMMARY:Al-Anon - Quiet Moments - Format: Steps
DESCRIPTION:Steps: Recovery meetings will focus on the 12 steps rotating through a step per week. The Trusted Servant speaks about the step and opens the meeting up for discussion for all attendees. \nCLICK HERE to join the meeting!
URL:https://myrecovery.org/event/al-anon-quiet-moments-format-steps-2/2027-08-05/
CATEGORIES:Al-Anon,Steps
ATTACH;FMTTYPE=image/jpeg:https://myrecovery.org/wp-content/uploads/2024/01/Al-Anon-Quiet-Moments-Format-Steps.jpg
END:VEVENT
BEGIN:VEVENT
DTSTART;TZID=UTC:20270809T180000
DTEND;TZID=UTC:20270809T190000
DTSTAMP:20260420T205231
CREATED:20250611T222336Z
LAST-MODIFIED:20250613T165754Z
UID:10011321-1817834400-1817838000@myrecovery.org
SUMMARY:Al-Anon - Hope For Today - Format: Steps
DESCRIPTION:Steps: Recovery meetings will focus on the 12 steps rotating through a step per week. The Trusted Servant speaks about the step and opens the meeting up for discussion for all attendees. \nCLICK HERE to join the meeting!
URL:https://myrecovery.org/event/al-anon-hope-for-today-format-steps-2/2027-08-09/
CATEGORIES:Al-Anon,Steps
ATTACH;FMTTYPE=image/jpeg:https://myrecovery.org/wp-content/uploads/2024/08/AA-Serenity-Squad-Format-Steps-and-Topic.jpg
LOCATION:https://us06web.zoom.us/j/82926477061
END:VEVENT
BEGIN:VEVENT
DTSTART;TZID=UTC:20270809T190000
DTEND;TZID=UTC:20270809T200000
DTSTAMP:20260420T205231
CREATED:20250611T222134Z
LAST-MODIFIED:20250613T165920Z
UID:10011841-1817838000-1817841600@myrecovery.org
SUMMARY:AA - Complete Defeat AA - Format: Steps and Discussion
DESCRIPTION:Steps: Recovery meetings will focus on the 12 steps rotating through a step per week. The Trusted Servant speaks about the step and opens the meeting up for discussion for all attendees. \nBig Book or Discussion: Recovery meetings center around Big Book topics or pages selected by the Trusted Servant. The Trusted Servant speaks about the Big Book topic or pages selected and opens the meeting up for discussion for all attendees. \nCLICK HERE to join the meeting!
URL:https://myrecovery.org/event/aa-complete-defeat-aa-format-steps-and-discussion-2/2027-08-09/
CATEGORIES:AA,Discussion,Steps
ATTACH;FMTTYPE=image/jpeg:https://myrecovery.org/wp-content/uploads/2024/02/AA-Complete-Defeat-AA-Format-Steps-and-Discussion.jpg
LOCATION:https://zoom.us/j/674001502?pwd=T0VkdjhXc2tkRmZxR0t6ZVpzQWs0dz09
END:VEVENT
BEGIN:VEVENT
DTSTART;TZID=UTC:20270810T183000
DTEND;TZID=UTC:20270810T193000
DTSTAMP:20260420T205231
CREATED:20250611T221846Z
LAST-MODIFIED:20250613T170344Z
UID:10014061-1817922600-1817926200@myrecovery.org
SUMMARY:Al-Anon - Tuesday Night Group B - Format: Steps
DESCRIPTION:Topic: Recovery Meetings center around a topic that is picked out by the Trusted Servant or group conscience. Attendees have the opportunity to share how they relate to the topic. \nCLICK HERE to join the meeting!
URL:https://myrecovery.org/event/al-anon-tuesday-night-group-b-format-steps/2027-08-10/
CATEGORIES:Al-Anon,Steps
ATTACH;FMTTYPE=image/jpeg:https://myrecovery.org/wp-content/uploads/2024/02/Al-Anon-Tuesday-Night-Group-B-Format-Steps.jpg
LOCATION:https://zoom.us/j/94544814618?pwd=WU0yaVdsMmFmMk94UUdZWnJxRWdRUT09
END:VEVENT
BEGIN:VEVENT
DTSTART;TZID=UTC:20270810T190000
DTEND;TZID=UTC:20270810T200000
DTSTAMP:20260420T205231
CREATED:20250611T221826Z
LAST-MODIFIED:20250613T170406Z
UID:10014321-1817924400-1817928000@myrecovery.org
SUMMARY:Al-Anon - Into Action - Format: Steps/Traditions
DESCRIPTION:Steps: Recovery meetings will focus on the 12 steps rotating through a step per week. The Trusted Servant speaks about the step and opens the meeting up for discussion for all attendees. \nTraditions: Recovery Meetings will focus primarily on the 12 traditions.  The Trusted Servant speaks about the selected Tradition and opens the meeting up for discussion for all attendees. \nCLICK HERE to join the meeting!
URL:https://myrecovery.org/event/al-anon-into-action-format-steps-traditions/2027-08-10/
CATEGORIES:Al-Anon,Steps,Traditions
ATTACH;FMTTYPE=image/jpeg:https://myrecovery.org/wp-content/uploads/2024/02/Al-Anon-Into-Action-Format-Steps-Traditions.jpg
LOCATION:https://zoom.us/j/703672043?pwd=NEtBdDNTUzhYc2U1emlMQTNsTFVWZz09
END:VEVENT
BEGIN:VEVENT
DTSTART;TZID=UTC:20270811T183000
DTEND;TZID=UTC:20270811T193000
DTSTAMP:20260420T205231
CREATED:20250613T170637Z
LAST-MODIFIED:20250613T170637Z
UID:10015173-1818009000-1818012600@myrecovery.org
SUMMARY:Nar-Anon - West Metro Hope For Recovery - Format: Steps/Topics Discussion
DESCRIPTION:Steps: Recovery meetings will focus on the 12 steps rotating through a step per week. The Trusted Servant speaks about the step and opens the meeting up for discussion for all attendees. \nTopic: Recovery Meetings center around a topic that is picked out by the Trusted Servant or group conscience. Attendees have the opportunity to share how they relate to the topic. \nBig Book or Discussion: Recovery meetings center around Big Book topics or pages selected by the Trusted Servant. The Trusted Servant speaks about the Big Book topic or pages selected and opens the meeting up for discussion for all attendees. \nCLICK HERE to join the meeting!
URL:https://myrecovery.org/event/nar-anon-west-metro-hope-for-recovery-format-steps-topics-discussion/2027-08-11/
CATEGORIES:Anon,Steps
ATTACH;FMTTYPE=image/jpeg:https://myrecovery.org/wp-content/uploads/2024/02/Nar-Anon-West-Metro-Hope-For-Recovery-Format-Steps-Topics-Discussion.jpg
LOCATION:https://zoom.us/j/940657043?pwd=djc0NU1kcFUxdWNNZ0djYllQdk1jUT09
END:VEVENT
BEGIN:VEVENT
DTSTART;TZID=UTC:20270812T193000
DTEND;TZID=UTC:20270812T203000
DTSTAMP:20260420T205231
CREATED:20250611T222617Z
LAST-MODIFIED:20250613T171123Z
UID:10015956-1818099000-1818102600@myrecovery.org
SUMMARY:Al-Anon - Quiet Moments - Format: Steps
DESCRIPTION:Steps: Recovery meetings will focus on the 12 steps rotating through a step per week. The Trusted Servant speaks about the step and opens the meeting up for discussion for all attendees. \nCLICK HERE to join the meeting!
URL:https://myrecovery.org/event/al-anon-quiet-moments-format-steps-2/2027-08-12/
CATEGORIES:Al-Anon,Steps
ATTACH;FMTTYPE=image/jpeg:https://myrecovery.org/wp-content/uploads/2024/01/Al-Anon-Quiet-Moments-Format-Steps.jpg
END:VEVENT
BEGIN:VEVENT
DTSTART;TZID=UTC:20270816T180000
DTEND;TZID=UTC:20270816T190000
DTSTAMP:20260420T205231
CREATED:20250611T222336Z
LAST-MODIFIED:20250613T165754Z
UID:10011322-1818439200-1818442800@myrecovery.org
SUMMARY:Al-Anon - Hope For Today - Format: Steps
DESCRIPTION:Steps: Recovery meetings will focus on the 12 steps rotating through a step per week. The Trusted Servant speaks about the step and opens the meeting up for discussion for all attendees. \nCLICK HERE to join the meeting!
URL:https://myrecovery.org/event/al-anon-hope-for-today-format-steps-2/2027-08-16/
CATEGORIES:Al-Anon,Steps
ATTACH;FMTTYPE=image/jpeg:https://myrecovery.org/wp-content/uploads/2024/08/AA-Serenity-Squad-Format-Steps-and-Topic.jpg
LOCATION:https://us06web.zoom.us/j/82926477061
END:VEVENT
BEGIN:VEVENT
DTSTART;TZID=UTC:20270816T190000
DTEND;TZID=UTC:20270816T200000
DTSTAMP:20260420T205231
CREATED:20250611T222134Z
LAST-MODIFIED:20250613T165920Z
UID:10011842-1818442800-1818446400@myrecovery.org
SUMMARY:AA - Complete Defeat AA - Format: Steps and Discussion
DESCRIPTION:Steps: Recovery meetings will focus on the 12 steps rotating through a step per week. The Trusted Servant speaks about the step and opens the meeting up for discussion for all attendees. \nBig Book or Discussion: Recovery meetings center around Big Book topics or pages selected by the Trusted Servant. The Trusted Servant speaks about the Big Book topic or pages selected and opens the meeting up for discussion for all attendees. \nCLICK HERE to join the meeting!
URL:https://myrecovery.org/event/aa-complete-defeat-aa-format-steps-and-discussion-2/2027-08-16/
CATEGORIES:AA,Discussion,Steps
ATTACH;FMTTYPE=image/jpeg:https://myrecovery.org/wp-content/uploads/2024/02/AA-Complete-Defeat-AA-Format-Steps-and-Discussion.jpg
LOCATION:https://zoom.us/j/674001502?pwd=T0VkdjhXc2tkRmZxR0t6ZVpzQWs0dz09
END:VEVENT
END:VCALENDAR