BEGIN:VCALENDAR
VERSION:2.0
PRODID:-//My Recovery - ECPv6.15.17//NONSGML v1.0//EN
CALSCALE:GREGORIAN
METHOD:PUBLISH
X-WR-CALNAME:My Recovery
X-ORIGINAL-URL:https://myrecovery.org
X-WR-CALDESC:Events for My Recovery
REFRESH-INTERVAL;VALUE=DURATION:PT1H
X-Robots-Tag:noindex
X-PUBLISHED-TTL:PT1H
BEGIN:VTIMEZONE
TZID:UTC
BEGIN:STANDARD
TZOFFSETFROM:+0000
TZOFFSETTO:+0000
TZNAME:UTC
DTSTART:20260101T000000
END:STANDARD
END:VTIMEZONE
BEGIN:VEVENT
DTSTART;TZID=UTC:20270614T180000
DTEND;TZID=UTC:20270614T190000
DTSTAMP:20260420T175044
CREATED:20250611T222336Z
LAST-MODIFIED:20250613T165754Z
UID:10011313-1812996000-1812999600@myrecovery.org
SUMMARY:Al-Anon - Hope For Today - Format: Steps
DESCRIPTION:Steps: Recovery meetings will focus on the 12 steps rotating through a step per week. The Trusted Servant speaks about the step and opens the meeting up for discussion for all attendees. \nCLICK HERE to join the meeting!
URL:https://myrecovery.org/event/al-anon-hope-for-today-format-steps-2/2027-06-14/
CATEGORIES:Al-Anon,Steps
ATTACH;FMTTYPE=image/jpeg:https://myrecovery.org/wp-content/uploads/2024/08/AA-Serenity-Squad-Format-Steps-and-Topic.jpg
LOCATION:https://us06web.zoom.us/j/82926477061
END:VEVENT
BEGIN:VEVENT
DTSTART;TZID=UTC:20270614T190000
DTEND;TZID=UTC:20270614T200000
DTSTAMP:20260420T175044
CREATED:20250611T222134Z
LAST-MODIFIED:20250613T165920Z
UID:10011833-1812999600-1813003200@myrecovery.org
SUMMARY:AA - Complete Defeat AA - Format: Steps and Discussion
DESCRIPTION:Steps: Recovery meetings will focus on the 12 steps rotating through a step per week. The Trusted Servant speaks about the step and opens the meeting up for discussion for all attendees. \nBig Book or Discussion: Recovery meetings center around Big Book topics or pages selected by the Trusted Servant. The Trusted Servant speaks about the Big Book topic or pages selected and opens the meeting up for discussion for all attendees. \nCLICK HERE to join the meeting!
URL:https://myrecovery.org/event/aa-complete-defeat-aa-format-steps-and-discussion-2/2027-06-14/
CATEGORIES:AA,Discussion,Steps
ATTACH;FMTTYPE=image/jpeg:https://myrecovery.org/wp-content/uploads/2024/02/AA-Complete-Defeat-AA-Format-Steps-and-Discussion.jpg
LOCATION:https://zoom.us/j/674001502?pwd=T0VkdjhXc2tkRmZxR0t6ZVpzQWs0dz09
END:VEVENT
BEGIN:VEVENT
DTSTART;TZID=UTC:20270615T183000
DTEND;TZID=UTC:20270615T193000
DTSTAMP:20260420T175044
CREATED:20250611T221846Z
LAST-MODIFIED:20250613T170344Z
UID:10014053-1813084200-1813087800@myrecovery.org
SUMMARY:Al-Anon - Tuesday Night Group B - Format: Steps
DESCRIPTION:Topic: Recovery Meetings center around a topic that is picked out by the Trusted Servant or group conscience. Attendees have the opportunity to share how they relate to the topic. \nCLICK HERE to join the meeting!
URL:https://myrecovery.org/event/al-anon-tuesday-night-group-b-format-steps/2027-06-15/
CATEGORIES:Al-Anon,Steps
ATTACH;FMTTYPE=image/jpeg:https://myrecovery.org/wp-content/uploads/2024/02/Al-Anon-Tuesday-Night-Group-B-Format-Steps.jpg
LOCATION:https://zoom.us/j/94544814618?pwd=WU0yaVdsMmFmMk94UUdZWnJxRWdRUT09
END:VEVENT
BEGIN:VEVENT
DTSTART;TZID=UTC:20270615T190000
DTEND;TZID=UTC:20270615T200000
DTSTAMP:20260420T175044
CREATED:20250611T221826Z
LAST-MODIFIED:20250613T170406Z
UID:10014313-1813086000-1813089600@myrecovery.org
SUMMARY:Al-Anon - Into Action - Format: Steps/Traditions
DESCRIPTION:Steps: Recovery meetings will focus on the 12 steps rotating through a step per week. The Trusted Servant speaks about the step and opens the meeting up for discussion for all attendees. \nTraditions: Recovery Meetings will focus primarily on the 12 traditions.  The Trusted Servant speaks about the selected Tradition and opens the meeting up for discussion for all attendees. \nCLICK HERE to join the meeting!
URL:https://myrecovery.org/event/al-anon-into-action-format-steps-traditions/2027-06-15/
CATEGORIES:Al-Anon,Steps,Traditions
ATTACH;FMTTYPE=image/jpeg:https://myrecovery.org/wp-content/uploads/2024/02/Al-Anon-Into-Action-Format-Steps-Traditions.jpg
LOCATION:https://zoom.us/j/703672043?pwd=NEtBdDNTUzhYc2U1emlMQTNsTFVWZz09
END:VEVENT
BEGIN:VEVENT
DTSTART;TZID=UTC:20270616T183000
DTEND;TZID=UTC:20270616T193000
DTSTAMP:20260420T175044
CREATED:20250613T170637Z
LAST-MODIFIED:20250613T170637Z
UID:10015165-1813170600-1813174200@myrecovery.org
SUMMARY:Nar-Anon - West Metro Hope For Recovery - Format: Steps/Topics Discussion
DESCRIPTION:Steps: Recovery meetings will focus on the 12 steps rotating through a step per week. The Trusted Servant speaks about the step and opens the meeting up for discussion for all attendees. \nTopic: Recovery Meetings center around a topic that is picked out by the Trusted Servant or group conscience. Attendees have the opportunity to share how they relate to the topic. \nBig Book or Discussion: Recovery meetings center around Big Book topics or pages selected by the Trusted Servant. The Trusted Servant speaks about the Big Book topic or pages selected and opens the meeting up for discussion for all attendees. \nCLICK HERE to join the meeting!
URL:https://myrecovery.org/event/nar-anon-west-metro-hope-for-recovery-format-steps-topics-discussion/2027-06-16/
CATEGORIES:Anon,Steps
ATTACH;FMTTYPE=image/jpeg:https://myrecovery.org/wp-content/uploads/2024/02/Nar-Anon-West-Metro-Hope-For-Recovery-Format-Steps-Topics-Discussion.jpg
LOCATION:https://zoom.us/j/940657043?pwd=djc0NU1kcFUxdWNNZ0djYllQdk1jUT09
END:VEVENT
BEGIN:VEVENT
DTSTART;TZID=UTC:20270617T193000
DTEND;TZID=UTC:20270617T203000
DTSTAMP:20260420T175044
CREATED:20250611T222617Z
LAST-MODIFIED:20250613T171123Z
UID:10015948-1813260600-1813264200@myrecovery.org
SUMMARY:Al-Anon - Quiet Moments - Format: Steps
DESCRIPTION:Steps: Recovery meetings will focus on the 12 steps rotating through a step per week. The Trusted Servant speaks about the step and opens the meeting up for discussion for all attendees. \nCLICK HERE to join the meeting!
URL:https://myrecovery.org/event/al-anon-quiet-moments-format-steps-2/2027-06-17/
CATEGORIES:Al-Anon,Steps
ATTACH;FMTTYPE=image/jpeg:https://myrecovery.org/wp-content/uploads/2024/01/Al-Anon-Quiet-Moments-Format-Steps.jpg
END:VEVENT
BEGIN:VEVENT
DTSTART;TZID=UTC:20270621T180000
DTEND;TZID=UTC:20270621T190000
DTSTAMP:20260420T175044
CREATED:20250611T222336Z
LAST-MODIFIED:20250613T165754Z
UID:10011314-1813600800-1813604400@myrecovery.org
SUMMARY:Al-Anon - Hope For Today - Format: Steps
DESCRIPTION:Steps: Recovery meetings will focus on the 12 steps rotating through a step per week. The Trusted Servant speaks about the step and opens the meeting up for discussion for all attendees. \nCLICK HERE to join the meeting!
URL:https://myrecovery.org/event/al-anon-hope-for-today-format-steps-2/2027-06-21/
CATEGORIES:Al-Anon,Steps
ATTACH;FMTTYPE=image/jpeg:https://myrecovery.org/wp-content/uploads/2024/08/AA-Serenity-Squad-Format-Steps-and-Topic.jpg
LOCATION:https://us06web.zoom.us/j/82926477061
END:VEVENT
BEGIN:VEVENT
DTSTART;TZID=UTC:20270621T190000
DTEND;TZID=UTC:20270621T200000
DTSTAMP:20260420T175044
CREATED:20250611T222134Z
LAST-MODIFIED:20250613T165920Z
UID:10011834-1813604400-1813608000@myrecovery.org
SUMMARY:AA - Complete Defeat AA - Format: Steps and Discussion
DESCRIPTION:Steps: Recovery meetings will focus on the 12 steps rotating through a step per week. The Trusted Servant speaks about the step and opens the meeting up for discussion for all attendees. \nBig Book or Discussion: Recovery meetings center around Big Book topics or pages selected by the Trusted Servant. The Trusted Servant speaks about the Big Book topic or pages selected and opens the meeting up for discussion for all attendees. \nCLICK HERE to join the meeting!
URL:https://myrecovery.org/event/aa-complete-defeat-aa-format-steps-and-discussion-2/2027-06-21/
CATEGORIES:AA,Discussion,Steps
ATTACH;FMTTYPE=image/jpeg:https://myrecovery.org/wp-content/uploads/2024/02/AA-Complete-Defeat-AA-Format-Steps-and-Discussion.jpg
LOCATION:https://zoom.us/j/674001502?pwd=T0VkdjhXc2tkRmZxR0t6ZVpzQWs0dz09
END:VEVENT
BEGIN:VEVENT
DTSTART;TZID=UTC:20270622T183000
DTEND;TZID=UTC:20270622T193000
DTSTAMP:20260420T175044
CREATED:20250611T221846Z
LAST-MODIFIED:20250613T170344Z
UID:10014054-1813689000-1813692600@myrecovery.org
SUMMARY:Al-Anon - Tuesday Night Group B - Format: Steps
DESCRIPTION:Topic: Recovery Meetings center around a topic that is picked out by the Trusted Servant or group conscience. Attendees have the opportunity to share how they relate to the topic. \nCLICK HERE to join the meeting!
URL:https://myrecovery.org/event/al-anon-tuesday-night-group-b-format-steps/2027-06-22/
CATEGORIES:Al-Anon,Steps
ATTACH;FMTTYPE=image/jpeg:https://myrecovery.org/wp-content/uploads/2024/02/Al-Anon-Tuesday-Night-Group-B-Format-Steps.jpg
LOCATION:https://zoom.us/j/94544814618?pwd=WU0yaVdsMmFmMk94UUdZWnJxRWdRUT09
END:VEVENT
BEGIN:VEVENT
DTSTART;TZID=UTC:20270622T190000
DTEND;TZID=UTC:20270622T200000
DTSTAMP:20260420T175044
CREATED:20250611T221826Z
LAST-MODIFIED:20250613T170406Z
UID:10014314-1813690800-1813694400@myrecovery.org
SUMMARY:Al-Anon - Into Action - Format: Steps/Traditions
DESCRIPTION:Steps: Recovery meetings will focus on the 12 steps rotating through a step per week. The Trusted Servant speaks about the step and opens the meeting up for discussion for all attendees. \nTraditions: Recovery Meetings will focus primarily on the 12 traditions.  The Trusted Servant speaks about the selected Tradition and opens the meeting up for discussion for all attendees. \nCLICK HERE to join the meeting!
URL:https://myrecovery.org/event/al-anon-into-action-format-steps-traditions/2027-06-22/
CATEGORIES:Al-Anon,Steps,Traditions
ATTACH;FMTTYPE=image/jpeg:https://myrecovery.org/wp-content/uploads/2024/02/Al-Anon-Into-Action-Format-Steps-Traditions.jpg
LOCATION:https://zoom.us/j/703672043?pwd=NEtBdDNTUzhYc2U1emlMQTNsTFVWZz09
END:VEVENT
BEGIN:VEVENT
DTSTART;TZID=UTC:20270623T183000
DTEND;TZID=UTC:20270623T193000
DTSTAMP:20260420T175044
CREATED:20250613T170637Z
LAST-MODIFIED:20250613T170637Z
UID:10015166-1813775400-1813779000@myrecovery.org
SUMMARY:Nar-Anon - West Metro Hope For Recovery - Format: Steps/Topics Discussion
DESCRIPTION:Steps: Recovery meetings will focus on the 12 steps rotating through a step per week. The Trusted Servant speaks about the step and opens the meeting up for discussion for all attendees. \nTopic: Recovery Meetings center around a topic that is picked out by the Trusted Servant or group conscience. Attendees have the opportunity to share how they relate to the topic. \nBig Book or Discussion: Recovery meetings center around Big Book topics or pages selected by the Trusted Servant. The Trusted Servant speaks about the Big Book topic or pages selected and opens the meeting up for discussion for all attendees. \nCLICK HERE to join the meeting!
URL:https://myrecovery.org/event/nar-anon-west-metro-hope-for-recovery-format-steps-topics-discussion/2027-06-23/
CATEGORIES:Anon,Steps
ATTACH;FMTTYPE=image/jpeg:https://myrecovery.org/wp-content/uploads/2024/02/Nar-Anon-West-Metro-Hope-For-Recovery-Format-Steps-Topics-Discussion.jpg
LOCATION:https://zoom.us/j/940657043?pwd=djc0NU1kcFUxdWNNZ0djYllQdk1jUT09
END:VEVENT
BEGIN:VEVENT
DTSTART;TZID=UTC:20270624T193000
DTEND;TZID=UTC:20270624T203000
DTSTAMP:20260420T175044
CREATED:20250611T222617Z
LAST-MODIFIED:20250613T171123Z
UID:10015949-1813865400-1813869000@myrecovery.org
SUMMARY:Al-Anon - Quiet Moments - Format: Steps
DESCRIPTION:Steps: Recovery meetings will focus on the 12 steps rotating through a step per week. The Trusted Servant speaks about the step and opens the meeting up for discussion for all attendees. \nCLICK HERE to join the meeting!
URL:https://myrecovery.org/event/al-anon-quiet-moments-format-steps-2/2027-06-24/
CATEGORIES:Al-Anon,Steps
ATTACH;FMTTYPE=image/jpeg:https://myrecovery.org/wp-content/uploads/2024/01/Al-Anon-Quiet-Moments-Format-Steps.jpg
END:VEVENT
BEGIN:VEVENT
DTSTART;TZID=UTC:20270628T180000
DTEND;TZID=UTC:20270628T190000
DTSTAMP:20260420T175044
CREATED:20250611T222336Z
LAST-MODIFIED:20250613T165754Z
UID:10011315-1814205600-1814209200@myrecovery.org
SUMMARY:Al-Anon - Hope For Today - Format: Steps
DESCRIPTION:Steps: Recovery meetings will focus on the 12 steps rotating through a step per week. The Trusted Servant speaks about the step and opens the meeting up for discussion for all attendees. \nCLICK HERE to join the meeting!
URL:https://myrecovery.org/event/al-anon-hope-for-today-format-steps-2/2027-06-28/
CATEGORIES:Al-Anon,Steps
ATTACH;FMTTYPE=image/jpeg:https://myrecovery.org/wp-content/uploads/2024/08/AA-Serenity-Squad-Format-Steps-and-Topic.jpg
LOCATION:https://us06web.zoom.us/j/82926477061
END:VEVENT
BEGIN:VEVENT
DTSTART;TZID=UTC:20270628T190000
DTEND;TZID=UTC:20270628T200000
DTSTAMP:20260420T175044
CREATED:20250611T222134Z
LAST-MODIFIED:20250613T165920Z
UID:10011835-1814209200-1814212800@myrecovery.org
SUMMARY:AA - Complete Defeat AA - Format: Steps and Discussion
DESCRIPTION:Steps: Recovery meetings will focus on the 12 steps rotating through a step per week. The Trusted Servant speaks about the step and opens the meeting up for discussion for all attendees. \nBig Book or Discussion: Recovery meetings center around Big Book topics or pages selected by the Trusted Servant. The Trusted Servant speaks about the Big Book topic or pages selected and opens the meeting up for discussion for all attendees. \nCLICK HERE to join the meeting!
URL:https://myrecovery.org/event/aa-complete-defeat-aa-format-steps-and-discussion-2/2027-06-28/
CATEGORIES:AA,Discussion,Steps
ATTACH;FMTTYPE=image/jpeg:https://myrecovery.org/wp-content/uploads/2024/02/AA-Complete-Defeat-AA-Format-Steps-and-Discussion.jpg
LOCATION:https://zoom.us/j/674001502?pwd=T0VkdjhXc2tkRmZxR0t6ZVpzQWs0dz09
END:VEVENT
BEGIN:VEVENT
DTSTART;TZID=UTC:20270629T183000
DTEND;TZID=UTC:20270629T193000
DTSTAMP:20260420T175044
CREATED:20250611T221846Z
LAST-MODIFIED:20250613T170344Z
UID:10014055-1814293800-1814297400@myrecovery.org
SUMMARY:Al-Anon - Tuesday Night Group B - Format: Steps
DESCRIPTION:Topic: Recovery Meetings center around a topic that is picked out by the Trusted Servant or group conscience. Attendees have the opportunity to share how they relate to the topic. \nCLICK HERE to join the meeting!
URL:https://myrecovery.org/event/al-anon-tuesday-night-group-b-format-steps/2027-06-29/
CATEGORIES:Al-Anon,Steps
ATTACH;FMTTYPE=image/jpeg:https://myrecovery.org/wp-content/uploads/2024/02/Al-Anon-Tuesday-Night-Group-B-Format-Steps.jpg
LOCATION:https://zoom.us/j/94544814618?pwd=WU0yaVdsMmFmMk94UUdZWnJxRWdRUT09
END:VEVENT
BEGIN:VEVENT
DTSTART;TZID=UTC:20270629T190000
DTEND;TZID=UTC:20270629T200000
DTSTAMP:20260420T175044
CREATED:20250611T221826Z
LAST-MODIFIED:20250613T170406Z
UID:10014315-1814295600-1814299200@myrecovery.org
SUMMARY:Al-Anon - Into Action - Format: Steps/Traditions
DESCRIPTION:Steps: Recovery meetings will focus on the 12 steps rotating through a step per week. The Trusted Servant speaks about the step and opens the meeting up for discussion for all attendees. \nTraditions: Recovery Meetings will focus primarily on the 12 traditions.  The Trusted Servant speaks about the selected Tradition and opens the meeting up for discussion for all attendees. \nCLICK HERE to join the meeting!
URL:https://myrecovery.org/event/al-anon-into-action-format-steps-traditions/2027-06-29/
CATEGORIES:Al-Anon,Steps,Traditions
ATTACH;FMTTYPE=image/jpeg:https://myrecovery.org/wp-content/uploads/2024/02/Al-Anon-Into-Action-Format-Steps-Traditions.jpg
LOCATION:https://zoom.us/j/703672043?pwd=NEtBdDNTUzhYc2U1emlMQTNsTFVWZz09
END:VEVENT
BEGIN:VEVENT
DTSTART;TZID=UTC:20270630T183000
DTEND;TZID=UTC:20270630T193000
DTSTAMP:20260420T175044
CREATED:20250613T170637Z
LAST-MODIFIED:20250613T170637Z
UID:10015167-1814380200-1814383800@myrecovery.org
SUMMARY:Nar-Anon - West Metro Hope For Recovery - Format: Steps/Topics Discussion
DESCRIPTION:Steps: Recovery meetings will focus on the 12 steps rotating through a step per week. The Trusted Servant speaks about the step and opens the meeting up for discussion for all attendees. \nTopic: Recovery Meetings center around a topic that is picked out by the Trusted Servant or group conscience. Attendees have the opportunity to share how they relate to the topic. \nBig Book or Discussion: Recovery meetings center around Big Book topics or pages selected by the Trusted Servant. The Trusted Servant speaks about the Big Book topic or pages selected and opens the meeting up for discussion for all attendees. \nCLICK HERE to join the meeting!
URL:https://myrecovery.org/event/nar-anon-west-metro-hope-for-recovery-format-steps-topics-discussion/2027-06-30/
CATEGORIES:Anon,Steps
ATTACH;FMTTYPE=image/jpeg:https://myrecovery.org/wp-content/uploads/2024/02/Nar-Anon-West-Metro-Hope-For-Recovery-Format-Steps-Topics-Discussion.jpg
LOCATION:https://zoom.us/j/940657043?pwd=djc0NU1kcFUxdWNNZ0djYllQdk1jUT09
END:VEVENT
BEGIN:VEVENT
DTSTART;TZID=UTC:20270701T193000
DTEND;TZID=UTC:20270701T203000
DTSTAMP:20260420T175044
CREATED:20250611T222617Z
LAST-MODIFIED:20250613T171123Z
UID:10015950-1814470200-1814473800@myrecovery.org
SUMMARY:Al-Anon - Quiet Moments - Format: Steps
DESCRIPTION:Steps: Recovery meetings will focus on the 12 steps rotating through a step per week. The Trusted Servant speaks about the step and opens the meeting up for discussion for all attendees. \nCLICK HERE to join the meeting!
URL:https://myrecovery.org/event/al-anon-quiet-moments-format-steps-2/2027-07-01/
CATEGORIES:Al-Anon,Steps
ATTACH;FMTTYPE=image/jpeg:https://myrecovery.org/wp-content/uploads/2024/01/Al-Anon-Quiet-Moments-Format-Steps.jpg
END:VEVENT
BEGIN:VEVENT
DTSTART;TZID=UTC:20270705T180000
DTEND;TZID=UTC:20270705T190000
DTSTAMP:20260420T175044
CREATED:20250611T222336Z
LAST-MODIFIED:20250613T165754Z
UID:10011316-1814810400-1814814000@myrecovery.org
SUMMARY:Al-Anon - Hope For Today - Format: Steps
DESCRIPTION:Steps: Recovery meetings will focus on the 12 steps rotating through a step per week. The Trusted Servant speaks about the step and opens the meeting up for discussion for all attendees. \nCLICK HERE to join the meeting!
URL:https://myrecovery.org/event/al-anon-hope-for-today-format-steps-2/2027-07-05/
CATEGORIES:Al-Anon,Steps
ATTACH;FMTTYPE=image/jpeg:https://myrecovery.org/wp-content/uploads/2024/08/AA-Serenity-Squad-Format-Steps-and-Topic.jpg
LOCATION:https://us06web.zoom.us/j/82926477061
END:VEVENT
BEGIN:VEVENT
DTSTART;TZID=UTC:20270705T190000
DTEND;TZID=UTC:20270705T200000
DTSTAMP:20260420T175044
CREATED:20250611T222134Z
LAST-MODIFIED:20250613T165920Z
UID:10011836-1814814000-1814817600@myrecovery.org
SUMMARY:AA - Complete Defeat AA - Format: Steps and Discussion
DESCRIPTION:Steps: Recovery meetings will focus on the 12 steps rotating through a step per week. The Trusted Servant speaks about the step and opens the meeting up for discussion for all attendees. \nBig Book or Discussion: Recovery meetings center around Big Book topics or pages selected by the Trusted Servant. The Trusted Servant speaks about the Big Book topic or pages selected and opens the meeting up for discussion for all attendees. \nCLICK HERE to join the meeting!
URL:https://myrecovery.org/event/aa-complete-defeat-aa-format-steps-and-discussion-2/2027-07-05/
CATEGORIES:AA,Discussion,Steps
ATTACH;FMTTYPE=image/jpeg:https://myrecovery.org/wp-content/uploads/2024/02/AA-Complete-Defeat-AA-Format-Steps-and-Discussion.jpg
LOCATION:https://zoom.us/j/674001502?pwd=T0VkdjhXc2tkRmZxR0t6ZVpzQWs0dz09
END:VEVENT
BEGIN:VEVENT
DTSTART;TZID=UTC:20270706T183000
DTEND;TZID=UTC:20270706T193000
DTSTAMP:20260420T175044
CREATED:20250611T221846Z
LAST-MODIFIED:20250613T170344Z
UID:10014056-1814898600-1814902200@myrecovery.org
SUMMARY:Al-Anon - Tuesday Night Group B - Format: Steps
DESCRIPTION:Topic: Recovery Meetings center around a topic that is picked out by the Trusted Servant or group conscience. Attendees have the opportunity to share how they relate to the topic. \nCLICK HERE to join the meeting!
URL:https://myrecovery.org/event/al-anon-tuesday-night-group-b-format-steps/2027-07-06/
CATEGORIES:Al-Anon,Steps
ATTACH;FMTTYPE=image/jpeg:https://myrecovery.org/wp-content/uploads/2024/02/Al-Anon-Tuesday-Night-Group-B-Format-Steps.jpg
LOCATION:https://zoom.us/j/94544814618?pwd=WU0yaVdsMmFmMk94UUdZWnJxRWdRUT09
END:VEVENT
BEGIN:VEVENT
DTSTART;TZID=UTC:20270706T190000
DTEND;TZID=UTC:20270706T200000
DTSTAMP:20260420T175044
CREATED:20250611T221826Z
LAST-MODIFIED:20250613T170406Z
UID:10014316-1814900400-1814904000@myrecovery.org
SUMMARY:Al-Anon - Into Action - Format: Steps/Traditions
DESCRIPTION:Steps: Recovery meetings will focus on the 12 steps rotating through a step per week. The Trusted Servant speaks about the step and opens the meeting up for discussion for all attendees. \nTraditions: Recovery Meetings will focus primarily on the 12 traditions.  The Trusted Servant speaks about the selected Tradition and opens the meeting up for discussion for all attendees. \nCLICK HERE to join the meeting!
URL:https://myrecovery.org/event/al-anon-into-action-format-steps-traditions/2027-07-06/
CATEGORIES:Al-Anon,Steps,Traditions
ATTACH;FMTTYPE=image/jpeg:https://myrecovery.org/wp-content/uploads/2024/02/Al-Anon-Into-Action-Format-Steps-Traditions.jpg
LOCATION:https://zoom.us/j/703672043?pwd=NEtBdDNTUzhYc2U1emlMQTNsTFVWZz09
END:VEVENT
BEGIN:VEVENT
DTSTART;TZID=UTC:20270707T183000
DTEND;TZID=UTC:20270707T193000
DTSTAMP:20260420T175044
CREATED:20250613T170637Z
LAST-MODIFIED:20250613T170637Z
UID:10015168-1814985000-1814988600@myrecovery.org
SUMMARY:Nar-Anon - West Metro Hope For Recovery - Format: Steps/Topics Discussion
DESCRIPTION:Steps: Recovery meetings will focus on the 12 steps rotating through a step per week. The Trusted Servant speaks about the step and opens the meeting up for discussion for all attendees. \nTopic: Recovery Meetings center around a topic that is picked out by the Trusted Servant or group conscience. Attendees have the opportunity to share how they relate to the topic. \nBig Book or Discussion: Recovery meetings center around Big Book topics or pages selected by the Trusted Servant. The Trusted Servant speaks about the Big Book topic or pages selected and opens the meeting up for discussion for all attendees. \nCLICK HERE to join the meeting!
URL:https://myrecovery.org/event/nar-anon-west-metro-hope-for-recovery-format-steps-topics-discussion/2027-07-07/
CATEGORIES:Anon,Steps
ATTACH;FMTTYPE=image/jpeg:https://myrecovery.org/wp-content/uploads/2024/02/Nar-Anon-West-Metro-Hope-For-Recovery-Format-Steps-Topics-Discussion.jpg
LOCATION:https://zoom.us/j/940657043?pwd=djc0NU1kcFUxdWNNZ0djYllQdk1jUT09
END:VEVENT
BEGIN:VEVENT
DTSTART;TZID=UTC:20270708T193000
DTEND;TZID=UTC:20270708T203000
DTSTAMP:20260420T175044
CREATED:20250611T222617Z
LAST-MODIFIED:20250613T171123Z
UID:10015951-1815075000-1815078600@myrecovery.org
SUMMARY:Al-Anon - Quiet Moments - Format: Steps
DESCRIPTION:Steps: Recovery meetings will focus on the 12 steps rotating through a step per week. The Trusted Servant speaks about the step and opens the meeting up for discussion for all attendees. \nCLICK HERE to join the meeting!
URL:https://myrecovery.org/event/al-anon-quiet-moments-format-steps-2/2027-07-08/
CATEGORIES:Al-Anon,Steps
ATTACH;FMTTYPE=image/jpeg:https://myrecovery.org/wp-content/uploads/2024/01/Al-Anon-Quiet-Moments-Format-Steps.jpg
END:VEVENT
BEGIN:VEVENT
DTSTART;TZID=UTC:20270712T180000
DTEND;TZID=UTC:20270712T190000
DTSTAMP:20260420T175044
CREATED:20250611T222336Z
LAST-MODIFIED:20250613T165754Z
UID:10011317-1815415200-1815418800@myrecovery.org
SUMMARY:Al-Anon - Hope For Today - Format: Steps
DESCRIPTION:Steps: Recovery meetings will focus on the 12 steps rotating through a step per week. The Trusted Servant speaks about the step and opens the meeting up for discussion for all attendees. \nCLICK HERE to join the meeting!
URL:https://myrecovery.org/event/al-anon-hope-for-today-format-steps-2/2027-07-12/
CATEGORIES:Al-Anon,Steps
ATTACH;FMTTYPE=image/jpeg:https://myrecovery.org/wp-content/uploads/2024/08/AA-Serenity-Squad-Format-Steps-and-Topic.jpg
LOCATION:https://us06web.zoom.us/j/82926477061
END:VEVENT
BEGIN:VEVENT
DTSTART;TZID=UTC:20270712T190000
DTEND;TZID=UTC:20270712T200000
DTSTAMP:20260420T175044
CREATED:20250611T222134Z
LAST-MODIFIED:20250613T165920Z
UID:10011837-1815418800-1815422400@myrecovery.org
SUMMARY:AA - Complete Defeat AA - Format: Steps and Discussion
DESCRIPTION:Steps: Recovery meetings will focus on the 12 steps rotating through a step per week. The Trusted Servant speaks about the step and opens the meeting up for discussion for all attendees. \nBig Book or Discussion: Recovery meetings center around Big Book topics or pages selected by the Trusted Servant. The Trusted Servant speaks about the Big Book topic or pages selected and opens the meeting up for discussion for all attendees. \nCLICK HERE to join the meeting!
URL:https://myrecovery.org/event/aa-complete-defeat-aa-format-steps-and-discussion-2/2027-07-12/
CATEGORIES:AA,Discussion,Steps
ATTACH;FMTTYPE=image/jpeg:https://myrecovery.org/wp-content/uploads/2024/02/AA-Complete-Defeat-AA-Format-Steps-and-Discussion.jpg
LOCATION:https://zoom.us/j/674001502?pwd=T0VkdjhXc2tkRmZxR0t6ZVpzQWs0dz09
END:VEVENT
BEGIN:VEVENT
DTSTART;TZID=UTC:20270713T183000
DTEND;TZID=UTC:20270713T193000
DTSTAMP:20260420T175044
CREATED:20250611T221846Z
LAST-MODIFIED:20250613T170344Z
UID:10014057-1815503400-1815507000@myrecovery.org
SUMMARY:Al-Anon - Tuesday Night Group B - Format: Steps
DESCRIPTION:Topic: Recovery Meetings center around a topic that is picked out by the Trusted Servant or group conscience. Attendees have the opportunity to share how they relate to the topic. \nCLICK HERE to join the meeting!
URL:https://myrecovery.org/event/al-anon-tuesday-night-group-b-format-steps/2027-07-13/
CATEGORIES:Al-Anon,Steps
ATTACH;FMTTYPE=image/jpeg:https://myrecovery.org/wp-content/uploads/2024/02/Al-Anon-Tuesday-Night-Group-B-Format-Steps.jpg
LOCATION:https://zoom.us/j/94544814618?pwd=WU0yaVdsMmFmMk94UUdZWnJxRWdRUT09
END:VEVENT
BEGIN:VEVENT
DTSTART;TZID=UTC:20270713T190000
DTEND;TZID=UTC:20270713T200000
DTSTAMP:20260420T175044
CREATED:20250611T221826Z
LAST-MODIFIED:20250613T170406Z
UID:10014317-1815505200-1815508800@myrecovery.org
SUMMARY:Al-Anon - Into Action - Format: Steps/Traditions
DESCRIPTION:Steps: Recovery meetings will focus on the 12 steps rotating through a step per week. The Trusted Servant speaks about the step and opens the meeting up for discussion for all attendees. \nTraditions: Recovery Meetings will focus primarily on the 12 traditions.  The Trusted Servant speaks about the selected Tradition and opens the meeting up for discussion for all attendees. \nCLICK HERE to join the meeting!
URL:https://myrecovery.org/event/al-anon-into-action-format-steps-traditions/2027-07-13/
CATEGORIES:Al-Anon,Steps,Traditions
ATTACH;FMTTYPE=image/jpeg:https://myrecovery.org/wp-content/uploads/2024/02/Al-Anon-Into-Action-Format-Steps-Traditions.jpg
LOCATION:https://zoom.us/j/703672043?pwd=NEtBdDNTUzhYc2U1emlMQTNsTFVWZz09
END:VEVENT
BEGIN:VEVENT
DTSTART;TZID=UTC:20270714T183000
DTEND;TZID=UTC:20270714T193000
DTSTAMP:20260420T175044
CREATED:20250613T170637Z
LAST-MODIFIED:20250613T170637Z
UID:10015169-1815589800-1815593400@myrecovery.org
SUMMARY:Nar-Anon - West Metro Hope For Recovery - Format: Steps/Topics Discussion
DESCRIPTION:Steps: Recovery meetings will focus on the 12 steps rotating through a step per week. The Trusted Servant speaks about the step and opens the meeting up for discussion for all attendees. \nTopic: Recovery Meetings center around a topic that is picked out by the Trusted Servant or group conscience. Attendees have the opportunity to share how they relate to the topic. \nBig Book or Discussion: Recovery meetings center around Big Book topics or pages selected by the Trusted Servant. The Trusted Servant speaks about the Big Book topic or pages selected and opens the meeting up for discussion for all attendees. \nCLICK HERE to join the meeting!
URL:https://myrecovery.org/event/nar-anon-west-metro-hope-for-recovery-format-steps-topics-discussion/2027-07-14/
CATEGORIES:Anon,Steps
ATTACH;FMTTYPE=image/jpeg:https://myrecovery.org/wp-content/uploads/2024/02/Nar-Anon-West-Metro-Hope-For-Recovery-Format-Steps-Topics-Discussion.jpg
LOCATION:https://zoom.us/j/940657043?pwd=djc0NU1kcFUxdWNNZ0djYllQdk1jUT09
END:VEVENT
BEGIN:VEVENT
DTSTART;TZID=UTC:20270715T193000
DTEND;TZID=UTC:20270715T203000
DTSTAMP:20260420T175044
CREATED:20250611T222617Z
LAST-MODIFIED:20250613T171123Z
UID:10015952-1815679800-1815683400@myrecovery.org
SUMMARY:Al-Anon - Quiet Moments - Format: Steps
DESCRIPTION:Steps: Recovery meetings will focus on the 12 steps rotating through a step per week. The Trusted Servant speaks about the step and opens the meeting up for discussion for all attendees. \nCLICK HERE to join the meeting!
URL:https://myrecovery.org/event/al-anon-quiet-moments-format-steps-2/2027-07-15/
CATEGORIES:Al-Anon,Steps
ATTACH;FMTTYPE=image/jpeg:https://myrecovery.org/wp-content/uploads/2024/01/Al-Anon-Quiet-Moments-Format-Steps.jpg
END:VEVENT
END:VCALENDAR