BEGIN:VCALENDAR
VERSION:2.0
PRODID:-//My Recovery - ECPv6.15.17//NONSGML v1.0//EN
CALSCALE:GREGORIAN
METHOD:PUBLISH
X-WR-CALNAME:My Recovery
X-ORIGINAL-URL:https://myrecovery.org
X-WR-CALDESC:Events for My Recovery
REFRESH-INTERVAL;VALUE=DURATION:PT1H
X-Robots-Tag:noindex
X-PUBLISHED-TTL:PT1H
BEGIN:VTIMEZONE
TZID:UTC
BEGIN:STANDARD
TZOFFSETFROM:+0000
TZOFFSETTO:+0000
TZNAME:UTC
DTSTART:20260101T000000
END:STANDARD
END:VTIMEZONE
BEGIN:VEVENT
DTSTART;TZID=UTC:20270517T180000
DTEND;TZID=UTC:20270517T190000
DTSTAMP:20260420T144223
CREATED:20250611T222336Z
LAST-MODIFIED:20250613T165754Z
UID:10011309-1810576800-1810580400@myrecovery.org
SUMMARY:Al-Anon - Hope For Today - Format: Steps
DESCRIPTION:Steps: Recovery meetings will focus on the 12 steps rotating through a step per week. The Trusted Servant speaks about the step and opens the meeting up for discussion for all attendees. \nCLICK HERE to join the meeting!
URL:https://myrecovery.org/event/al-anon-hope-for-today-format-steps-2/2027-05-17/
CATEGORIES:Al-Anon,Steps
ATTACH;FMTTYPE=image/jpeg:https://myrecovery.org/wp-content/uploads/2024/08/AA-Serenity-Squad-Format-Steps-and-Topic.jpg
LOCATION:https://us06web.zoom.us/j/82926477061
END:VEVENT
BEGIN:VEVENT
DTSTART;TZID=UTC:20270517T190000
DTEND;TZID=UTC:20270517T200000
DTSTAMP:20260420T144223
CREATED:20250611T222134Z
LAST-MODIFIED:20250613T165920Z
UID:10011829-1810580400-1810584000@myrecovery.org
SUMMARY:AA - Complete Defeat AA - Format: Steps and Discussion
DESCRIPTION:Steps: Recovery meetings will focus on the 12 steps rotating through a step per week. The Trusted Servant speaks about the step and opens the meeting up for discussion for all attendees. \nBig Book or Discussion: Recovery meetings center around Big Book topics or pages selected by the Trusted Servant. The Trusted Servant speaks about the Big Book topic or pages selected and opens the meeting up for discussion for all attendees. \nCLICK HERE to join the meeting!
URL:https://myrecovery.org/event/aa-complete-defeat-aa-format-steps-and-discussion-2/2027-05-17/
CATEGORIES:AA,Discussion,Steps
ATTACH;FMTTYPE=image/jpeg:https://myrecovery.org/wp-content/uploads/2024/02/AA-Complete-Defeat-AA-Format-Steps-and-Discussion.jpg
LOCATION:https://zoom.us/j/674001502?pwd=T0VkdjhXc2tkRmZxR0t6ZVpzQWs0dz09
END:VEVENT
BEGIN:VEVENT
DTSTART;TZID=UTC:20270518T183000
DTEND;TZID=UTC:20270518T193000
DTSTAMP:20260420T144223
CREATED:20250611T221846Z
LAST-MODIFIED:20250613T170344Z
UID:10014049-1810665000-1810668600@myrecovery.org
SUMMARY:Al-Anon - Tuesday Night Group B - Format: Steps
DESCRIPTION:Topic: Recovery Meetings center around a topic that is picked out by the Trusted Servant or group conscience. Attendees have the opportunity to share how they relate to the topic. \nCLICK HERE to join the meeting!
URL:https://myrecovery.org/event/al-anon-tuesday-night-group-b-format-steps/2027-05-18/
CATEGORIES:Al-Anon,Steps
ATTACH;FMTTYPE=image/jpeg:https://myrecovery.org/wp-content/uploads/2024/02/Al-Anon-Tuesday-Night-Group-B-Format-Steps.jpg
LOCATION:https://zoom.us/j/94544814618?pwd=WU0yaVdsMmFmMk94UUdZWnJxRWdRUT09
END:VEVENT
BEGIN:VEVENT
DTSTART;TZID=UTC:20270518T190000
DTEND;TZID=UTC:20270518T200000
DTSTAMP:20260420T144223
CREATED:20250611T221826Z
LAST-MODIFIED:20250613T170406Z
UID:10014309-1810666800-1810670400@myrecovery.org
SUMMARY:Al-Anon - Into Action - Format: Steps/Traditions
DESCRIPTION:Steps: Recovery meetings will focus on the 12 steps rotating through a step per week. The Trusted Servant speaks about the step and opens the meeting up for discussion for all attendees. \nTraditions: Recovery Meetings will focus primarily on the 12 traditions.  The Trusted Servant speaks about the selected Tradition and opens the meeting up for discussion for all attendees. \nCLICK HERE to join the meeting!
URL:https://myrecovery.org/event/al-anon-into-action-format-steps-traditions/2027-05-18/
CATEGORIES:Al-Anon,Steps,Traditions
ATTACH;FMTTYPE=image/jpeg:https://myrecovery.org/wp-content/uploads/2024/02/Al-Anon-Into-Action-Format-Steps-Traditions.jpg
LOCATION:https://zoom.us/j/703672043?pwd=NEtBdDNTUzhYc2U1emlMQTNsTFVWZz09
END:VEVENT
BEGIN:VEVENT
DTSTART;TZID=UTC:20270519T183000
DTEND;TZID=UTC:20270519T193000
DTSTAMP:20260420T144223
CREATED:20250613T170637Z
LAST-MODIFIED:20250613T170637Z
UID:10015161-1810751400-1810755000@myrecovery.org
SUMMARY:Nar-Anon - West Metro Hope For Recovery - Format: Steps/Topics Discussion
DESCRIPTION:Steps: Recovery meetings will focus on the 12 steps rotating through a step per week. The Trusted Servant speaks about the step and opens the meeting up for discussion for all attendees. \nTopic: Recovery Meetings center around a topic that is picked out by the Trusted Servant or group conscience. Attendees have the opportunity to share how they relate to the topic. \nBig Book or Discussion: Recovery meetings center around Big Book topics or pages selected by the Trusted Servant. The Trusted Servant speaks about the Big Book topic or pages selected and opens the meeting up for discussion for all attendees. \nCLICK HERE to join the meeting!
URL:https://myrecovery.org/event/nar-anon-west-metro-hope-for-recovery-format-steps-topics-discussion/2027-05-19/
CATEGORIES:Anon,Steps
ATTACH;FMTTYPE=image/jpeg:https://myrecovery.org/wp-content/uploads/2024/02/Nar-Anon-West-Metro-Hope-For-Recovery-Format-Steps-Topics-Discussion.jpg
LOCATION:https://zoom.us/j/940657043?pwd=djc0NU1kcFUxdWNNZ0djYllQdk1jUT09
END:VEVENT
BEGIN:VEVENT
DTSTART;TZID=UTC:20270520T193000
DTEND;TZID=UTC:20270520T203000
DTSTAMP:20260420T144223
CREATED:20250611T222617Z
LAST-MODIFIED:20250613T171123Z
UID:10015944-1810841400-1810845000@myrecovery.org
SUMMARY:Al-Anon - Quiet Moments - Format: Steps
DESCRIPTION:Steps: Recovery meetings will focus on the 12 steps rotating through a step per week. The Trusted Servant speaks about the step and opens the meeting up for discussion for all attendees. \nCLICK HERE to join the meeting!
URL:https://myrecovery.org/event/al-anon-quiet-moments-format-steps-2/2027-05-20/
CATEGORIES:Al-Anon,Steps
ATTACH;FMTTYPE=image/jpeg:https://myrecovery.org/wp-content/uploads/2024/01/Al-Anon-Quiet-Moments-Format-Steps.jpg
END:VEVENT
BEGIN:VEVENT
DTSTART;TZID=UTC:20270524T180000
DTEND;TZID=UTC:20270524T190000
DTSTAMP:20260420T144223
CREATED:20250611T222336Z
LAST-MODIFIED:20250613T165754Z
UID:10011310-1811181600-1811185200@myrecovery.org
SUMMARY:Al-Anon - Hope For Today - Format: Steps
DESCRIPTION:Steps: Recovery meetings will focus on the 12 steps rotating through a step per week. The Trusted Servant speaks about the step and opens the meeting up for discussion for all attendees. \nCLICK HERE to join the meeting!
URL:https://myrecovery.org/event/al-anon-hope-for-today-format-steps-2/2027-05-24/
CATEGORIES:Al-Anon,Steps
ATTACH;FMTTYPE=image/jpeg:https://myrecovery.org/wp-content/uploads/2024/08/AA-Serenity-Squad-Format-Steps-and-Topic.jpg
LOCATION:https://us06web.zoom.us/j/82926477061
END:VEVENT
BEGIN:VEVENT
DTSTART;TZID=UTC:20270524T190000
DTEND;TZID=UTC:20270524T200000
DTSTAMP:20260420T144223
CREATED:20250611T222134Z
LAST-MODIFIED:20250613T165920Z
UID:10011830-1811185200-1811188800@myrecovery.org
SUMMARY:AA - Complete Defeat AA - Format: Steps and Discussion
DESCRIPTION:Steps: Recovery meetings will focus on the 12 steps rotating through a step per week. The Trusted Servant speaks about the step and opens the meeting up for discussion for all attendees. \nBig Book or Discussion: Recovery meetings center around Big Book topics or pages selected by the Trusted Servant. The Trusted Servant speaks about the Big Book topic or pages selected and opens the meeting up for discussion for all attendees. \nCLICK HERE to join the meeting!
URL:https://myrecovery.org/event/aa-complete-defeat-aa-format-steps-and-discussion-2/2027-05-24/
CATEGORIES:AA,Discussion,Steps
ATTACH;FMTTYPE=image/jpeg:https://myrecovery.org/wp-content/uploads/2024/02/AA-Complete-Defeat-AA-Format-Steps-and-Discussion.jpg
LOCATION:https://zoom.us/j/674001502?pwd=T0VkdjhXc2tkRmZxR0t6ZVpzQWs0dz09
END:VEVENT
BEGIN:VEVENT
DTSTART;TZID=UTC:20270525T183000
DTEND;TZID=UTC:20270525T193000
DTSTAMP:20260420T144223
CREATED:20250611T221846Z
LAST-MODIFIED:20250613T170344Z
UID:10014050-1811269800-1811273400@myrecovery.org
SUMMARY:Al-Anon - Tuesday Night Group B - Format: Steps
DESCRIPTION:Topic: Recovery Meetings center around a topic that is picked out by the Trusted Servant or group conscience. Attendees have the opportunity to share how they relate to the topic. \nCLICK HERE to join the meeting!
URL:https://myrecovery.org/event/al-anon-tuesday-night-group-b-format-steps/2027-05-25/
CATEGORIES:Al-Anon,Steps
ATTACH;FMTTYPE=image/jpeg:https://myrecovery.org/wp-content/uploads/2024/02/Al-Anon-Tuesday-Night-Group-B-Format-Steps.jpg
LOCATION:https://zoom.us/j/94544814618?pwd=WU0yaVdsMmFmMk94UUdZWnJxRWdRUT09
END:VEVENT
BEGIN:VEVENT
DTSTART;TZID=UTC:20270525T190000
DTEND;TZID=UTC:20270525T200000
DTSTAMP:20260420T144223
CREATED:20250611T221826Z
LAST-MODIFIED:20250613T170406Z
UID:10014310-1811271600-1811275200@myrecovery.org
SUMMARY:Al-Anon - Into Action - Format: Steps/Traditions
DESCRIPTION:Steps: Recovery meetings will focus on the 12 steps rotating through a step per week. The Trusted Servant speaks about the step and opens the meeting up for discussion for all attendees. \nTraditions: Recovery Meetings will focus primarily on the 12 traditions.  The Trusted Servant speaks about the selected Tradition and opens the meeting up for discussion for all attendees. \nCLICK HERE to join the meeting!
URL:https://myrecovery.org/event/al-anon-into-action-format-steps-traditions/2027-05-25/
CATEGORIES:Al-Anon,Steps,Traditions
ATTACH;FMTTYPE=image/jpeg:https://myrecovery.org/wp-content/uploads/2024/02/Al-Anon-Into-Action-Format-Steps-Traditions.jpg
LOCATION:https://zoom.us/j/703672043?pwd=NEtBdDNTUzhYc2U1emlMQTNsTFVWZz09
END:VEVENT
BEGIN:VEVENT
DTSTART;TZID=UTC:20270526T183000
DTEND;TZID=UTC:20270526T193000
DTSTAMP:20260420T144223
CREATED:20250613T170637Z
LAST-MODIFIED:20250613T170637Z
UID:10015162-1811356200-1811359800@myrecovery.org
SUMMARY:Nar-Anon - West Metro Hope For Recovery - Format: Steps/Topics Discussion
DESCRIPTION:Steps: Recovery meetings will focus on the 12 steps rotating through a step per week. The Trusted Servant speaks about the step and opens the meeting up for discussion for all attendees. \nTopic: Recovery Meetings center around a topic that is picked out by the Trusted Servant or group conscience. Attendees have the opportunity to share how they relate to the topic. \nBig Book or Discussion: Recovery meetings center around Big Book topics or pages selected by the Trusted Servant. The Trusted Servant speaks about the Big Book topic or pages selected and opens the meeting up for discussion for all attendees. \nCLICK HERE to join the meeting!
URL:https://myrecovery.org/event/nar-anon-west-metro-hope-for-recovery-format-steps-topics-discussion/2027-05-26/
CATEGORIES:Anon,Steps
ATTACH;FMTTYPE=image/jpeg:https://myrecovery.org/wp-content/uploads/2024/02/Nar-Anon-West-Metro-Hope-For-Recovery-Format-Steps-Topics-Discussion.jpg
LOCATION:https://zoom.us/j/940657043?pwd=djc0NU1kcFUxdWNNZ0djYllQdk1jUT09
END:VEVENT
BEGIN:VEVENT
DTSTART;TZID=UTC:20270527T193000
DTEND;TZID=UTC:20270527T203000
DTSTAMP:20260420T144223
CREATED:20250611T222617Z
LAST-MODIFIED:20250613T171123Z
UID:10015945-1811446200-1811449800@myrecovery.org
SUMMARY:Al-Anon - Quiet Moments - Format: Steps
DESCRIPTION:Steps: Recovery meetings will focus on the 12 steps rotating through a step per week. The Trusted Servant speaks about the step and opens the meeting up for discussion for all attendees. \nCLICK HERE to join the meeting!
URL:https://myrecovery.org/event/al-anon-quiet-moments-format-steps-2/2027-05-27/
CATEGORIES:Al-Anon,Steps
ATTACH;FMTTYPE=image/jpeg:https://myrecovery.org/wp-content/uploads/2024/01/Al-Anon-Quiet-Moments-Format-Steps.jpg
END:VEVENT
BEGIN:VEVENT
DTSTART;TZID=UTC:20270531T180000
DTEND;TZID=UTC:20270531T190000
DTSTAMP:20260420T144223
CREATED:20250611T222336Z
LAST-MODIFIED:20250613T165754Z
UID:10011311-1811786400-1811790000@myrecovery.org
SUMMARY:Al-Anon - Hope For Today - Format: Steps
DESCRIPTION:Steps: Recovery meetings will focus on the 12 steps rotating through a step per week. The Trusted Servant speaks about the step and opens the meeting up for discussion for all attendees. \nCLICK HERE to join the meeting!
URL:https://myrecovery.org/event/al-anon-hope-for-today-format-steps-2/2027-05-31/
CATEGORIES:Al-Anon,Steps
ATTACH;FMTTYPE=image/jpeg:https://myrecovery.org/wp-content/uploads/2024/08/AA-Serenity-Squad-Format-Steps-and-Topic.jpg
LOCATION:https://us06web.zoom.us/j/82926477061
END:VEVENT
BEGIN:VEVENT
DTSTART;TZID=UTC:20270531T190000
DTEND;TZID=UTC:20270531T200000
DTSTAMP:20260420T144223
CREATED:20250611T222134Z
LAST-MODIFIED:20250613T165920Z
UID:10011831-1811790000-1811793600@myrecovery.org
SUMMARY:AA - Complete Defeat AA - Format: Steps and Discussion
DESCRIPTION:Steps: Recovery meetings will focus on the 12 steps rotating through a step per week. The Trusted Servant speaks about the step and opens the meeting up for discussion for all attendees. \nBig Book or Discussion: Recovery meetings center around Big Book topics or pages selected by the Trusted Servant. The Trusted Servant speaks about the Big Book topic or pages selected and opens the meeting up for discussion for all attendees. \nCLICK HERE to join the meeting!
URL:https://myrecovery.org/event/aa-complete-defeat-aa-format-steps-and-discussion-2/2027-05-31/
CATEGORIES:AA,Discussion,Steps
ATTACH;FMTTYPE=image/jpeg:https://myrecovery.org/wp-content/uploads/2024/02/AA-Complete-Defeat-AA-Format-Steps-and-Discussion.jpg
LOCATION:https://zoom.us/j/674001502?pwd=T0VkdjhXc2tkRmZxR0t6ZVpzQWs0dz09
END:VEVENT
BEGIN:VEVENT
DTSTART;TZID=UTC:20270601T183000
DTEND;TZID=UTC:20270601T193000
DTSTAMP:20260420T144223
CREATED:20250611T221846Z
LAST-MODIFIED:20250613T170344Z
UID:10014051-1811874600-1811878200@myrecovery.org
SUMMARY:Al-Anon - Tuesday Night Group B - Format: Steps
DESCRIPTION:Topic: Recovery Meetings center around a topic that is picked out by the Trusted Servant or group conscience. Attendees have the opportunity to share how they relate to the topic. \nCLICK HERE to join the meeting!
URL:https://myrecovery.org/event/al-anon-tuesday-night-group-b-format-steps/2027-06-01/
CATEGORIES:Al-Anon,Steps
ATTACH;FMTTYPE=image/jpeg:https://myrecovery.org/wp-content/uploads/2024/02/Al-Anon-Tuesday-Night-Group-B-Format-Steps.jpg
LOCATION:https://zoom.us/j/94544814618?pwd=WU0yaVdsMmFmMk94UUdZWnJxRWdRUT09
END:VEVENT
BEGIN:VEVENT
DTSTART;TZID=UTC:20270601T190000
DTEND;TZID=UTC:20270601T200000
DTSTAMP:20260420T144223
CREATED:20250611T221826Z
LAST-MODIFIED:20250613T170406Z
UID:10014311-1811876400-1811880000@myrecovery.org
SUMMARY:Al-Anon - Into Action - Format: Steps/Traditions
DESCRIPTION:Steps: Recovery meetings will focus on the 12 steps rotating through a step per week. The Trusted Servant speaks about the step and opens the meeting up for discussion for all attendees. \nTraditions: Recovery Meetings will focus primarily on the 12 traditions.  The Trusted Servant speaks about the selected Tradition and opens the meeting up for discussion for all attendees. \nCLICK HERE to join the meeting!
URL:https://myrecovery.org/event/al-anon-into-action-format-steps-traditions/2027-06-01/
CATEGORIES:Al-Anon,Steps,Traditions
ATTACH;FMTTYPE=image/jpeg:https://myrecovery.org/wp-content/uploads/2024/02/Al-Anon-Into-Action-Format-Steps-Traditions.jpg
LOCATION:https://zoom.us/j/703672043?pwd=NEtBdDNTUzhYc2U1emlMQTNsTFVWZz09
END:VEVENT
BEGIN:VEVENT
DTSTART;TZID=UTC:20270602T183000
DTEND;TZID=UTC:20270602T193000
DTSTAMP:20260420T144223
CREATED:20250613T170637Z
LAST-MODIFIED:20250613T170637Z
UID:10015163-1811961000-1811964600@myrecovery.org
SUMMARY:Nar-Anon - West Metro Hope For Recovery - Format: Steps/Topics Discussion
DESCRIPTION:Steps: Recovery meetings will focus on the 12 steps rotating through a step per week. The Trusted Servant speaks about the step and opens the meeting up for discussion for all attendees. \nTopic: Recovery Meetings center around a topic that is picked out by the Trusted Servant or group conscience. Attendees have the opportunity to share how they relate to the topic. \nBig Book or Discussion: Recovery meetings center around Big Book topics or pages selected by the Trusted Servant. The Trusted Servant speaks about the Big Book topic or pages selected and opens the meeting up for discussion for all attendees. \nCLICK HERE to join the meeting!
URL:https://myrecovery.org/event/nar-anon-west-metro-hope-for-recovery-format-steps-topics-discussion/2027-06-02/
CATEGORIES:Anon,Steps
ATTACH;FMTTYPE=image/jpeg:https://myrecovery.org/wp-content/uploads/2024/02/Nar-Anon-West-Metro-Hope-For-Recovery-Format-Steps-Topics-Discussion.jpg
LOCATION:https://zoom.us/j/940657043?pwd=djc0NU1kcFUxdWNNZ0djYllQdk1jUT09
END:VEVENT
BEGIN:VEVENT
DTSTART;TZID=UTC:20270603T193000
DTEND;TZID=UTC:20270603T203000
DTSTAMP:20260420T144223
CREATED:20250611T222617Z
LAST-MODIFIED:20250613T171123Z
UID:10015946-1812051000-1812054600@myrecovery.org
SUMMARY:Al-Anon - Quiet Moments - Format: Steps
DESCRIPTION:Steps: Recovery meetings will focus on the 12 steps rotating through a step per week. The Trusted Servant speaks about the step and opens the meeting up for discussion for all attendees. \nCLICK HERE to join the meeting!
URL:https://myrecovery.org/event/al-anon-quiet-moments-format-steps-2/2027-06-03/
CATEGORIES:Al-Anon,Steps
ATTACH;FMTTYPE=image/jpeg:https://myrecovery.org/wp-content/uploads/2024/01/Al-Anon-Quiet-Moments-Format-Steps.jpg
END:VEVENT
BEGIN:VEVENT
DTSTART;TZID=UTC:20270607T180000
DTEND;TZID=UTC:20270607T190000
DTSTAMP:20260420T144223
CREATED:20250611T222336Z
LAST-MODIFIED:20250613T165754Z
UID:10011312-1812391200-1812394800@myrecovery.org
SUMMARY:Al-Anon - Hope For Today - Format: Steps
DESCRIPTION:Steps: Recovery meetings will focus on the 12 steps rotating through a step per week. The Trusted Servant speaks about the step and opens the meeting up for discussion for all attendees. \nCLICK HERE to join the meeting!
URL:https://myrecovery.org/event/al-anon-hope-for-today-format-steps-2/2027-06-07/
CATEGORIES:Al-Anon,Steps
ATTACH;FMTTYPE=image/jpeg:https://myrecovery.org/wp-content/uploads/2024/08/AA-Serenity-Squad-Format-Steps-and-Topic.jpg
LOCATION:https://us06web.zoom.us/j/82926477061
END:VEVENT
BEGIN:VEVENT
DTSTART;TZID=UTC:20270607T190000
DTEND;TZID=UTC:20270607T200000
DTSTAMP:20260420T144223
CREATED:20250611T222134Z
LAST-MODIFIED:20250613T165920Z
UID:10011832-1812394800-1812398400@myrecovery.org
SUMMARY:AA - Complete Defeat AA - Format: Steps and Discussion
DESCRIPTION:Steps: Recovery meetings will focus on the 12 steps rotating through a step per week. The Trusted Servant speaks about the step and opens the meeting up for discussion for all attendees. \nBig Book or Discussion: Recovery meetings center around Big Book topics or pages selected by the Trusted Servant. The Trusted Servant speaks about the Big Book topic or pages selected and opens the meeting up for discussion for all attendees. \nCLICK HERE to join the meeting!
URL:https://myrecovery.org/event/aa-complete-defeat-aa-format-steps-and-discussion-2/2027-06-07/
CATEGORIES:AA,Discussion,Steps
ATTACH;FMTTYPE=image/jpeg:https://myrecovery.org/wp-content/uploads/2024/02/AA-Complete-Defeat-AA-Format-Steps-and-Discussion.jpg
LOCATION:https://zoom.us/j/674001502?pwd=T0VkdjhXc2tkRmZxR0t6ZVpzQWs0dz09
END:VEVENT
BEGIN:VEVENT
DTSTART;TZID=UTC:20270608T183000
DTEND;TZID=UTC:20270608T193000
DTSTAMP:20260420T144223
CREATED:20250611T221846Z
LAST-MODIFIED:20250613T170344Z
UID:10014052-1812479400-1812483000@myrecovery.org
SUMMARY:Al-Anon - Tuesday Night Group B - Format: Steps
DESCRIPTION:Topic: Recovery Meetings center around a topic that is picked out by the Trusted Servant or group conscience. Attendees have the opportunity to share how they relate to the topic. \nCLICK HERE to join the meeting!
URL:https://myrecovery.org/event/al-anon-tuesday-night-group-b-format-steps/2027-06-08/
CATEGORIES:Al-Anon,Steps
ATTACH;FMTTYPE=image/jpeg:https://myrecovery.org/wp-content/uploads/2024/02/Al-Anon-Tuesday-Night-Group-B-Format-Steps.jpg
LOCATION:https://zoom.us/j/94544814618?pwd=WU0yaVdsMmFmMk94UUdZWnJxRWdRUT09
END:VEVENT
BEGIN:VEVENT
DTSTART;TZID=UTC:20270608T190000
DTEND;TZID=UTC:20270608T200000
DTSTAMP:20260420T144223
CREATED:20250611T221826Z
LAST-MODIFIED:20250613T170406Z
UID:10014312-1812481200-1812484800@myrecovery.org
SUMMARY:Al-Anon - Into Action - Format: Steps/Traditions
DESCRIPTION:Steps: Recovery meetings will focus on the 12 steps rotating through a step per week. The Trusted Servant speaks about the step and opens the meeting up for discussion for all attendees. \nTraditions: Recovery Meetings will focus primarily on the 12 traditions.  The Trusted Servant speaks about the selected Tradition and opens the meeting up for discussion for all attendees. \nCLICK HERE to join the meeting!
URL:https://myrecovery.org/event/al-anon-into-action-format-steps-traditions/2027-06-08/
CATEGORIES:Al-Anon,Steps,Traditions
ATTACH;FMTTYPE=image/jpeg:https://myrecovery.org/wp-content/uploads/2024/02/Al-Anon-Into-Action-Format-Steps-Traditions.jpg
LOCATION:https://zoom.us/j/703672043?pwd=NEtBdDNTUzhYc2U1emlMQTNsTFVWZz09
END:VEVENT
BEGIN:VEVENT
DTSTART;TZID=UTC:20270609T183000
DTEND;TZID=UTC:20270609T193000
DTSTAMP:20260420T144223
CREATED:20250613T170637Z
LAST-MODIFIED:20250613T170637Z
UID:10015164-1812565800-1812569400@myrecovery.org
SUMMARY:Nar-Anon - West Metro Hope For Recovery - Format: Steps/Topics Discussion
DESCRIPTION:Steps: Recovery meetings will focus on the 12 steps rotating through a step per week. The Trusted Servant speaks about the step and opens the meeting up for discussion for all attendees. \nTopic: Recovery Meetings center around a topic that is picked out by the Trusted Servant or group conscience. Attendees have the opportunity to share how they relate to the topic. \nBig Book or Discussion: Recovery meetings center around Big Book topics or pages selected by the Trusted Servant. The Trusted Servant speaks about the Big Book topic or pages selected and opens the meeting up for discussion for all attendees. \nCLICK HERE to join the meeting!
URL:https://myrecovery.org/event/nar-anon-west-metro-hope-for-recovery-format-steps-topics-discussion/2027-06-09/
CATEGORIES:Anon,Steps
ATTACH;FMTTYPE=image/jpeg:https://myrecovery.org/wp-content/uploads/2024/02/Nar-Anon-West-Metro-Hope-For-Recovery-Format-Steps-Topics-Discussion.jpg
LOCATION:https://zoom.us/j/940657043?pwd=djc0NU1kcFUxdWNNZ0djYllQdk1jUT09
END:VEVENT
BEGIN:VEVENT
DTSTART;TZID=UTC:20270610T193000
DTEND;TZID=UTC:20270610T203000
DTSTAMP:20260420T144223
CREATED:20250611T222617Z
LAST-MODIFIED:20250613T171123Z
UID:10015947-1812655800-1812659400@myrecovery.org
SUMMARY:Al-Anon - Quiet Moments - Format: Steps
DESCRIPTION:Steps: Recovery meetings will focus on the 12 steps rotating through a step per week. The Trusted Servant speaks about the step and opens the meeting up for discussion for all attendees. \nCLICK HERE to join the meeting!
URL:https://myrecovery.org/event/al-anon-quiet-moments-format-steps-2/2027-06-10/
CATEGORIES:Al-Anon,Steps
ATTACH;FMTTYPE=image/jpeg:https://myrecovery.org/wp-content/uploads/2024/01/Al-Anon-Quiet-Moments-Format-Steps.jpg
END:VEVENT
BEGIN:VEVENT
DTSTART;TZID=UTC:20270614T180000
DTEND;TZID=UTC:20270614T190000
DTSTAMP:20260420T144223
CREATED:20250611T222336Z
LAST-MODIFIED:20250613T165754Z
UID:10011313-1812996000-1812999600@myrecovery.org
SUMMARY:Al-Anon - Hope For Today - Format: Steps
DESCRIPTION:Steps: Recovery meetings will focus on the 12 steps rotating through a step per week. The Trusted Servant speaks about the step and opens the meeting up for discussion for all attendees. \nCLICK HERE to join the meeting!
URL:https://myrecovery.org/event/al-anon-hope-for-today-format-steps-2/2027-06-14/
CATEGORIES:Al-Anon,Steps
ATTACH;FMTTYPE=image/jpeg:https://myrecovery.org/wp-content/uploads/2024/08/AA-Serenity-Squad-Format-Steps-and-Topic.jpg
LOCATION:https://us06web.zoom.us/j/82926477061
END:VEVENT
BEGIN:VEVENT
DTSTART;TZID=UTC:20270614T190000
DTEND;TZID=UTC:20270614T200000
DTSTAMP:20260420T144223
CREATED:20250611T222134Z
LAST-MODIFIED:20250613T165920Z
UID:10011833-1812999600-1813003200@myrecovery.org
SUMMARY:AA - Complete Defeat AA - Format: Steps and Discussion
DESCRIPTION:Steps: Recovery meetings will focus on the 12 steps rotating through a step per week. The Trusted Servant speaks about the step and opens the meeting up for discussion for all attendees. \nBig Book or Discussion: Recovery meetings center around Big Book topics or pages selected by the Trusted Servant. The Trusted Servant speaks about the Big Book topic or pages selected and opens the meeting up for discussion for all attendees. \nCLICK HERE to join the meeting!
URL:https://myrecovery.org/event/aa-complete-defeat-aa-format-steps-and-discussion-2/2027-06-14/
CATEGORIES:AA,Discussion,Steps
ATTACH;FMTTYPE=image/jpeg:https://myrecovery.org/wp-content/uploads/2024/02/AA-Complete-Defeat-AA-Format-Steps-and-Discussion.jpg
LOCATION:https://zoom.us/j/674001502?pwd=T0VkdjhXc2tkRmZxR0t6ZVpzQWs0dz09
END:VEVENT
BEGIN:VEVENT
DTSTART;TZID=UTC:20270615T183000
DTEND;TZID=UTC:20270615T193000
DTSTAMP:20260420T144223
CREATED:20250611T221846Z
LAST-MODIFIED:20250613T170344Z
UID:10014053-1813084200-1813087800@myrecovery.org
SUMMARY:Al-Anon - Tuesday Night Group B - Format: Steps
DESCRIPTION:Topic: Recovery Meetings center around a topic that is picked out by the Trusted Servant or group conscience. Attendees have the opportunity to share how they relate to the topic. \nCLICK HERE to join the meeting!
URL:https://myrecovery.org/event/al-anon-tuesday-night-group-b-format-steps/2027-06-15/
CATEGORIES:Al-Anon,Steps
ATTACH;FMTTYPE=image/jpeg:https://myrecovery.org/wp-content/uploads/2024/02/Al-Anon-Tuesday-Night-Group-B-Format-Steps.jpg
LOCATION:https://zoom.us/j/94544814618?pwd=WU0yaVdsMmFmMk94UUdZWnJxRWdRUT09
END:VEVENT
BEGIN:VEVENT
DTSTART;TZID=UTC:20270615T190000
DTEND;TZID=UTC:20270615T200000
DTSTAMP:20260420T144223
CREATED:20250611T221826Z
LAST-MODIFIED:20250613T170406Z
UID:10014313-1813086000-1813089600@myrecovery.org
SUMMARY:Al-Anon - Into Action - Format: Steps/Traditions
DESCRIPTION:Steps: Recovery meetings will focus on the 12 steps rotating through a step per week. The Trusted Servant speaks about the step and opens the meeting up for discussion for all attendees. \nTraditions: Recovery Meetings will focus primarily on the 12 traditions.  The Trusted Servant speaks about the selected Tradition and opens the meeting up for discussion for all attendees. \nCLICK HERE to join the meeting!
URL:https://myrecovery.org/event/al-anon-into-action-format-steps-traditions/2027-06-15/
CATEGORIES:Al-Anon,Steps,Traditions
ATTACH;FMTTYPE=image/jpeg:https://myrecovery.org/wp-content/uploads/2024/02/Al-Anon-Into-Action-Format-Steps-Traditions.jpg
LOCATION:https://zoom.us/j/703672043?pwd=NEtBdDNTUzhYc2U1emlMQTNsTFVWZz09
END:VEVENT
BEGIN:VEVENT
DTSTART;TZID=UTC:20270616T183000
DTEND;TZID=UTC:20270616T193000
DTSTAMP:20260420T144223
CREATED:20250613T170637Z
LAST-MODIFIED:20250613T170637Z
UID:10015165-1813170600-1813174200@myrecovery.org
SUMMARY:Nar-Anon - West Metro Hope For Recovery - Format: Steps/Topics Discussion
DESCRIPTION:Steps: Recovery meetings will focus on the 12 steps rotating through a step per week. The Trusted Servant speaks about the step and opens the meeting up for discussion for all attendees. \nTopic: Recovery Meetings center around a topic that is picked out by the Trusted Servant or group conscience. Attendees have the opportunity to share how they relate to the topic. \nBig Book or Discussion: Recovery meetings center around Big Book topics or pages selected by the Trusted Servant. The Trusted Servant speaks about the Big Book topic or pages selected and opens the meeting up for discussion for all attendees. \nCLICK HERE to join the meeting!
URL:https://myrecovery.org/event/nar-anon-west-metro-hope-for-recovery-format-steps-topics-discussion/2027-06-16/
CATEGORIES:Anon,Steps
ATTACH;FMTTYPE=image/jpeg:https://myrecovery.org/wp-content/uploads/2024/02/Nar-Anon-West-Metro-Hope-For-Recovery-Format-Steps-Topics-Discussion.jpg
LOCATION:https://zoom.us/j/940657043?pwd=djc0NU1kcFUxdWNNZ0djYllQdk1jUT09
END:VEVENT
BEGIN:VEVENT
DTSTART;TZID=UTC:20270617T193000
DTEND;TZID=UTC:20270617T203000
DTSTAMP:20260420T144223
CREATED:20250611T222617Z
LAST-MODIFIED:20250613T171123Z
UID:10015948-1813260600-1813264200@myrecovery.org
SUMMARY:Al-Anon - Quiet Moments - Format: Steps
DESCRIPTION:Steps: Recovery meetings will focus on the 12 steps rotating through a step per week. The Trusted Servant speaks about the step and opens the meeting up for discussion for all attendees. \nCLICK HERE to join the meeting!
URL:https://myrecovery.org/event/al-anon-quiet-moments-format-steps-2/2027-06-17/
CATEGORIES:Al-Anon,Steps
ATTACH;FMTTYPE=image/jpeg:https://myrecovery.org/wp-content/uploads/2024/01/Al-Anon-Quiet-Moments-Format-Steps.jpg
END:VEVENT
END:VCALENDAR