BEGIN:VCALENDAR
VERSION:2.0
PRODID:-//My Recovery - ECPv6.15.17//NONSGML v1.0//EN
CALSCALE:GREGORIAN
METHOD:PUBLISH
X-WR-CALNAME:My Recovery
X-ORIGINAL-URL:https://myrecovery.org
X-WR-CALDESC:Events for My Recovery
REFRESH-INTERVAL;VALUE=DURATION:PT1H
X-Robots-Tag:noindex
X-PUBLISHED-TTL:PT1H
BEGIN:VTIMEZONE
TZID:UTC
BEGIN:STANDARD
TZOFFSETFROM:+0000
TZOFFSETTO:+0000
TZNAME:UTC
DTSTART:20260101T000000
END:STANDARD
END:VTIMEZONE
BEGIN:VEVENT
DTSTART;TZID=UTC:20270308T180000
DTEND;TZID=UTC:20270308T190000
DTSTAMP:20260420T063102
CREATED:20250611T222336Z
LAST-MODIFIED:20250613T165754Z
UID:10011299-1804528800-1804532400@myrecovery.org
SUMMARY:Al-Anon - Hope For Today - Format: Steps
DESCRIPTION:Steps: Recovery meetings will focus on the 12 steps rotating through a step per week. The Trusted Servant speaks about the step and opens the meeting up for discussion for all attendees. \nCLICK HERE to join the meeting!
URL:https://myrecovery.org/event/al-anon-hope-for-today-format-steps-2/2027-03-08/
CATEGORIES:Al-Anon,Steps
ATTACH;FMTTYPE=image/jpeg:https://myrecovery.org/wp-content/uploads/2024/08/AA-Serenity-Squad-Format-Steps-and-Topic.jpg
LOCATION:https://us06web.zoom.us/j/82926477061
END:VEVENT
BEGIN:VEVENT
DTSTART;TZID=UTC:20270308T190000
DTEND;TZID=UTC:20270308T200000
DTSTAMP:20260420T063102
CREATED:20250611T222134Z
LAST-MODIFIED:20250613T165920Z
UID:10011819-1804532400-1804536000@myrecovery.org
SUMMARY:AA - Complete Defeat AA - Format: Steps and Discussion
DESCRIPTION:Steps: Recovery meetings will focus on the 12 steps rotating through a step per week. The Trusted Servant speaks about the step and opens the meeting up for discussion for all attendees. \nBig Book or Discussion: Recovery meetings center around Big Book topics or pages selected by the Trusted Servant. The Trusted Servant speaks about the Big Book topic or pages selected and opens the meeting up for discussion for all attendees. \nCLICK HERE to join the meeting!
URL:https://myrecovery.org/event/aa-complete-defeat-aa-format-steps-and-discussion-2/2027-03-08/
CATEGORIES:AA,Discussion,Steps
ATTACH;FMTTYPE=image/jpeg:https://myrecovery.org/wp-content/uploads/2024/02/AA-Complete-Defeat-AA-Format-Steps-and-Discussion.jpg
LOCATION:https://zoom.us/j/674001502?pwd=T0VkdjhXc2tkRmZxR0t6ZVpzQWs0dz09
END:VEVENT
BEGIN:VEVENT
DTSTART;TZID=UTC:20270309T183000
DTEND;TZID=UTC:20270309T193000
DTSTAMP:20260420T063102
CREATED:20250611T221846Z
LAST-MODIFIED:20250613T170344Z
UID:10014039-1804617000-1804620600@myrecovery.org
SUMMARY:Al-Anon - Tuesday Night Group B - Format: Steps
DESCRIPTION:Topic: Recovery Meetings center around a topic that is picked out by the Trusted Servant or group conscience. Attendees have the opportunity to share how they relate to the topic. \nCLICK HERE to join the meeting!
URL:https://myrecovery.org/event/al-anon-tuesday-night-group-b-format-steps/2027-03-09/
CATEGORIES:Al-Anon,Steps
ATTACH;FMTTYPE=image/jpeg:https://myrecovery.org/wp-content/uploads/2024/02/Al-Anon-Tuesday-Night-Group-B-Format-Steps.jpg
LOCATION:https://zoom.us/j/94544814618?pwd=WU0yaVdsMmFmMk94UUdZWnJxRWdRUT09
END:VEVENT
BEGIN:VEVENT
DTSTART;TZID=UTC:20270309T190000
DTEND;TZID=UTC:20270309T200000
DTSTAMP:20260420T063102
CREATED:20250611T221826Z
LAST-MODIFIED:20250613T170406Z
UID:10014299-1804618800-1804622400@myrecovery.org
SUMMARY:Al-Anon - Into Action - Format: Steps/Traditions
DESCRIPTION:Steps: Recovery meetings will focus on the 12 steps rotating through a step per week. The Trusted Servant speaks about the step and opens the meeting up for discussion for all attendees. \nTraditions: Recovery Meetings will focus primarily on the 12 traditions.  The Trusted Servant speaks about the selected Tradition and opens the meeting up for discussion for all attendees. \nCLICK HERE to join the meeting!
URL:https://myrecovery.org/event/al-anon-into-action-format-steps-traditions/2027-03-09/
CATEGORIES:Al-Anon,Steps,Traditions
ATTACH;FMTTYPE=image/jpeg:https://myrecovery.org/wp-content/uploads/2024/02/Al-Anon-Into-Action-Format-Steps-Traditions.jpg
LOCATION:https://zoom.us/j/703672043?pwd=NEtBdDNTUzhYc2U1emlMQTNsTFVWZz09
END:VEVENT
BEGIN:VEVENT
DTSTART;TZID=UTC:20270310T183000
DTEND;TZID=UTC:20270310T193000
DTSTAMP:20260420T063102
CREATED:20250613T170637Z
LAST-MODIFIED:20250613T170637Z
UID:10015151-1804703400-1804707000@myrecovery.org
SUMMARY:Nar-Anon - West Metro Hope For Recovery - Format: Steps/Topics Discussion
DESCRIPTION:Steps: Recovery meetings will focus on the 12 steps rotating through a step per week. The Trusted Servant speaks about the step and opens the meeting up for discussion for all attendees. \nTopic: Recovery Meetings center around a topic that is picked out by the Trusted Servant or group conscience. Attendees have the opportunity to share how they relate to the topic. \nBig Book or Discussion: Recovery meetings center around Big Book topics or pages selected by the Trusted Servant. The Trusted Servant speaks about the Big Book topic or pages selected and opens the meeting up for discussion for all attendees. \nCLICK HERE to join the meeting!
URL:https://myrecovery.org/event/nar-anon-west-metro-hope-for-recovery-format-steps-topics-discussion/2027-03-10/
CATEGORIES:Anon,Steps
ATTACH;FMTTYPE=image/jpeg:https://myrecovery.org/wp-content/uploads/2024/02/Nar-Anon-West-Metro-Hope-For-Recovery-Format-Steps-Topics-Discussion.jpg
LOCATION:https://zoom.us/j/940657043?pwd=djc0NU1kcFUxdWNNZ0djYllQdk1jUT09
END:VEVENT
BEGIN:VEVENT
DTSTART;TZID=UTC:20270311T193000
DTEND;TZID=UTC:20270311T203000
DTSTAMP:20260420T063102
CREATED:20250611T222617Z
LAST-MODIFIED:20250613T171123Z
UID:10015934-1804793400-1804797000@myrecovery.org
SUMMARY:Al-Anon - Quiet Moments - Format: Steps
DESCRIPTION:Steps: Recovery meetings will focus on the 12 steps rotating through a step per week. The Trusted Servant speaks about the step and opens the meeting up for discussion for all attendees. \nCLICK HERE to join the meeting!
URL:https://myrecovery.org/event/al-anon-quiet-moments-format-steps-2/2027-03-11/
CATEGORIES:Al-Anon,Steps
ATTACH;FMTTYPE=image/jpeg:https://myrecovery.org/wp-content/uploads/2024/01/Al-Anon-Quiet-Moments-Format-Steps.jpg
END:VEVENT
BEGIN:VEVENT
DTSTART;TZID=UTC:20270315T180000
DTEND;TZID=UTC:20270315T190000
DTSTAMP:20260420T063102
CREATED:20250611T222336Z
LAST-MODIFIED:20250613T165754Z
UID:10011300-1805133600-1805137200@myrecovery.org
SUMMARY:Al-Anon - Hope For Today - Format: Steps
DESCRIPTION:Steps: Recovery meetings will focus on the 12 steps rotating through a step per week. The Trusted Servant speaks about the step and opens the meeting up for discussion for all attendees. \nCLICK HERE to join the meeting!
URL:https://myrecovery.org/event/al-anon-hope-for-today-format-steps-2/2027-03-15/
CATEGORIES:Al-Anon,Steps
ATTACH;FMTTYPE=image/jpeg:https://myrecovery.org/wp-content/uploads/2024/08/AA-Serenity-Squad-Format-Steps-and-Topic.jpg
LOCATION:https://us06web.zoom.us/j/82926477061
END:VEVENT
BEGIN:VEVENT
DTSTART;TZID=UTC:20270315T190000
DTEND;TZID=UTC:20270315T200000
DTSTAMP:20260420T063102
CREATED:20250611T222134Z
LAST-MODIFIED:20250613T165920Z
UID:10011820-1805137200-1805140800@myrecovery.org
SUMMARY:AA - Complete Defeat AA - Format: Steps and Discussion
DESCRIPTION:Steps: Recovery meetings will focus on the 12 steps rotating through a step per week. The Trusted Servant speaks about the step and opens the meeting up for discussion for all attendees. \nBig Book or Discussion: Recovery meetings center around Big Book topics or pages selected by the Trusted Servant. The Trusted Servant speaks about the Big Book topic or pages selected and opens the meeting up for discussion for all attendees. \nCLICK HERE to join the meeting!
URL:https://myrecovery.org/event/aa-complete-defeat-aa-format-steps-and-discussion-2/2027-03-15/
CATEGORIES:AA,Discussion,Steps
ATTACH;FMTTYPE=image/jpeg:https://myrecovery.org/wp-content/uploads/2024/02/AA-Complete-Defeat-AA-Format-Steps-and-Discussion.jpg
LOCATION:https://zoom.us/j/674001502?pwd=T0VkdjhXc2tkRmZxR0t6ZVpzQWs0dz09
END:VEVENT
BEGIN:VEVENT
DTSTART;TZID=UTC:20270316T183000
DTEND;TZID=UTC:20270316T193000
DTSTAMP:20260420T063102
CREATED:20250611T221846Z
LAST-MODIFIED:20250613T170344Z
UID:10014040-1805221800-1805225400@myrecovery.org
SUMMARY:Al-Anon - Tuesday Night Group B - Format: Steps
DESCRIPTION:Topic: Recovery Meetings center around a topic that is picked out by the Trusted Servant or group conscience. Attendees have the opportunity to share how they relate to the topic. \nCLICK HERE to join the meeting!
URL:https://myrecovery.org/event/al-anon-tuesday-night-group-b-format-steps/2027-03-16/
CATEGORIES:Al-Anon,Steps
ATTACH;FMTTYPE=image/jpeg:https://myrecovery.org/wp-content/uploads/2024/02/Al-Anon-Tuesday-Night-Group-B-Format-Steps.jpg
LOCATION:https://zoom.us/j/94544814618?pwd=WU0yaVdsMmFmMk94UUdZWnJxRWdRUT09
END:VEVENT
BEGIN:VEVENT
DTSTART;TZID=UTC:20270316T190000
DTEND;TZID=UTC:20270316T200000
DTSTAMP:20260420T063102
CREATED:20250611T221826Z
LAST-MODIFIED:20250613T170406Z
UID:10014300-1805223600-1805227200@myrecovery.org
SUMMARY:Al-Anon - Into Action - Format: Steps/Traditions
DESCRIPTION:Steps: Recovery meetings will focus on the 12 steps rotating through a step per week. The Trusted Servant speaks about the step and opens the meeting up for discussion for all attendees. \nTraditions: Recovery Meetings will focus primarily on the 12 traditions.  The Trusted Servant speaks about the selected Tradition and opens the meeting up for discussion for all attendees. \nCLICK HERE to join the meeting!
URL:https://myrecovery.org/event/al-anon-into-action-format-steps-traditions/2027-03-16/
CATEGORIES:Al-Anon,Steps,Traditions
ATTACH;FMTTYPE=image/jpeg:https://myrecovery.org/wp-content/uploads/2024/02/Al-Anon-Into-Action-Format-Steps-Traditions.jpg
LOCATION:https://zoom.us/j/703672043?pwd=NEtBdDNTUzhYc2U1emlMQTNsTFVWZz09
END:VEVENT
BEGIN:VEVENT
DTSTART;TZID=UTC:20270317T183000
DTEND;TZID=UTC:20270317T193000
DTSTAMP:20260420T063102
CREATED:20250613T170637Z
LAST-MODIFIED:20250613T170637Z
UID:10015152-1805308200-1805311800@myrecovery.org
SUMMARY:Nar-Anon - West Metro Hope For Recovery - Format: Steps/Topics Discussion
DESCRIPTION:Steps: Recovery meetings will focus on the 12 steps rotating through a step per week. The Trusted Servant speaks about the step and opens the meeting up for discussion for all attendees. \nTopic: Recovery Meetings center around a topic that is picked out by the Trusted Servant or group conscience. Attendees have the opportunity to share how they relate to the topic. \nBig Book or Discussion: Recovery meetings center around Big Book topics or pages selected by the Trusted Servant. The Trusted Servant speaks about the Big Book topic or pages selected and opens the meeting up for discussion for all attendees. \nCLICK HERE to join the meeting!
URL:https://myrecovery.org/event/nar-anon-west-metro-hope-for-recovery-format-steps-topics-discussion/2027-03-17/
CATEGORIES:Anon,Steps
ATTACH;FMTTYPE=image/jpeg:https://myrecovery.org/wp-content/uploads/2024/02/Nar-Anon-West-Metro-Hope-For-Recovery-Format-Steps-Topics-Discussion.jpg
LOCATION:https://zoom.us/j/940657043?pwd=djc0NU1kcFUxdWNNZ0djYllQdk1jUT09
END:VEVENT
BEGIN:VEVENT
DTSTART;TZID=UTC:20270318T193000
DTEND;TZID=UTC:20270318T203000
DTSTAMP:20260420T063102
CREATED:20250611T222617Z
LAST-MODIFIED:20250613T171123Z
UID:10015935-1805398200-1805401800@myrecovery.org
SUMMARY:Al-Anon - Quiet Moments - Format: Steps
DESCRIPTION:Steps: Recovery meetings will focus on the 12 steps rotating through a step per week. The Trusted Servant speaks about the step and opens the meeting up for discussion for all attendees. \nCLICK HERE to join the meeting!
URL:https://myrecovery.org/event/al-anon-quiet-moments-format-steps-2/2027-03-18/
CATEGORIES:Al-Anon,Steps
ATTACH;FMTTYPE=image/jpeg:https://myrecovery.org/wp-content/uploads/2024/01/Al-Anon-Quiet-Moments-Format-Steps.jpg
END:VEVENT
BEGIN:VEVENT
DTSTART;TZID=UTC:20270322T180000
DTEND;TZID=UTC:20270322T190000
DTSTAMP:20260420T063102
CREATED:20250611T222336Z
LAST-MODIFIED:20250613T165754Z
UID:10011301-1805738400-1805742000@myrecovery.org
SUMMARY:Al-Anon - Hope For Today - Format: Steps
DESCRIPTION:Steps: Recovery meetings will focus on the 12 steps rotating through a step per week. The Trusted Servant speaks about the step and opens the meeting up for discussion for all attendees. \nCLICK HERE to join the meeting!
URL:https://myrecovery.org/event/al-anon-hope-for-today-format-steps-2/2027-03-22/
CATEGORIES:Al-Anon,Steps
ATTACH;FMTTYPE=image/jpeg:https://myrecovery.org/wp-content/uploads/2024/08/AA-Serenity-Squad-Format-Steps-and-Topic.jpg
LOCATION:https://us06web.zoom.us/j/82926477061
END:VEVENT
BEGIN:VEVENT
DTSTART;TZID=UTC:20270322T190000
DTEND;TZID=UTC:20270322T200000
DTSTAMP:20260420T063102
CREATED:20250611T222134Z
LAST-MODIFIED:20250613T165920Z
UID:10011821-1805742000-1805745600@myrecovery.org
SUMMARY:AA - Complete Defeat AA - Format: Steps and Discussion
DESCRIPTION:Steps: Recovery meetings will focus on the 12 steps rotating through a step per week. The Trusted Servant speaks about the step and opens the meeting up for discussion for all attendees. \nBig Book or Discussion: Recovery meetings center around Big Book topics or pages selected by the Trusted Servant. The Trusted Servant speaks about the Big Book topic or pages selected and opens the meeting up for discussion for all attendees. \nCLICK HERE to join the meeting!
URL:https://myrecovery.org/event/aa-complete-defeat-aa-format-steps-and-discussion-2/2027-03-22/
CATEGORIES:AA,Discussion,Steps
ATTACH;FMTTYPE=image/jpeg:https://myrecovery.org/wp-content/uploads/2024/02/AA-Complete-Defeat-AA-Format-Steps-and-Discussion.jpg
LOCATION:https://zoom.us/j/674001502?pwd=T0VkdjhXc2tkRmZxR0t6ZVpzQWs0dz09
END:VEVENT
BEGIN:VEVENT
DTSTART;TZID=UTC:20270323T183000
DTEND;TZID=UTC:20270323T193000
DTSTAMP:20260420T063102
CREATED:20250611T221846Z
LAST-MODIFIED:20250613T170344Z
UID:10014041-1805826600-1805830200@myrecovery.org
SUMMARY:Al-Anon - Tuesday Night Group B - Format: Steps
DESCRIPTION:Topic: Recovery Meetings center around a topic that is picked out by the Trusted Servant or group conscience. Attendees have the opportunity to share how they relate to the topic. \nCLICK HERE to join the meeting!
URL:https://myrecovery.org/event/al-anon-tuesday-night-group-b-format-steps/2027-03-23/
CATEGORIES:Al-Anon,Steps
ATTACH;FMTTYPE=image/jpeg:https://myrecovery.org/wp-content/uploads/2024/02/Al-Anon-Tuesday-Night-Group-B-Format-Steps.jpg
LOCATION:https://zoom.us/j/94544814618?pwd=WU0yaVdsMmFmMk94UUdZWnJxRWdRUT09
END:VEVENT
BEGIN:VEVENT
DTSTART;TZID=UTC:20270323T190000
DTEND;TZID=UTC:20270323T200000
DTSTAMP:20260420T063102
CREATED:20250611T221826Z
LAST-MODIFIED:20250613T170406Z
UID:10014301-1805828400-1805832000@myrecovery.org
SUMMARY:Al-Anon - Into Action - Format: Steps/Traditions
DESCRIPTION:Steps: Recovery meetings will focus on the 12 steps rotating through a step per week. The Trusted Servant speaks about the step and opens the meeting up for discussion for all attendees. \nTraditions: Recovery Meetings will focus primarily on the 12 traditions.  The Trusted Servant speaks about the selected Tradition and opens the meeting up for discussion for all attendees. \nCLICK HERE to join the meeting!
URL:https://myrecovery.org/event/al-anon-into-action-format-steps-traditions/2027-03-23/
CATEGORIES:Al-Anon,Steps,Traditions
ATTACH;FMTTYPE=image/jpeg:https://myrecovery.org/wp-content/uploads/2024/02/Al-Anon-Into-Action-Format-Steps-Traditions.jpg
LOCATION:https://zoom.us/j/703672043?pwd=NEtBdDNTUzhYc2U1emlMQTNsTFVWZz09
END:VEVENT
BEGIN:VEVENT
DTSTART;TZID=UTC:20270324T183000
DTEND;TZID=UTC:20270324T193000
DTSTAMP:20260420T063102
CREATED:20250613T170637Z
LAST-MODIFIED:20250613T170637Z
UID:10015153-1805913000-1805916600@myrecovery.org
SUMMARY:Nar-Anon - West Metro Hope For Recovery - Format: Steps/Topics Discussion
DESCRIPTION:Steps: Recovery meetings will focus on the 12 steps rotating through a step per week. The Trusted Servant speaks about the step and opens the meeting up for discussion for all attendees. \nTopic: Recovery Meetings center around a topic that is picked out by the Trusted Servant or group conscience. Attendees have the opportunity to share how they relate to the topic. \nBig Book or Discussion: Recovery meetings center around Big Book topics or pages selected by the Trusted Servant. The Trusted Servant speaks about the Big Book topic or pages selected and opens the meeting up for discussion for all attendees. \nCLICK HERE to join the meeting!
URL:https://myrecovery.org/event/nar-anon-west-metro-hope-for-recovery-format-steps-topics-discussion/2027-03-24/
CATEGORIES:Anon,Steps
ATTACH;FMTTYPE=image/jpeg:https://myrecovery.org/wp-content/uploads/2024/02/Nar-Anon-West-Metro-Hope-For-Recovery-Format-Steps-Topics-Discussion.jpg
LOCATION:https://zoom.us/j/940657043?pwd=djc0NU1kcFUxdWNNZ0djYllQdk1jUT09
END:VEVENT
BEGIN:VEVENT
DTSTART;TZID=UTC:20270325T193000
DTEND;TZID=UTC:20270325T203000
DTSTAMP:20260420T063102
CREATED:20250611T222617Z
LAST-MODIFIED:20250613T171123Z
UID:10015936-1806003000-1806006600@myrecovery.org
SUMMARY:Al-Anon - Quiet Moments - Format: Steps
DESCRIPTION:Steps: Recovery meetings will focus on the 12 steps rotating through a step per week. The Trusted Servant speaks about the step and opens the meeting up for discussion for all attendees. \nCLICK HERE to join the meeting!
URL:https://myrecovery.org/event/al-anon-quiet-moments-format-steps-2/2027-03-25/
CATEGORIES:Al-Anon,Steps
ATTACH;FMTTYPE=image/jpeg:https://myrecovery.org/wp-content/uploads/2024/01/Al-Anon-Quiet-Moments-Format-Steps.jpg
END:VEVENT
BEGIN:VEVENT
DTSTART;TZID=UTC:20270329T180000
DTEND;TZID=UTC:20270329T190000
DTSTAMP:20260420T063102
CREATED:20250611T222336Z
LAST-MODIFIED:20250613T165754Z
UID:10011302-1806343200-1806346800@myrecovery.org
SUMMARY:Al-Anon - Hope For Today - Format: Steps
DESCRIPTION:Steps: Recovery meetings will focus on the 12 steps rotating through a step per week. The Trusted Servant speaks about the step and opens the meeting up for discussion for all attendees. \nCLICK HERE to join the meeting!
URL:https://myrecovery.org/event/al-anon-hope-for-today-format-steps-2/2027-03-29/
CATEGORIES:Al-Anon,Steps
ATTACH;FMTTYPE=image/jpeg:https://myrecovery.org/wp-content/uploads/2024/08/AA-Serenity-Squad-Format-Steps-and-Topic.jpg
LOCATION:https://us06web.zoom.us/j/82926477061
END:VEVENT
BEGIN:VEVENT
DTSTART;TZID=UTC:20270329T190000
DTEND;TZID=UTC:20270329T200000
DTSTAMP:20260420T063102
CREATED:20250611T222134Z
LAST-MODIFIED:20250613T165920Z
UID:10011822-1806346800-1806350400@myrecovery.org
SUMMARY:AA - Complete Defeat AA - Format: Steps and Discussion
DESCRIPTION:Steps: Recovery meetings will focus on the 12 steps rotating through a step per week. The Trusted Servant speaks about the step and opens the meeting up for discussion for all attendees. \nBig Book or Discussion: Recovery meetings center around Big Book topics or pages selected by the Trusted Servant. The Trusted Servant speaks about the Big Book topic or pages selected and opens the meeting up for discussion for all attendees. \nCLICK HERE to join the meeting!
URL:https://myrecovery.org/event/aa-complete-defeat-aa-format-steps-and-discussion-2/2027-03-29/
CATEGORIES:AA,Discussion,Steps
ATTACH;FMTTYPE=image/jpeg:https://myrecovery.org/wp-content/uploads/2024/02/AA-Complete-Defeat-AA-Format-Steps-and-Discussion.jpg
LOCATION:https://zoom.us/j/674001502?pwd=T0VkdjhXc2tkRmZxR0t6ZVpzQWs0dz09
END:VEVENT
BEGIN:VEVENT
DTSTART;TZID=UTC:20270330T183000
DTEND;TZID=UTC:20270330T193000
DTSTAMP:20260420T063102
CREATED:20250611T221846Z
LAST-MODIFIED:20250613T170344Z
UID:10014042-1806431400-1806435000@myrecovery.org
SUMMARY:Al-Anon - Tuesday Night Group B - Format: Steps
DESCRIPTION:Topic: Recovery Meetings center around a topic that is picked out by the Trusted Servant or group conscience. Attendees have the opportunity to share how they relate to the topic. \nCLICK HERE to join the meeting!
URL:https://myrecovery.org/event/al-anon-tuesday-night-group-b-format-steps/2027-03-30/
CATEGORIES:Al-Anon,Steps
ATTACH;FMTTYPE=image/jpeg:https://myrecovery.org/wp-content/uploads/2024/02/Al-Anon-Tuesday-Night-Group-B-Format-Steps.jpg
LOCATION:https://zoom.us/j/94544814618?pwd=WU0yaVdsMmFmMk94UUdZWnJxRWdRUT09
END:VEVENT
BEGIN:VEVENT
DTSTART;TZID=UTC:20270330T190000
DTEND;TZID=UTC:20270330T200000
DTSTAMP:20260420T063102
CREATED:20250611T221826Z
LAST-MODIFIED:20250613T170406Z
UID:10014302-1806433200-1806436800@myrecovery.org
SUMMARY:Al-Anon - Into Action - Format: Steps/Traditions
DESCRIPTION:Steps: Recovery meetings will focus on the 12 steps rotating through a step per week. The Trusted Servant speaks about the step and opens the meeting up for discussion for all attendees. \nTraditions: Recovery Meetings will focus primarily on the 12 traditions.  The Trusted Servant speaks about the selected Tradition and opens the meeting up for discussion for all attendees. \nCLICK HERE to join the meeting!
URL:https://myrecovery.org/event/al-anon-into-action-format-steps-traditions/2027-03-30/
CATEGORIES:Al-Anon,Steps,Traditions
ATTACH;FMTTYPE=image/jpeg:https://myrecovery.org/wp-content/uploads/2024/02/Al-Anon-Into-Action-Format-Steps-Traditions.jpg
LOCATION:https://zoom.us/j/703672043?pwd=NEtBdDNTUzhYc2U1emlMQTNsTFVWZz09
END:VEVENT
BEGIN:VEVENT
DTSTART;TZID=UTC:20270331T183000
DTEND;TZID=UTC:20270331T193000
DTSTAMP:20260420T063102
CREATED:20250613T170637Z
LAST-MODIFIED:20250613T170637Z
UID:10015154-1806517800-1806521400@myrecovery.org
SUMMARY:Nar-Anon - West Metro Hope For Recovery - Format: Steps/Topics Discussion
DESCRIPTION:Steps: Recovery meetings will focus on the 12 steps rotating through a step per week. The Trusted Servant speaks about the step and opens the meeting up for discussion for all attendees. \nTopic: Recovery Meetings center around a topic that is picked out by the Trusted Servant or group conscience. Attendees have the opportunity to share how they relate to the topic. \nBig Book or Discussion: Recovery meetings center around Big Book topics or pages selected by the Trusted Servant. The Trusted Servant speaks about the Big Book topic or pages selected and opens the meeting up for discussion for all attendees. \nCLICK HERE to join the meeting!
URL:https://myrecovery.org/event/nar-anon-west-metro-hope-for-recovery-format-steps-topics-discussion/2027-03-31/
CATEGORIES:Anon,Steps
ATTACH;FMTTYPE=image/jpeg:https://myrecovery.org/wp-content/uploads/2024/02/Nar-Anon-West-Metro-Hope-For-Recovery-Format-Steps-Topics-Discussion.jpg
LOCATION:https://zoom.us/j/940657043?pwd=djc0NU1kcFUxdWNNZ0djYllQdk1jUT09
END:VEVENT
BEGIN:VEVENT
DTSTART;TZID=UTC:20270401T193000
DTEND;TZID=UTC:20270401T203000
DTSTAMP:20260420T063102
CREATED:20250611T222617Z
LAST-MODIFIED:20250613T171123Z
UID:10015937-1806607800-1806611400@myrecovery.org
SUMMARY:Al-Anon - Quiet Moments - Format: Steps
DESCRIPTION:Steps: Recovery meetings will focus on the 12 steps rotating through a step per week. The Trusted Servant speaks about the step and opens the meeting up for discussion for all attendees. \nCLICK HERE to join the meeting!
URL:https://myrecovery.org/event/al-anon-quiet-moments-format-steps-2/2027-04-01/
CATEGORIES:Al-Anon,Steps
ATTACH;FMTTYPE=image/jpeg:https://myrecovery.org/wp-content/uploads/2024/01/Al-Anon-Quiet-Moments-Format-Steps.jpg
END:VEVENT
BEGIN:VEVENT
DTSTART;TZID=UTC:20270405T180000
DTEND;TZID=UTC:20270405T190000
DTSTAMP:20260420T063102
CREATED:20250611T222336Z
LAST-MODIFIED:20250613T165754Z
UID:10011303-1806948000-1806951600@myrecovery.org
SUMMARY:Al-Anon - Hope For Today - Format: Steps
DESCRIPTION:Steps: Recovery meetings will focus on the 12 steps rotating through a step per week. The Trusted Servant speaks about the step and opens the meeting up for discussion for all attendees. \nCLICK HERE to join the meeting!
URL:https://myrecovery.org/event/al-anon-hope-for-today-format-steps-2/2027-04-05/
CATEGORIES:Al-Anon,Steps
ATTACH;FMTTYPE=image/jpeg:https://myrecovery.org/wp-content/uploads/2024/08/AA-Serenity-Squad-Format-Steps-and-Topic.jpg
LOCATION:https://us06web.zoom.us/j/82926477061
END:VEVENT
BEGIN:VEVENT
DTSTART;TZID=UTC:20270405T190000
DTEND;TZID=UTC:20270405T200000
DTSTAMP:20260420T063102
CREATED:20250611T222134Z
LAST-MODIFIED:20250613T165920Z
UID:10011823-1806951600-1806955200@myrecovery.org
SUMMARY:AA - Complete Defeat AA - Format: Steps and Discussion
DESCRIPTION:Steps: Recovery meetings will focus on the 12 steps rotating through a step per week. The Trusted Servant speaks about the step and opens the meeting up for discussion for all attendees. \nBig Book or Discussion: Recovery meetings center around Big Book topics or pages selected by the Trusted Servant. The Trusted Servant speaks about the Big Book topic or pages selected and opens the meeting up for discussion for all attendees. \nCLICK HERE to join the meeting!
URL:https://myrecovery.org/event/aa-complete-defeat-aa-format-steps-and-discussion-2/2027-04-05/
CATEGORIES:AA,Discussion,Steps
ATTACH;FMTTYPE=image/jpeg:https://myrecovery.org/wp-content/uploads/2024/02/AA-Complete-Defeat-AA-Format-Steps-and-Discussion.jpg
LOCATION:https://zoom.us/j/674001502?pwd=T0VkdjhXc2tkRmZxR0t6ZVpzQWs0dz09
END:VEVENT
BEGIN:VEVENT
DTSTART;TZID=UTC:20270406T183000
DTEND;TZID=UTC:20270406T193000
DTSTAMP:20260420T063102
CREATED:20250611T221846Z
LAST-MODIFIED:20250613T170344Z
UID:10014043-1807036200-1807039800@myrecovery.org
SUMMARY:Al-Anon - Tuesday Night Group B - Format: Steps
DESCRIPTION:Topic: Recovery Meetings center around a topic that is picked out by the Trusted Servant or group conscience. Attendees have the opportunity to share how they relate to the topic. \nCLICK HERE to join the meeting!
URL:https://myrecovery.org/event/al-anon-tuesday-night-group-b-format-steps/2027-04-06/
CATEGORIES:Al-Anon,Steps
ATTACH;FMTTYPE=image/jpeg:https://myrecovery.org/wp-content/uploads/2024/02/Al-Anon-Tuesday-Night-Group-B-Format-Steps.jpg
LOCATION:https://zoom.us/j/94544814618?pwd=WU0yaVdsMmFmMk94UUdZWnJxRWdRUT09
END:VEVENT
BEGIN:VEVENT
DTSTART;TZID=UTC:20270406T190000
DTEND;TZID=UTC:20270406T200000
DTSTAMP:20260420T063102
CREATED:20250611T221826Z
LAST-MODIFIED:20250613T170406Z
UID:10014303-1807038000-1807041600@myrecovery.org
SUMMARY:Al-Anon - Into Action - Format: Steps/Traditions
DESCRIPTION:Steps: Recovery meetings will focus on the 12 steps rotating through a step per week. The Trusted Servant speaks about the step and opens the meeting up for discussion for all attendees. \nTraditions: Recovery Meetings will focus primarily on the 12 traditions.  The Trusted Servant speaks about the selected Tradition and opens the meeting up for discussion for all attendees. \nCLICK HERE to join the meeting!
URL:https://myrecovery.org/event/al-anon-into-action-format-steps-traditions/2027-04-06/
CATEGORIES:Al-Anon,Steps,Traditions
ATTACH;FMTTYPE=image/jpeg:https://myrecovery.org/wp-content/uploads/2024/02/Al-Anon-Into-Action-Format-Steps-Traditions.jpg
LOCATION:https://zoom.us/j/703672043?pwd=NEtBdDNTUzhYc2U1emlMQTNsTFVWZz09
END:VEVENT
BEGIN:VEVENT
DTSTART;TZID=UTC:20270407T183000
DTEND;TZID=UTC:20270407T193000
DTSTAMP:20260420T063102
CREATED:20250613T170637Z
LAST-MODIFIED:20250613T170637Z
UID:10015155-1807122600-1807126200@myrecovery.org
SUMMARY:Nar-Anon - West Metro Hope For Recovery - Format: Steps/Topics Discussion
DESCRIPTION:Steps: Recovery meetings will focus on the 12 steps rotating through a step per week. The Trusted Servant speaks about the step and opens the meeting up for discussion for all attendees. \nTopic: Recovery Meetings center around a topic that is picked out by the Trusted Servant or group conscience. Attendees have the opportunity to share how they relate to the topic. \nBig Book or Discussion: Recovery meetings center around Big Book topics or pages selected by the Trusted Servant. The Trusted Servant speaks about the Big Book topic or pages selected and opens the meeting up for discussion for all attendees. \nCLICK HERE to join the meeting!
URL:https://myrecovery.org/event/nar-anon-west-metro-hope-for-recovery-format-steps-topics-discussion/2027-04-07/
CATEGORIES:Anon,Steps
ATTACH;FMTTYPE=image/jpeg:https://myrecovery.org/wp-content/uploads/2024/02/Nar-Anon-West-Metro-Hope-For-Recovery-Format-Steps-Topics-Discussion.jpg
LOCATION:https://zoom.us/j/940657043?pwd=djc0NU1kcFUxdWNNZ0djYllQdk1jUT09
END:VEVENT
BEGIN:VEVENT
DTSTART;TZID=UTC:20270408T193000
DTEND;TZID=UTC:20270408T203000
DTSTAMP:20260420T063102
CREATED:20250611T222617Z
LAST-MODIFIED:20250613T171123Z
UID:10015938-1807212600-1807216200@myrecovery.org
SUMMARY:Al-Anon - Quiet Moments - Format: Steps
DESCRIPTION:Steps: Recovery meetings will focus on the 12 steps rotating through a step per week. The Trusted Servant speaks about the step and opens the meeting up for discussion for all attendees. \nCLICK HERE to join the meeting!
URL:https://myrecovery.org/event/al-anon-quiet-moments-format-steps-2/2027-04-08/
CATEGORIES:Al-Anon,Steps
ATTACH;FMTTYPE=image/jpeg:https://myrecovery.org/wp-content/uploads/2024/01/Al-Anon-Quiet-Moments-Format-Steps.jpg
END:VEVENT
END:VCALENDAR