BEGIN:VCALENDAR
VERSION:2.0
PRODID:-//My Recovery - ECPv6.15.17//NONSGML v1.0//EN
CALSCALE:GREGORIAN
METHOD:PUBLISH
X-ORIGINAL-URL:https://myrecovery.org
X-WR-CALDESC:Events for My Recovery
REFRESH-INTERVAL;VALUE=DURATION:PT1H
X-Robots-Tag:noindex
X-PUBLISHED-TTL:PT1H
BEGIN:VTIMEZONE
TZID:UTC
BEGIN:STANDARD
TZOFFSETFROM:+0000
TZOFFSETTO:+0000
TZNAME:UTC
DTSTART:20260101T000000
END:STANDARD
END:VTIMEZONE
BEGIN:VEVENT
DTSTART;TZID=UTC:20270208T180000
DTEND;TZID=UTC:20270208T190000
DTSTAMP:20260420T034156
CREATED:20250611T222336Z
LAST-MODIFIED:20250613T165754Z
UID:10011295-1802109600-1802113200@myrecovery.org
SUMMARY:Al-Anon - Hope For Today - Format: Steps
DESCRIPTION:Steps: Recovery meetings will focus on the 12 steps rotating through a step per week. The Trusted Servant speaks about the step and opens the meeting up for discussion for all attendees. \nCLICK HERE to join the meeting!
URL:https://myrecovery.org/event/al-anon-hope-for-today-format-steps-2/2027-02-08/
CATEGORIES:Al-Anon,Steps
ATTACH;FMTTYPE=image/jpeg:https://myrecovery.org/wp-content/uploads/2024/08/AA-Serenity-Squad-Format-Steps-and-Topic.jpg
LOCATION:https://us06web.zoom.us/j/82926477061
END:VEVENT
BEGIN:VEVENT
DTSTART;TZID=UTC:20270208T190000
DTEND;TZID=UTC:20270208T200000
DTSTAMP:20260420T034156
CREATED:20250611T222134Z
LAST-MODIFIED:20250613T165920Z
UID:10011815-1802113200-1802116800@myrecovery.org
SUMMARY:AA - Complete Defeat AA - Format: Steps and Discussion
DESCRIPTION:Steps: Recovery meetings will focus on the 12 steps rotating through a step per week. The Trusted Servant speaks about the step and opens the meeting up for discussion for all attendees. \nBig Book or Discussion: Recovery meetings center around Big Book topics or pages selected by the Trusted Servant. The Trusted Servant speaks about the Big Book topic or pages selected and opens the meeting up for discussion for all attendees. \nCLICK HERE to join the meeting!
URL:https://myrecovery.org/event/aa-complete-defeat-aa-format-steps-and-discussion-2/2027-02-08/
CATEGORIES:AA,Discussion,Steps
ATTACH;FMTTYPE=image/jpeg:https://myrecovery.org/wp-content/uploads/2024/02/AA-Complete-Defeat-AA-Format-Steps-and-Discussion.jpg
LOCATION:https://zoom.us/j/674001502?pwd=T0VkdjhXc2tkRmZxR0t6ZVpzQWs0dz09
END:VEVENT
BEGIN:VEVENT
DTSTART;TZID=UTC:20270209T183000
DTEND;TZID=UTC:20270209T193000
DTSTAMP:20260420T034156
CREATED:20250611T221846Z
LAST-MODIFIED:20250613T170344Z
UID:10014035-1802197800-1802201400@myrecovery.org
SUMMARY:Al-Anon - Tuesday Night Group B - Format: Steps
DESCRIPTION:Topic: Recovery Meetings center around a topic that is picked out by the Trusted Servant or group conscience. Attendees have the opportunity to share how they relate to the topic. \nCLICK HERE to join the meeting!
URL:https://myrecovery.org/event/al-anon-tuesday-night-group-b-format-steps/2027-02-09/
CATEGORIES:Al-Anon,Steps
ATTACH;FMTTYPE=image/jpeg:https://myrecovery.org/wp-content/uploads/2024/02/Al-Anon-Tuesday-Night-Group-B-Format-Steps.jpg
LOCATION:https://zoom.us/j/94544814618?pwd=WU0yaVdsMmFmMk94UUdZWnJxRWdRUT09
END:VEVENT
BEGIN:VEVENT
DTSTART;TZID=UTC:20270209T190000
DTEND;TZID=UTC:20270209T200000
DTSTAMP:20260420T034156
CREATED:20250611T221826Z
LAST-MODIFIED:20250613T170406Z
UID:10014295-1802199600-1802203200@myrecovery.org
SUMMARY:Al-Anon - Into Action - Format: Steps/Traditions
DESCRIPTION:Steps: Recovery meetings will focus on the 12 steps rotating through a step per week. The Trusted Servant speaks about the step and opens the meeting up for discussion for all attendees. \nTraditions: Recovery Meetings will focus primarily on the 12 traditions.  The Trusted Servant speaks about the selected Tradition and opens the meeting up for discussion for all attendees. \nCLICK HERE to join the meeting!
URL:https://myrecovery.org/event/al-anon-into-action-format-steps-traditions/2027-02-09/
CATEGORIES:Al-Anon,Steps,Traditions
ATTACH;FMTTYPE=image/jpeg:https://myrecovery.org/wp-content/uploads/2024/02/Al-Anon-Into-Action-Format-Steps-Traditions.jpg
LOCATION:https://zoom.us/j/703672043?pwd=NEtBdDNTUzhYc2U1emlMQTNsTFVWZz09
END:VEVENT
BEGIN:VEVENT
DTSTART;TZID=UTC:20270210T183000
DTEND;TZID=UTC:20270210T193000
DTSTAMP:20260420T034156
CREATED:20250613T170637Z
LAST-MODIFIED:20250613T170637Z
UID:10015147-1802284200-1802287800@myrecovery.org
SUMMARY:Nar-Anon - West Metro Hope For Recovery - Format: Steps/Topics Discussion
DESCRIPTION:Steps: Recovery meetings will focus on the 12 steps rotating through a step per week. The Trusted Servant speaks about the step and opens the meeting up for discussion for all attendees. \nTopic: Recovery Meetings center around a topic that is picked out by the Trusted Servant or group conscience. Attendees have the opportunity to share how they relate to the topic. \nBig Book or Discussion: Recovery meetings center around Big Book topics or pages selected by the Trusted Servant. The Trusted Servant speaks about the Big Book topic or pages selected and opens the meeting up for discussion for all attendees. \nCLICK HERE to join the meeting!
URL:https://myrecovery.org/event/nar-anon-west-metro-hope-for-recovery-format-steps-topics-discussion/2027-02-10/
CATEGORIES:Anon,Steps
ATTACH;FMTTYPE=image/jpeg:https://myrecovery.org/wp-content/uploads/2024/02/Nar-Anon-West-Metro-Hope-For-Recovery-Format-Steps-Topics-Discussion.jpg
LOCATION:https://zoom.us/j/940657043?pwd=djc0NU1kcFUxdWNNZ0djYllQdk1jUT09
END:VEVENT
BEGIN:VEVENT
DTSTART;TZID=UTC:20270211T193000
DTEND;TZID=UTC:20270211T203000
DTSTAMP:20260420T034156
CREATED:20250611T222617Z
LAST-MODIFIED:20250613T171123Z
UID:10015930-1802374200-1802377800@myrecovery.org
SUMMARY:Al-Anon - Quiet Moments - Format: Steps
DESCRIPTION:Steps: Recovery meetings will focus on the 12 steps rotating through a step per week. The Trusted Servant speaks about the step and opens the meeting up for discussion for all attendees. \nCLICK HERE to join the meeting!
URL:https://myrecovery.org/event/al-anon-quiet-moments-format-steps-2/2027-02-11/
CATEGORIES:Al-Anon,Steps
ATTACH;FMTTYPE=image/jpeg:https://myrecovery.org/wp-content/uploads/2024/01/Al-Anon-Quiet-Moments-Format-Steps.jpg
END:VEVENT
BEGIN:VEVENT
DTSTART;TZID=UTC:20270215T180000
DTEND;TZID=UTC:20270215T190000
DTSTAMP:20260420T034156
CREATED:20250611T222336Z
LAST-MODIFIED:20250613T165754Z
UID:10011296-1802714400-1802718000@myrecovery.org
SUMMARY:Al-Anon - Hope For Today - Format: Steps
DESCRIPTION:Steps: Recovery meetings will focus on the 12 steps rotating through a step per week. The Trusted Servant speaks about the step and opens the meeting up for discussion for all attendees. \nCLICK HERE to join the meeting!
URL:https://myrecovery.org/event/al-anon-hope-for-today-format-steps-2/2027-02-15/
CATEGORIES:Al-Anon,Steps
ATTACH;FMTTYPE=image/jpeg:https://myrecovery.org/wp-content/uploads/2024/08/AA-Serenity-Squad-Format-Steps-and-Topic.jpg
LOCATION:https://us06web.zoom.us/j/82926477061
END:VEVENT
BEGIN:VEVENT
DTSTART;TZID=UTC:20270215T190000
DTEND;TZID=UTC:20270215T200000
DTSTAMP:20260420T034156
CREATED:20250611T222134Z
LAST-MODIFIED:20250613T165920Z
UID:10011816-1802718000-1802721600@myrecovery.org
SUMMARY:AA - Complete Defeat AA - Format: Steps and Discussion
DESCRIPTION:Steps: Recovery meetings will focus on the 12 steps rotating through a step per week. The Trusted Servant speaks about the step and opens the meeting up for discussion for all attendees. \nBig Book or Discussion: Recovery meetings center around Big Book topics or pages selected by the Trusted Servant. The Trusted Servant speaks about the Big Book topic or pages selected and opens the meeting up for discussion for all attendees. \nCLICK HERE to join the meeting!
URL:https://myrecovery.org/event/aa-complete-defeat-aa-format-steps-and-discussion-2/2027-02-15/
CATEGORIES:AA,Discussion,Steps
ATTACH;FMTTYPE=image/jpeg:https://myrecovery.org/wp-content/uploads/2024/02/AA-Complete-Defeat-AA-Format-Steps-and-Discussion.jpg
LOCATION:https://zoom.us/j/674001502?pwd=T0VkdjhXc2tkRmZxR0t6ZVpzQWs0dz09
END:VEVENT
BEGIN:VEVENT
DTSTART;TZID=UTC:20270216T183000
DTEND;TZID=UTC:20270216T193000
DTSTAMP:20260420T034156
CREATED:20250611T221846Z
LAST-MODIFIED:20250613T170344Z
UID:10014036-1802802600-1802806200@myrecovery.org
SUMMARY:Al-Anon - Tuesday Night Group B - Format: Steps
DESCRIPTION:Topic: Recovery Meetings center around a topic that is picked out by the Trusted Servant or group conscience. Attendees have the opportunity to share how they relate to the topic. \nCLICK HERE to join the meeting!
URL:https://myrecovery.org/event/al-anon-tuesday-night-group-b-format-steps/2027-02-16/
CATEGORIES:Al-Anon,Steps
ATTACH;FMTTYPE=image/jpeg:https://myrecovery.org/wp-content/uploads/2024/02/Al-Anon-Tuesday-Night-Group-B-Format-Steps.jpg
LOCATION:https://zoom.us/j/94544814618?pwd=WU0yaVdsMmFmMk94UUdZWnJxRWdRUT09
END:VEVENT
BEGIN:VEVENT
DTSTART;TZID=UTC:20270216T190000
DTEND;TZID=UTC:20270216T200000
DTSTAMP:20260420T034156
CREATED:20250611T221826Z
LAST-MODIFIED:20250613T170406Z
UID:10014296-1802804400-1802808000@myrecovery.org
SUMMARY:Al-Anon - Into Action - Format: Steps/Traditions
DESCRIPTION:Steps: Recovery meetings will focus on the 12 steps rotating through a step per week. The Trusted Servant speaks about the step and opens the meeting up for discussion for all attendees. \nTraditions: Recovery Meetings will focus primarily on the 12 traditions.  The Trusted Servant speaks about the selected Tradition and opens the meeting up for discussion for all attendees. \nCLICK HERE to join the meeting!
URL:https://myrecovery.org/event/al-anon-into-action-format-steps-traditions/2027-02-16/
CATEGORIES:Al-Anon,Steps,Traditions
ATTACH;FMTTYPE=image/jpeg:https://myrecovery.org/wp-content/uploads/2024/02/Al-Anon-Into-Action-Format-Steps-Traditions.jpg
LOCATION:https://zoom.us/j/703672043?pwd=NEtBdDNTUzhYc2U1emlMQTNsTFVWZz09
END:VEVENT
BEGIN:VEVENT
DTSTART;TZID=UTC:20270217T183000
DTEND;TZID=UTC:20270217T193000
DTSTAMP:20260420T034156
CREATED:20250613T170637Z
LAST-MODIFIED:20250613T170637Z
UID:10015148-1802889000-1802892600@myrecovery.org
SUMMARY:Nar-Anon - West Metro Hope For Recovery - Format: Steps/Topics Discussion
DESCRIPTION:Steps: Recovery meetings will focus on the 12 steps rotating through a step per week. The Trusted Servant speaks about the step and opens the meeting up for discussion for all attendees. \nTopic: Recovery Meetings center around a topic that is picked out by the Trusted Servant or group conscience. Attendees have the opportunity to share how they relate to the topic. \nBig Book or Discussion: Recovery meetings center around Big Book topics or pages selected by the Trusted Servant. The Trusted Servant speaks about the Big Book topic or pages selected and opens the meeting up for discussion for all attendees. \nCLICK HERE to join the meeting!
URL:https://myrecovery.org/event/nar-anon-west-metro-hope-for-recovery-format-steps-topics-discussion/2027-02-17/
CATEGORIES:Anon,Steps
ATTACH;FMTTYPE=image/jpeg:https://myrecovery.org/wp-content/uploads/2024/02/Nar-Anon-West-Metro-Hope-For-Recovery-Format-Steps-Topics-Discussion.jpg
LOCATION:https://zoom.us/j/940657043?pwd=djc0NU1kcFUxdWNNZ0djYllQdk1jUT09
END:VEVENT
BEGIN:VEVENT
DTSTART;TZID=UTC:20270218T193000
DTEND;TZID=UTC:20270218T203000
DTSTAMP:20260420T034156
CREATED:20250611T222617Z
LAST-MODIFIED:20250613T171123Z
UID:10015931-1802979000-1802982600@myrecovery.org
SUMMARY:Al-Anon - Quiet Moments - Format: Steps
DESCRIPTION:Steps: Recovery meetings will focus on the 12 steps rotating through a step per week. The Trusted Servant speaks about the step and opens the meeting up for discussion for all attendees. \nCLICK HERE to join the meeting!
URL:https://myrecovery.org/event/al-anon-quiet-moments-format-steps-2/2027-02-18/
CATEGORIES:Al-Anon,Steps
ATTACH;FMTTYPE=image/jpeg:https://myrecovery.org/wp-content/uploads/2024/01/Al-Anon-Quiet-Moments-Format-Steps.jpg
END:VEVENT
BEGIN:VEVENT
DTSTART;TZID=UTC:20270222T180000
DTEND;TZID=UTC:20270222T190000
DTSTAMP:20260420T034156
CREATED:20250611T222336Z
LAST-MODIFIED:20250613T165754Z
UID:10011297-1803319200-1803322800@myrecovery.org
SUMMARY:Al-Anon - Hope For Today - Format: Steps
DESCRIPTION:Steps: Recovery meetings will focus on the 12 steps rotating through a step per week. The Trusted Servant speaks about the step and opens the meeting up for discussion for all attendees. \nCLICK HERE to join the meeting!
URL:https://myrecovery.org/event/al-anon-hope-for-today-format-steps-2/2027-02-22/
CATEGORIES:Al-Anon,Steps
ATTACH;FMTTYPE=image/jpeg:https://myrecovery.org/wp-content/uploads/2024/08/AA-Serenity-Squad-Format-Steps-and-Topic.jpg
LOCATION:https://us06web.zoom.us/j/82926477061
END:VEVENT
BEGIN:VEVENT
DTSTART;TZID=UTC:20270222T190000
DTEND;TZID=UTC:20270222T200000
DTSTAMP:20260420T034156
CREATED:20250611T222134Z
LAST-MODIFIED:20250613T165920Z
UID:10011817-1803322800-1803326400@myrecovery.org
SUMMARY:AA - Complete Defeat AA - Format: Steps and Discussion
DESCRIPTION:Steps: Recovery meetings will focus on the 12 steps rotating through a step per week. The Trusted Servant speaks about the step and opens the meeting up for discussion for all attendees. \nBig Book or Discussion: Recovery meetings center around Big Book topics or pages selected by the Trusted Servant. The Trusted Servant speaks about the Big Book topic or pages selected and opens the meeting up for discussion for all attendees. \nCLICK HERE to join the meeting!
URL:https://myrecovery.org/event/aa-complete-defeat-aa-format-steps-and-discussion-2/2027-02-22/
CATEGORIES:AA,Discussion,Steps
ATTACH;FMTTYPE=image/jpeg:https://myrecovery.org/wp-content/uploads/2024/02/AA-Complete-Defeat-AA-Format-Steps-and-Discussion.jpg
LOCATION:https://zoom.us/j/674001502?pwd=T0VkdjhXc2tkRmZxR0t6ZVpzQWs0dz09
END:VEVENT
BEGIN:VEVENT
DTSTART;TZID=UTC:20270223T183000
DTEND;TZID=UTC:20270223T193000
DTSTAMP:20260420T034156
CREATED:20250611T221846Z
LAST-MODIFIED:20250613T170344Z
UID:10014037-1803407400-1803411000@myrecovery.org
SUMMARY:Al-Anon - Tuesday Night Group B - Format: Steps
DESCRIPTION:Topic: Recovery Meetings center around a topic that is picked out by the Trusted Servant or group conscience. Attendees have the opportunity to share how they relate to the topic. \nCLICK HERE to join the meeting!
URL:https://myrecovery.org/event/al-anon-tuesday-night-group-b-format-steps/2027-02-23/
CATEGORIES:Al-Anon,Steps
ATTACH;FMTTYPE=image/jpeg:https://myrecovery.org/wp-content/uploads/2024/02/Al-Anon-Tuesday-Night-Group-B-Format-Steps.jpg
LOCATION:https://zoom.us/j/94544814618?pwd=WU0yaVdsMmFmMk94UUdZWnJxRWdRUT09
END:VEVENT
BEGIN:VEVENT
DTSTART;TZID=UTC:20270223T190000
DTEND;TZID=UTC:20270223T200000
DTSTAMP:20260420T034156
CREATED:20250611T221826Z
LAST-MODIFIED:20250613T170406Z
UID:10014297-1803409200-1803412800@myrecovery.org
SUMMARY:Al-Anon - Into Action - Format: Steps/Traditions
DESCRIPTION:Steps: Recovery meetings will focus on the 12 steps rotating through a step per week. The Trusted Servant speaks about the step and opens the meeting up for discussion for all attendees. \nTraditions: Recovery Meetings will focus primarily on the 12 traditions.  The Trusted Servant speaks about the selected Tradition and opens the meeting up for discussion for all attendees. \nCLICK HERE to join the meeting!
URL:https://myrecovery.org/event/al-anon-into-action-format-steps-traditions/2027-02-23/
CATEGORIES:Al-Anon,Steps,Traditions
ATTACH;FMTTYPE=image/jpeg:https://myrecovery.org/wp-content/uploads/2024/02/Al-Anon-Into-Action-Format-Steps-Traditions.jpg
LOCATION:https://zoom.us/j/703672043?pwd=NEtBdDNTUzhYc2U1emlMQTNsTFVWZz09
END:VEVENT
BEGIN:VEVENT
DTSTART;TZID=UTC:20270224T183000
DTEND;TZID=UTC:20270224T193000
DTSTAMP:20260420T034156
CREATED:20250613T170637Z
LAST-MODIFIED:20250613T170637Z
UID:10015149-1803493800-1803497400@myrecovery.org
SUMMARY:Nar-Anon - West Metro Hope For Recovery - Format: Steps/Topics Discussion
DESCRIPTION:Steps: Recovery meetings will focus on the 12 steps rotating through a step per week. The Trusted Servant speaks about the step and opens the meeting up for discussion for all attendees. \nTopic: Recovery Meetings center around a topic that is picked out by the Trusted Servant or group conscience. Attendees have the opportunity to share how they relate to the topic. \nBig Book or Discussion: Recovery meetings center around Big Book topics or pages selected by the Trusted Servant. The Trusted Servant speaks about the Big Book topic or pages selected and opens the meeting up for discussion for all attendees. \nCLICK HERE to join the meeting!
URL:https://myrecovery.org/event/nar-anon-west-metro-hope-for-recovery-format-steps-topics-discussion/2027-02-24/
CATEGORIES:Anon,Steps
ATTACH;FMTTYPE=image/jpeg:https://myrecovery.org/wp-content/uploads/2024/02/Nar-Anon-West-Metro-Hope-For-Recovery-Format-Steps-Topics-Discussion.jpg
LOCATION:https://zoom.us/j/940657043?pwd=djc0NU1kcFUxdWNNZ0djYllQdk1jUT09
END:VEVENT
BEGIN:VEVENT
DTSTART;TZID=UTC:20270225T193000
DTEND;TZID=UTC:20270225T203000
DTSTAMP:20260420T034156
CREATED:20250611T222617Z
LAST-MODIFIED:20250613T171123Z
UID:10015932-1803583800-1803587400@myrecovery.org
SUMMARY:Al-Anon - Quiet Moments - Format: Steps
DESCRIPTION:Steps: Recovery meetings will focus on the 12 steps rotating through a step per week. The Trusted Servant speaks about the step and opens the meeting up for discussion for all attendees. \nCLICK HERE to join the meeting!
URL:https://myrecovery.org/event/al-anon-quiet-moments-format-steps-2/2027-02-25/
CATEGORIES:Al-Anon,Steps
ATTACH;FMTTYPE=image/jpeg:https://myrecovery.org/wp-content/uploads/2024/01/Al-Anon-Quiet-Moments-Format-Steps.jpg
END:VEVENT
BEGIN:VEVENT
DTSTART;TZID=UTC:20270301T180000
DTEND;TZID=UTC:20270301T190000
DTSTAMP:20260420T034156
CREATED:20250611T222336Z
LAST-MODIFIED:20250613T165754Z
UID:10011298-1803924000-1803927600@myrecovery.org
SUMMARY:Al-Anon - Hope For Today - Format: Steps
DESCRIPTION:Steps: Recovery meetings will focus on the 12 steps rotating through a step per week. The Trusted Servant speaks about the step and opens the meeting up for discussion for all attendees. \nCLICK HERE to join the meeting!
URL:https://myrecovery.org/event/al-anon-hope-for-today-format-steps-2/2027-03-01/
CATEGORIES:Al-Anon,Steps
ATTACH;FMTTYPE=image/jpeg:https://myrecovery.org/wp-content/uploads/2024/08/AA-Serenity-Squad-Format-Steps-and-Topic.jpg
LOCATION:https://us06web.zoom.us/j/82926477061
END:VEVENT
BEGIN:VEVENT
DTSTART;TZID=UTC:20270301T190000
DTEND;TZID=UTC:20270301T200000
DTSTAMP:20260420T034156
CREATED:20250611T222134Z
LAST-MODIFIED:20250613T165920Z
UID:10011818-1803927600-1803931200@myrecovery.org
SUMMARY:AA - Complete Defeat AA - Format: Steps and Discussion
DESCRIPTION:Steps: Recovery meetings will focus on the 12 steps rotating through a step per week. The Trusted Servant speaks about the step and opens the meeting up for discussion for all attendees. \nBig Book or Discussion: Recovery meetings center around Big Book topics or pages selected by the Trusted Servant. The Trusted Servant speaks about the Big Book topic or pages selected and opens the meeting up for discussion for all attendees. \nCLICK HERE to join the meeting!
URL:https://myrecovery.org/event/aa-complete-defeat-aa-format-steps-and-discussion-2/2027-03-01/
CATEGORIES:AA,Discussion,Steps
ATTACH;FMTTYPE=image/jpeg:https://myrecovery.org/wp-content/uploads/2024/02/AA-Complete-Defeat-AA-Format-Steps-and-Discussion.jpg
LOCATION:https://zoom.us/j/674001502?pwd=T0VkdjhXc2tkRmZxR0t6ZVpzQWs0dz09
END:VEVENT
BEGIN:VEVENT
DTSTART;TZID=UTC:20270302T183000
DTEND;TZID=UTC:20270302T193000
DTSTAMP:20260420T034156
CREATED:20250611T221846Z
LAST-MODIFIED:20250613T170344Z
UID:10014038-1804012200-1804015800@myrecovery.org
SUMMARY:Al-Anon - Tuesday Night Group B - Format: Steps
DESCRIPTION:Topic: Recovery Meetings center around a topic that is picked out by the Trusted Servant or group conscience. Attendees have the opportunity to share how they relate to the topic. \nCLICK HERE to join the meeting!
URL:https://myrecovery.org/event/al-anon-tuesday-night-group-b-format-steps/2027-03-02/
CATEGORIES:Al-Anon,Steps
ATTACH;FMTTYPE=image/jpeg:https://myrecovery.org/wp-content/uploads/2024/02/Al-Anon-Tuesday-Night-Group-B-Format-Steps.jpg
LOCATION:https://zoom.us/j/94544814618?pwd=WU0yaVdsMmFmMk94UUdZWnJxRWdRUT09
END:VEVENT
BEGIN:VEVENT
DTSTART;TZID=UTC:20270302T190000
DTEND;TZID=UTC:20270302T200000
DTSTAMP:20260420T034156
CREATED:20250611T221826Z
LAST-MODIFIED:20250613T170406Z
UID:10014298-1804014000-1804017600@myrecovery.org
SUMMARY:Al-Anon - Into Action - Format: Steps/Traditions
DESCRIPTION:Steps: Recovery meetings will focus on the 12 steps rotating through a step per week. The Trusted Servant speaks about the step and opens the meeting up for discussion for all attendees. \nTraditions: Recovery Meetings will focus primarily on the 12 traditions.  The Trusted Servant speaks about the selected Tradition and opens the meeting up for discussion for all attendees. \nCLICK HERE to join the meeting!
URL:https://myrecovery.org/event/al-anon-into-action-format-steps-traditions/2027-03-02/
CATEGORIES:Al-Anon,Steps,Traditions
ATTACH;FMTTYPE=image/jpeg:https://myrecovery.org/wp-content/uploads/2024/02/Al-Anon-Into-Action-Format-Steps-Traditions.jpg
LOCATION:https://zoom.us/j/703672043?pwd=NEtBdDNTUzhYc2U1emlMQTNsTFVWZz09
END:VEVENT
BEGIN:VEVENT
DTSTART;TZID=UTC:20270303T183000
DTEND;TZID=UTC:20270303T193000
DTSTAMP:20260420T034156
CREATED:20250613T170637Z
LAST-MODIFIED:20250613T170637Z
UID:10015150-1804098600-1804102200@myrecovery.org
SUMMARY:Nar-Anon - West Metro Hope For Recovery - Format: Steps/Topics Discussion
DESCRIPTION:Steps: Recovery meetings will focus on the 12 steps rotating through a step per week. The Trusted Servant speaks about the step and opens the meeting up for discussion for all attendees. \nTopic: Recovery Meetings center around a topic that is picked out by the Trusted Servant or group conscience. Attendees have the opportunity to share how they relate to the topic. \nBig Book or Discussion: Recovery meetings center around Big Book topics or pages selected by the Trusted Servant. The Trusted Servant speaks about the Big Book topic or pages selected and opens the meeting up for discussion for all attendees. \nCLICK HERE to join the meeting!
URL:https://myrecovery.org/event/nar-anon-west-metro-hope-for-recovery-format-steps-topics-discussion/2027-03-03/
CATEGORIES:Anon,Steps
ATTACH;FMTTYPE=image/jpeg:https://myrecovery.org/wp-content/uploads/2024/02/Nar-Anon-West-Metro-Hope-For-Recovery-Format-Steps-Topics-Discussion.jpg
LOCATION:https://zoom.us/j/940657043?pwd=djc0NU1kcFUxdWNNZ0djYllQdk1jUT09
END:VEVENT
BEGIN:VEVENT
DTSTART;TZID=UTC:20270304T193000
DTEND;TZID=UTC:20270304T203000
DTSTAMP:20260420T034156
CREATED:20250611T222617Z
LAST-MODIFIED:20250613T171123Z
UID:10015933-1804188600-1804192200@myrecovery.org
SUMMARY:Al-Anon - Quiet Moments - Format: Steps
DESCRIPTION:Steps: Recovery meetings will focus on the 12 steps rotating through a step per week. The Trusted Servant speaks about the step and opens the meeting up for discussion for all attendees. \nCLICK HERE to join the meeting!
URL:https://myrecovery.org/event/al-anon-quiet-moments-format-steps-2/2027-03-04/
CATEGORIES:Al-Anon,Steps
ATTACH;FMTTYPE=image/jpeg:https://myrecovery.org/wp-content/uploads/2024/01/Al-Anon-Quiet-Moments-Format-Steps.jpg
END:VEVENT
BEGIN:VEVENT
DTSTART;TZID=UTC:20270308T180000
DTEND;TZID=UTC:20270308T190000
DTSTAMP:20260420T034156
CREATED:20250611T222336Z
LAST-MODIFIED:20250613T165754Z
UID:10011299-1804528800-1804532400@myrecovery.org
SUMMARY:Al-Anon - Hope For Today - Format: Steps
DESCRIPTION:Steps: Recovery meetings will focus on the 12 steps rotating through a step per week. The Trusted Servant speaks about the step and opens the meeting up for discussion for all attendees. \nCLICK HERE to join the meeting!
URL:https://myrecovery.org/event/al-anon-hope-for-today-format-steps-2/2027-03-08/
CATEGORIES:Al-Anon,Steps
ATTACH;FMTTYPE=image/jpeg:https://myrecovery.org/wp-content/uploads/2024/08/AA-Serenity-Squad-Format-Steps-and-Topic.jpg
LOCATION:https://us06web.zoom.us/j/82926477061
END:VEVENT
BEGIN:VEVENT
DTSTART;TZID=UTC:20270308T190000
DTEND;TZID=UTC:20270308T200000
DTSTAMP:20260420T034156
CREATED:20250611T222134Z
LAST-MODIFIED:20250613T165920Z
UID:10011819-1804532400-1804536000@myrecovery.org
SUMMARY:AA - Complete Defeat AA - Format: Steps and Discussion
DESCRIPTION:Steps: Recovery meetings will focus on the 12 steps rotating through a step per week. The Trusted Servant speaks about the step and opens the meeting up for discussion for all attendees. \nBig Book or Discussion: Recovery meetings center around Big Book topics or pages selected by the Trusted Servant. The Trusted Servant speaks about the Big Book topic or pages selected and opens the meeting up for discussion for all attendees. \nCLICK HERE to join the meeting!
URL:https://myrecovery.org/event/aa-complete-defeat-aa-format-steps-and-discussion-2/2027-03-08/
CATEGORIES:AA,Discussion,Steps
ATTACH;FMTTYPE=image/jpeg:https://myrecovery.org/wp-content/uploads/2024/02/AA-Complete-Defeat-AA-Format-Steps-and-Discussion.jpg
LOCATION:https://zoom.us/j/674001502?pwd=T0VkdjhXc2tkRmZxR0t6ZVpzQWs0dz09
END:VEVENT
BEGIN:VEVENT
DTSTART;TZID=UTC:20270309T183000
DTEND;TZID=UTC:20270309T193000
DTSTAMP:20260420T034156
CREATED:20250611T221846Z
LAST-MODIFIED:20250613T170344Z
UID:10014039-1804617000-1804620600@myrecovery.org
SUMMARY:Al-Anon - Tuesday Night Group B - Format: Steps
DESCRIPTION:Topic: Recovery Meetings center around a topic that is picked out by the Trusted Servant or group conscience. Attendees have the opportunity to share how they relate to the topic. \nCLICK HERE to join the meeting!
URL:https://myrecovery.org/event/al-anon-tuesday-night-group-b-format-steps/2027-03-09/
CATEGORIES:Al-Anon,Steps
ATTACH;FMTTYPE=image/jpeg:https://myrecovery.org/wp-content/uploads/2024/02/Al-Anon-Tuesday-Night-Group-B-Format-Steps.jpg
LOCATION:https://zoom.us/j/94544814618?pwd=WU0yaVdsMmFmMk94UUdZWnJxRWdRUT09
END:VEVENT
BEGIN:VEVENT
DTSTART;TZID=UTC:20270309T190000
DTEND;TZID=UTC:20270309T200000
DTSTAMP:20260420T034156
CREATED:20250611T221826Z
LAST-MODIFIED:20250613T170406Z
UID:10014299-1804618800-1804622400@myrecovery.org
SUMMARY:Al-Anon - Into Action - Format: Steps/Traditions
DESCRIPTION:Steps: Recovery meetings will focus on the 12 steps rotating through a step per week. The Trusted Servant speaks about the step and opens the meeting up for discussion for all attendees. \nTraditions: Recovery Meetings will focus primarily on the 12 traditions.  The Trusted Servant speaks about the selected Tradition and opens the meeting up for discussion for all attendees. \nCLICK HERE to join the meeting!
URL:https://myrecovery.org/event/al-anon-into-action-format-steps-traditions/2027-03-09/
CATEGORIES:Al-Anon,Steps,Traditions
ATTACH;FMTTYPE=image/jpeg:https://myrecovery.org/wp-content/uploads/2024/02/Al-Anon-Into-Action-Format-Steps-Traditions.jpg
LOCATION:https://zoom.us/j/703672043?pwd=NEtBdDNTUzhYc2U1emlMQTNsTFVWZz09
END:VEVENT
BEGIN:VEVENT
DTSTART;TZID=UTC:20270310T183000
DTEND;TZID=UTC:20270310T193000
DTSTAMP:20260420T034156
CREATED:20250613T170637Z
LAST-MODIFIED:20250613T170637Z
UID:10015151-1804703400-1804707000@myrecovery.org
SUMMARY:Nar-Anon - West Metro Hope For Recovery - Format: Steps/Topics Discussion
DESCRIPTION:Steps: Recovery meetings will focus on the 12 steps rotating through a step per week. The Trusted Servant speaks about the step and opens the meeting up for discussion for all attendees. \nTopic: Recovery Meetings center around a topic that is picked out by the Trusted Servant or group conscience. Attendees have the opportunity to share how they relate to the topic. \nBig Book or Discussion: Recovery meetings center around Big Book topics or pages selected by the Trusted Servant. The Trusted Servant speaks about the Big Book topic or pages selected and opens the meeting up for discussion for all attendees. \nCLICK HERE to join the meeting!
URL:https://myrecovery.org/event/nar-anon-west-metro-hope-for-recovery-format-steps-topics-discussion/2027-03-10/
CATEGORIES:Anon,Steps
ATTACH;FMTTYPE=image/jpeg:https://myrecovery.org/wp-content/uploads/2024/02/Nar-Anon-West-Metro-Hope-For-Recovery-Format-Steps-Topics-Discussion.jpg
LOCATION:https://zoom.us/j/940657043?pwd=djc0NU1kcFUxdWNNZ0djYllQdk1jUT09
END:VEVENT
BEGIN:VEVENT
DTSTART;TZID=UTC:20270311T193000
DTEND;TZID=UTC:20270311T203000
DTSTAMP:20260420T034156
CREATED:20250611T222617Z
LAST-MODIFIED:20250613T171123Z
UID:10015934-1804793400-1804797000@myrecovery.org
SUMMARY:Al-Anon - Quiet Moments - Format: Steps
DESCRIPTION:Steps: Recovery meetings will focus on the 12 steps rotating through a step per week. The Trusted Servant speaks about the step and opens the meeting up for discussion for all attendees. \nCLICK HERE to join the meeting!
URL:https://myrecovery.org/event/al-anon-quiet-moments-format-steps-2/2027-03-11/
CATEGORIES:Al-Anon,Steps
ATTACH;FMTTYPE=image/jpeg:https://myrecovery.org/wp-content/uploads/2024/01/Al-Anon-Quiet-Moments-Format-Steps.jpg
END:VEVENT
END:VCALENDAR