BEGIN:VCALENDAR
VERSION:2.0
PRODID:-//My Recovery - ECPv6.15.17//NONSGML v1.0//EN
CALSCALE:GREGORIAN
METHOD:PUBLISH
X-WR-CALNAME:My Recovery
X-ORIGINAL-URL:https://myrecovery.org
X-WR-CALDESC:Events for My Recovery
REFRESH-INTERVAL;VALUE=DURATION:PT1H
X-Robots-Tag:noindex
X-PUBLISHED-TTL:PT1H
BEGIN:VTIMEZONE
TZID:UTC
BEGIN:STANDARD
TZOFFSETFROM:+0000
TZOFFSETTO:+0000
TZNAME:UTC
DTSTART:20260101T000000
END:STANDARD
END:VTIMEZONE
BEGIN:VEVENT
DTSTART;TZID=UTC:20270104T183000
DTEND;TZID=UTC:20270104T193000
DTSTAMP:20260424T111914
CREATED:20250611T222145Z
LAST-MODIFIED:20250613T165844Z
UID:10011550-1799087400-1799091000@myrecovery.org
SUMMARY:OA (Overeaters Anonymous) - Robbinsdale - Format: Discussion
DESCRIPTION:Discussion: Recovery meetings center around Big Book topics or pages selected by the Trusted Servant. The Trusted Servant speaks about the Big Book topic or pages selected and opens the meeting up for discussion for all attendees. \nCLICK HERE to join the meeting!
URL:https://myrecovery.org/event/oa-overeaters-anonymous-robbinsdale-format-discussion/2027-01-04/
CATEGORIES:Discussion,OA
ATTACH;FMTTYPE=image/jpeg:https://myrecovery.org/wp-content/uploads/2024/02/OA-Overeaters-Anonymous-Robbinsdale-Format-Discussion.jpg
LOCATION:https://us02web.zoom.us/j/75795366633?pwd=eVNWcUZSandoR0Y1QXJ6c1h2TFl3Zz09
END:VEVENT
BEGIN:VEVENT
DTSTART;TZID=UTC:20270111T183000
DTEND;TZID=UTC:20270111T193000
DTSTAMP:20260424T111914
CREATED:20250611T222145Z
LAST-MODIFIED:20250613T165844Z
UID:10011551-1799692200-1799695800@myrecovery.org
SUMMARY:OA (Overeaters Anonymous) - Robbinsdale - Format: Discussion
DESCRIPTION:Discussion: Recovery meetings center around Big Book topics or pages selected by the Trusted Servant. The Trusted Servant speaks about the Big Book topic or pages selected and opens the meeting up for discussion for all attendees. \nCLICK HERE to join the meeting!
URL:https://myrecovery.org/event/oa-overeaters-anonymous-robbinsdale-format-discussion/2027-01-11/
CATEGORIES:Discussion,OA
ATTACH;FMTTYPE=image/jpeg:https://myrecovery.org/wp-content/uploads/2024/02/OA-Overeaters-Anonymous-Robbinsdale-Format-Discussion.jpg
LOCATION:https://us02web.zoom.us/j/75795366633?pwd=eVNWcUZSandoR0Y1QXJ6c1h2TFl3Zz09
END:VEVENT
BEGIN:VEVENT
DTSTART;TZID=UTC:20270118T183000
DTEND;TZID=UTC:20270118T193000
DTSTAMP:20260424T111914
CREATED:20250611T222145Z
LAST-MODIFIED:20250613T165844Z
UID:10011552-1800297000-1800300600@myrecovery.org
SUMMARY:OA (Overeaters Anonymous) - Robbinsdale - Format: Discussion
DESCRIPTION:Discussion: Recovery meetings center around Big Book topics or pages selected by the Trusted Servant. The Trusted Servant speaks about the Big Book topic or pages selected and opens the meeting up for discussion for all attendees. \nCLICK HERE to join the meeting!
URL:https://myrecovery.org/event/oa-overeaters-anonymous-robbinsdale-format-discussion/2027-01-18/
CATEGORIES:Discussion,OA
ATTACH;FMTTYPE=image/jpeg:https://myrecovery.org/wp-content/uploads/2024/02/OA-Overeaters-Anonymous-Robbinsdale-Format-Discussion.jpg
LOCATION:https://us02web.zoom.us/j/75795366633?pwd=eVNWcUZSandoR0Y1QXJ6c1h2TFl3Zz09
END:VEVENT
BEGIN:VEVENT
DTSTART;TZID=UTC:20270125T183000
DTEND;TZID=UTC:20270125T193000
DTSTAMP:20260424T111914
CREATED:20250611T222145Z
LAST-MODIFIED:20250613T165844Z
UID:10011553-1800901800-1800905400@myrecovery.org
SUMMARY:OA (Overeaters Anonymous) - Robbinsdale - Format: Discussion
DESCRIPTION:Discussion: Recovery meetings center around Big Book topics or pages selected by the Trusted Servant. The Trusted Servant speaks about the Big Book topic or pages selected and opens the meeting up for discussion for all attendees. \nCLICK HERE to join the meeting!
URL:https://myrecovery.org/event/oa-overeaters-anonymous-robbinsdale-format-discussion/2027-01-25/
CATEGORIES:Discussion,OA
ATTACH;FMTTYPE=image/jpeg:https://myrecovery.org/wp-content/uploads/2024/02/OA-Overeaters-Anonymous-Robbinsdale-Format-Discussion.jpg
LOCATION:https://us02web.zoom.us/j/75795366633?pwd=eVNWcUZSandoR0Y1QXJ6c1h2TFl3Zz09
END:VEVENT
END:VCALENDAR