BEGIN:VCALENDAR
VERSION:2.0
PRODID:-//My Recovery - ECPv6.15.17//NONSGML v1.0//EN
CALSCALE:GREGORIAN
METHOD:PUBLISH
X-WR-CALNAME:My Recovery
X-ORIGINAL-URL:https://myrecovery.org
X-WR-CALDESC:Events for My Recovery
REFRESH-INTERVAL;VALUE=DURATION:PT1H
X-Robots-Tag:noindex
X-PUBLISHED-TTL:PT1H
BEGIN:VTIMEZONE
TZID:UTC
BEGIN:STANDARD
TZOFFSETFROM:+0000
TZOFFSETTO:+0000
TZNAME:UTC
DTSTART:20240101T000000
END:STANDARD
END:VTIMEZONE
BEGIN:VEVENT
DTSTART;TZID=UTC:20250901T180000
DTEND;TZID=UTC:20250901T200000
DTSTAMP:20260421T062537
CREATED:20250611T222150Z
LAST-MODIFIED:20250613T165711Z
UID:10010960-1756749600-1756756800@myrecovery.org
SUMMARY:AA - Summit Hill (House of Hope) - Format: Steps
DESCRIPTION:Steps: Recovery meetings will focus on the 12 steps rotating through a step per week. The Trusted Servant speaks about the step and opens the meeting up for discussion for all attendees. \nCLICK HERE to join the meeting!
URL:https://myrecovery.org/event/aa-summit-hill-house-of-hope-format-steps-3/2025-09-01/
CATEGORIES:AA,Steps
ATTACH;FMTTYPE=image/jpeg:https://myrecovery.org/wp-content/uploads/2024/02/AA-Summit-Hill-House-of-Hope-Format-Steps.jpg
LOCATION:https://zoom.us/j/556482520?pwd=ak1lUU83b0hVRDhiT2QrMDA1YUNodz09
END:VEVENT
BEGIN:VEVENT
DTSTART;TZID=UTC:20250908T180000
DTEND;TZID=UTC:20250908T200000
DTSTAMP:20260421T062537
CREATED:20250611T222150Z
LAST-MODIFIED:20250613T165711Z
UID:10010961-1757354400-1757361600@myrecovery.org
SUMMARY:AA - Summit Hill (House of Hope) - Format: Steps
DESCRIPTION:Steps: Recovery meetings will focus on the 12 steps rotating through a step per week. The Trusted Servant speaks about the step and opens the meeting up for discussion for all attendees. \nCLICK HERE to join the meeting!
URL:https://myrecovery.org/event/aa-summit-hill-house-of-hope-format-steps-3/2025-09-08/
CATEGORIES:AA,Steps
ATTACH;FMTTYPE=image/jpeg:https://myrecovery.org/wp-content/uploads/2024/02/AA-Summit-Hill-House-of-Hope-Format-Steps.jpg
LOCATION:https://zoom.us/j/556482520?pwd=ak1lUU83b0hVRDhiT2QrMDA1YUNodz09
END:VEVENT
BEGIN:VEVENT
DTSTART;TZID=UTC:20250915T180000
DTEND;TZID=UTC:20250915T200000
DTSTAMP:20260421T062537
CREATED:20250611T222150Z
LAST-MODIFIED:20250613T165711Z
UID:10010962-1757959200-1757966400@myrecovery.org
SUMMARY:AA - Summit Hill (House of Hope) - Format: Steps
DESCRIPTION:Steps: Recovery meetings will focus on the 12 steps rotating through a step per week. The Trusted Servant speaks about the step and opens the meeting up for discussion for all attendees. \nCLICK HERE to join the meeting!
URL:https://myrecovery.org/event/aa-summit-hill-house-of-hope-format-steps-3/2025-09-15/
CATEGORIES:AA,Steps
ATTACH;FMTTYPE=image/jpeg:https://myrecovery.org/wp-content/uploads/2024/02/AA-Summit-Hill-House-of-Hope-Format-Steps.jpg
LOCATION:https://zoom.us/j/556482520?pwd=ak1lUU83b0hVRDhiT2QrMDA1YUNodz09
END:VEVENT
BEGIN:VEVENT
DTSTART;TZID=UTC:20250922T180000
DTEND;TZID=UTC:20250922T200000
DTSTAMP:20260421T062537
CREATED:20250611T222150Z
LAST-MODIFIED:20250613T165711Z
UID:10010963-1758564000-1758571200@myrecovery.org
SUMMARY:AA - Summit Hill (House of Hope) - Format: Steps
DESCRIPTION:Steps: Recovery meetings will focus on the 12 steps rotating through a step per week. The Trusted Servant speaks about the step and opens the meeting up for discussion for all attendees. \nCLICK HERE to join the meeting!
URL:https://myrecovery.org/event/aa-summit-hill-house-of-hope-format-steps-3/2025-09-22/
CATEGORIES:AA,Steps
ATTACH;FMTTYPE=image/jpeg:https://myrecovery.org/wp-content/uploads/2024/02/AA-Summit-Hill-House-of-Hope-Format-Steps.jpg
LOCATION:https://zoom.us/j/556482520?pwd=ak1lUU83b0hVRDhiT2QrMDA1YUNodz09
END:VEVENT
BEGIN:VEVENT
DTSTART;TZID=UTC:20250929T180000
DTEND;TZID=UTC:20250929T200000
DTSTAMP:20260421T062537
CREATED:20250611T222150Z
LAST-MODIFIED:20250613T165711Z
UID:10010964-1759168800-1759176000@myrecovery.org
SUMMARY:AA - Summit Hill (House of Hope) - Format: Steps
DESCRIPTION:Steps: Recovery meetings will focus on the 12 steps rotating through a step per week. The Trusted Servant speaks about the step and opens the meeting up for discussion for all attendees. \nCLICK HERE to join the meeting!
URL:https://myrecovery.org/event/aa-summit-hill-house-of-hope-format-steps-3/2025-09-29/
CATEGORIES:AA,Steps
ATTACH;FMTTYPE=image/jpeg:https://myrecovery.org/wp-content/uploads/2024/02/AA-Summit-Hill-House-of-Hope-Format-Steps.jpg
LOCATION:https://zoom.us/j/556482520?pwd=ak1lUU83b0hVRDhiT2QrMDA1YUNodz09
END:VEVENT
END:VCALENDAR