BEGIN:VCALENDAR
VERSION:2.0
PRODID:-//My Recovery - ECPv6.15.17//NONSGML v1.0//EN
CALSCALE:GREGORIAN
METHOD:PUBLISH
X-WR-CALNAME:My Recovery
X-ORIGINAL-URL:https://myrecovery.org
X-WR-CALDESC:Events for My Recovery
REFRESH-INTERVAL;VALUE=DURATION:PT1H
X-Robots-Tag:noindex
X-PUBLISHED-TTL:PT1H
BEGIN:VTIMEZONE
TZID:UTC
BEGIN:STANDARD
TZOFFSETFROM:+0000
TZOFFSETTO:+0000
TZNAME:UTC
DTSTART:20250101T000000
END:STANDARD
END:VTIMEZONE
BEGIN:VEVENT
DTSTART;TZID=UTC:20260810T183000
DTEND;TZID=UTC:20260810T193000
DTSTAMP:20260421T184352
CREATED:20250611T222145Z
LAST-MODIFIED:20250613T165844Z
UID:10011529-1786386600-1786390200@myrecovery.org
SUMMARY:OA (Overeaters Anonymous) - Robbinsdale - Format: Discussion
DESCRIPTION:Discussion: Recovery meetings center around Big Book topics or pages selected by the Trusted Servant. The Trusted Servant speaks about the Big Book topic or pages selected and opens the meeting up for discussion for all attendees. \nCLICK HERE to join the meeting!
URL:https://myrecovery.org/event/oa-overeaters-anonymous-robbinsdale-format-discussion/2026-08-10/
CATEGORIES:Discussion,OA
ATTACH;FMTTYPE=image/jpeg:https://myrecovery.org/wp-content/uploads/2024/02/OA-Overeaters-Anonymous-Robbinsdale-Format-Discussion.jpg
LOCATION:https://us02web.zoom.us/j/75795366633?pwd=eVNWcUZSandoR0Y1QXJ6c1h2TFl3Zz09
END:VEVENT
BEGIN:VEVENT
DTSTART;TZID=UTC:20260810T190000
DTEND;TZID=UTC:20260810T200000
DTSTAMP:20260421T184352
CREATED:20250611T222134Z
LAST-MODIFIED:20250613T165920Z
UID:10011789-1786388400-1786392000@myrecovery.org
SUMMARY:AA - Complete Defeat AA - Format: Steps and Discussion
DESCRIPTION:Steps: Recovery meetings will focus on the 12 steps rotating through a step per week. The Trusted Servant speaks about the step and opens the meeting up for discussion for all attendees. \nBig Book or Discussion: Recovery meetings center around Big Book topics or pages selected by the Trusted Servant. The Trusted Servant speaks about the Big Book topic or pages selected and opens the meeting up for discussion for all attendees. \nCLICK HERE to join the meeting!
URL:https://myrecovery.org/event/aa-complete-defeat-aa-format-steps-and-discussion-2/2026-08-10/
CATEGORIES:AA,Discussion,Steps
ATTACH;FMTTYPE=image/jpeg:https://myrecovery.org/wp-content/uploads/2024/02/AA-Complete-Defeat-AA-Format-Steps-and-Discussion.jpg
LOCATION:https://zoom.us/j/674001502?pwd=T0VkdjhXc2tkRmZxR0t6ZVpzQWs0dz09
END:VEVENT
BEGIN:VEVENT
DTSTART;TZID=UTC:20260810T200000
DTEND;TZID=UTC:20260810T210000
DTSTAMP:20260421T184352
CREATED:20250611T222129Z
LAST-MODIFIED:20250613T170851Z
UID:10012309-1786392000-1786395600@myrecovery.org
SUMMARY:The Retreat Alumni and Friends Meeting - Discussion
DESCRIPTION:Discussion: Recovery meetings center around Big Book topics or pages selected by the Trusted Servant. The Trusted Servant speaks about the Big Book topic or pages selected and opens the meeting up for discussion for all attendees. \nCLICK HERE to join the meeting!
URL:https://myrecovery.org/event/the-retreat-alumni-and-friends-meeting-discussion/2026-08-10/
CATEGORIES:Discussion,The Retreat
ATTACH;FMTTYPE=image/jpeg:https://myrecovery.org/wp-content/uploads/2024/02/The-Retreat-Alumni-and-Friends-Meeting-Discussion.jpg
LOCATION:https://us06web.zoom.us/j/81481719413?pwd=THBRSkdFQkhLNTBmb1JoaDQ0UFF1QT09
END:VEVENT
BEGIN:VEVENT
DTSTART;TZID=UTC:20260812T110000
DTEND;TZID=UTC:20260812T120000
DTSTAMP:20260421T184352
CREATED:20250611T221802Z
LAST-MODIFIED:20250613T170535Z
UID:10010459-1786532400-1786536000@myrecovery.org
SUMMARY:AA - Artists In Recovery - Format: Discussion
DESCRIPTION:Discussion: Recovery meetings center around Big Book topics or pages selected by the Trusted Servant. The Trusted Servant speaks about the Big Book topic or pages selected and opens the meeting up for discussion for all attendees. \nCLICK HERE to join the meeting!
URL:https://myrecovery.org/event/aa-artists-in-recovery-format-discussion/2026-08-12/
CATEGORIES:AA,Discussion
ATTACH;FMTTYPE=image/jpeg:https://myrecovery.org/wp-content/uploads/2024/09/AA-Artists-In-Recovery-Format-Discussion-1.jpg
LOCATION:https://zoom.us/j/958586357?pwd=QVRxWUo4VlRnd05JY0ZWT0VZRk1IZz09
END:VEVENT
BEGIN:VEVENT
DTSTART;TZID=UTC:20260812T220000
DTEND;TZID=UTC:20260812T230000
DTSTAMP:20260421T184352
CREATED:20250611T222622Z
LAST-MODIFIED:20250613T170917Z
UID:10015643-1786572000-1786575600@myrecovery.org
SUMMARY:AA - Sober Stogies - Format: Discussion
DESCRIPTION:Big Book or Discussion: Recovery meetings center around Big Book topics or pages selected by the Trusted Servant. The Trusted Servant speaks about the Big Book topic or pages selected and opens the meeting up for discussion for all attendees. \nCLICK HERE to join the meeting!
URL:https://myrecovery.org/event/aa-sober-stogies-format-discussion/2026-08-12/
CATEGORIES:AA,Discussion
ATTACH;FMTTYPE=image/jpeg:https://myrecovery.org/wp-content/uploads/2024/02/AA-Sober-Stogies-Format-Discussion.jpg
LOCATION:https://zoom.us/j/440227720
END:VEVENT
BEGIN:VEVENT
DTSTART;TZID=UTC:20260817T183000
DTEND;TZID=UTC:20260817T193000
DTSTAMP:20260421T184352
CREATED:20250611T222145Z
LAST-MODIFIED:20250613T165844Z
UID:10011530-1786991400-1786995000@myrecovery.org
SUMMARY:OA (Overeaters Anonymous) - Robbinsdale - Format: Discussion
DESCRIPTION:Discussion: Recovery meetings center around Big Book topics or pages selected by the Trusted Servant. The Trusted Servant speaks about the Big Book topic or pages selected and opens the meeting up for discussion for all attendees. \nCLICK HERE to join the meeting!
URL:https://myrecovery.org/event/oa-overeaters-anonymous-robbinsdale-format-discussion/2026-08-17/
CATEGORIES:Discussion,OA
ATTACH;FMTTYPE=image/jpeg:https://myrecovery.org/wp-content/uploads/2024/02/OA-Overeaters-Anonymous-Robbinsdale-Format-Discussion.jpg
LOCATION:https://us02web.zoom.us/j/75795366633?pwd=eVNWcUZSandoR0Y1QXJ6c1h2TFl3Zz09
END:VEVENT
BEGIN:VEVENT
DTSTART;TZID=UTC:20260817T190000
DTEND;TZID=UTC:20260817T200000
DTSTAMP:20260421T184352
CREATED:20250611T222134Z
LAST-MODIFIED:20250613T165920Z
UID:10011790-1786993200-1786996800@myrecovery.org
SUMMARY:AA - Complete Defeat AA - Format: Steps and Discussion
DESCRIPTION:Steps: Recovery meetings will focus on the 12 steps rotating through a step per week. The Trusted Servant speaks about the step and opens the meeting up for discussion for all attendees. \nBig Book or Discussion: Recovery meetings center around Big Book topics or pages selected by the Trusted Servant. The Trusted Servant speaks about the Big Book topic or pages selected and opens the meeting up for discussion for all attendees. \nCLICK HERE to join the meeting!
URL:https://myrecovery.org/event/aa-complete-defeat-aa-format-steps-and-discussion-2/2026-08-17/
CATEGORIES:AA,Discussion,Steps
ATTACH;FMTTYPE=image/jpeg:https://myrecovery.org/wp-content/uploads/2024/02/AA-Complete-Defeat-AA-Format-Steps-and-Discussion.jpg
LOCATION:https://zoom.us/j/674001502?pwd=T0VkdjhXc2tkRmZxR0t6ZVpzQWs0dz09
END:VEVENT
BEGIN:VEVENT
DTSTART;TZID=UTC:20260817T200000
DTEND;TZID=UTC:20260817T210000
DTSTAMP:20260421T184352
CREATED:20250611T222129Z
LAST-MODIFIED:20250613T170851Z
UID:10012310-1786996800-1787000400@myrecovery.org
SUMMARY:The Retreat Alumni and Friends Meeting - Discussion
DESCRIPTION:Discussion: Recovery meetings center around Big Book topics or pages selected by the Trusted Servant. The Trusted Servant speaks about the Big Book topic or pages selected and opens the meeting up for discussion for all attendees. \nCLICK HERE to join the meeting!
URL:https://myrecovery.org/event/the-retreat-alumni-and-friends-meeting-discussion/2026-08-17/
CATEGORIES:Discussion,The Retreat
ATTACH;FMTTYPE=image/jpeg:https://myrecovery.org/wp-content/uploads/2024/02/The-Retreat-Alumni-and-Friends-Meeting-Discussion.jpg
LOCATION:https://us06web.zoom.us/j/81481719413?pwd=THBRSkdFQkhLNTBmb1JoaDQ0UFF1QT09
END:VEVENT
BEGIN:VEVENT
DTSTART;TZID=UTC:20260819T110000
DTEND;TZID=UTC:20260819T120000
DTSTAMP:20260421T184352
CREATED:20250611T221802Z
LAST-MODIFIED:20250613T170535Z
UID:10010460-1787137200-1787140800@myrecovery.org
SUMMARY:AA - Artists In Recovery - Format: Discussion
DESCRIPTION:Discussion: Recovery meetings center around Big Book topics or pages selected by the Trusted Servant. The Trusted Servant speaks about the Big Book topic or pages selected and opens the meeting up for discussion for all attendees. \nCLICK HERE to join the meeting!
URL:https://myrecovery.org/event/aa-artists-in-recovery-format-discussion/2026-08-19/
CATEGORIES:AA,Discussion
ATTACH;FMTTYPE=image/jpeg:https://myrecovery.org/wp-content/uploads/2024/09/AA-Artists-In-Recovery-Format-Discussion-1.jpg
LOCATION:https://zoom.us/j/958586357?pwd=QVRxWUo4VlRnd05JY0ZWT0VZRk1IZz09
END:VEVENT
BEGIN:VEVENT
DTSTART;TZID=UTC:20260819T220000
DTEND;TZID=UTC:20260819T230000
DTSTAMP:20260421T184352
CREATED:20250611T222622Z
LAST-MODIFIED:20250613T170917Z
UID:10015644-1787176800-1787180400@myrecovery.org
SUMMARY:AA - Sober Stogies - Format: Discussion
DESCRIPTION:Big Book or Discussion: Recovery meetings center around Big Book topics or pages selected by the Trusted Servant. The Trusted Servant speaks about the Big Book topic or pages selected and opens the meeting up for discussion for all attendees. \nCLICK HERE to join the meeting!
URL:https://myrecovery.org/event/aa-sober-stogies-format-discussion/2026-08-19/
CATEGORIES:AA,Discussion
ATTACH;FMTTYPE=image/jpeg:https://myrecovery.org/wp-content/uploads/2024/02/AA-Sober-Stogies-Format-Discussion.jpg
LOCATION:https://zoom.us/j/440227720
END:VEVENT
BEGIN:VEVENT
DTSTART;TZID=UTC:20260820T073000
DTEND;TZID=UTC:20260820T083000
DTSTAMP:20260421T184352
CREATED:20250611T222123Z
LAST-MODIFIED:20250716T171846Z
UID:10017026-1787211000-1787214600@myrecovery.org
SUMMARY:The Retreat Breakfast Club - Format: Discussion
DESCRIPTION:NOTE: THIS IS NOT AN AA MEETING. \nDiscussion: Recovery meetings center around Big Book topics or pages selected by the Trusted Servant. The Trusted Servant speaks about the Big Book topic or pages selected and opens the meeting up for discussion for all attendees. \nCLICK HERE to join the meeting!
URL:https://myrecovery.org/event/the-retreat-breakfast-club-format-discussion/2026-08-20/
CATEGORIES:Discussion
ATTACH;FMTTYPE=image/jpeg:https://myrecovery.org/wp-content/uploads/2024/10/The-Retreat-Breakfast-Club-Format-Discussion.jpg
LOCATION:https://zoom.us/j/94412147463?pwd=K3A5RzNPS2w1bVZYMW5vRGp6QXdiZz09
END:VEVENT
BEGIN:VEVENT
DTSTART;TZID=UTC:20260824T183000
DTEND;TZID=UTC:20260824T193000
DTSTAMP:20260421T184352
CREATED:20250611T222145Z
LAST-MODIFIED:20250613T165844Z
UID:10011531-1787596200-1787599800@myrecovery.org
SUMMARY:OA (Overeaters Anonymous) - Robbinsdale - Format: Discussion
DESCRIPTION:Discussion: Recovery meetings center around Big Book topics or pages selected by the Trusted Servant. The Trusted Servant speaks about the Big Book topic or pages selected and opens the meeting up for discussion for all attendees. \nCLICK HERE to join the meeting!
URL:https://myrecovery.org/event/oa-overeaters-anonymous-robbinsdale-format-discussion/2026-08-24/
CATEGORIES:Discussion,OA
ATTACH;FMTTYPE=image/jpeg:https://myrecovery.org/wp-content/uploads/2024/02/OA-Overeaters-Anonymous-Robbinsdale-Format-Discussion.jpg
LOCATION:https://us02web.zoom.us/j/75795366633?pwd=eVNWcUZSandoR0Y1QXJ6c1h2TFl3Zz09
END:VEVENT
BEGIN:VEVENT
DTSTART;TZID=UTC:20260824T190000
DTEND;TZID=UTC:20260824T200000
DTSTAMP:20260421T184352
CREATED:20250611T222134Z
LAST-MODIFIED:20250613T165920Z
UID:10011791-1787598000-1787601600@myrecovery.org
SUMMARY:AA - Complete Defeat AA - Format: Steps and Discussion
DESCRIPTION:Steps: Recovery meetings will focus on the 12 steps rotating through a step per week. The Trusted Servant speaks about the step and opens the meeting up for discussion for all attendees. \nBig Book or Discussion: Recovery meetings center around Big Book topics or pages selected by the Trusted Servant. The Trusted Servant speaks about the Big Book topic or pages selected and opens the meeting up for discussion for all attendees. \nCLICK HERE to join the meeting!
URL:https://myrecovery.org/event/aa-complete-defeat-aa-format-steps-and-discussion-2/2026-08-24/
CATEGORIES:AA,Discussion,Steps
ATTACH;FMTTYPE=image/jpeg:https://myrecovery.org/wp-content/uploads/2024/02/AA-Complete-Defeat-AA-Format-Steps-and-Discussion.jpg
LOCATION:https://zoom.us/j/674001502?pwd=T0VkdjhXc2tkRmZxR0t6ZVpzQWs0dz09
END:VEVENT
BEGIN:VEVENT
DTSTART;TZID=UTC:20260824T200000
DTEND;TZID=UTC:20260824T210000
DTSTAMP:20260421T184352
CREATED:20250611T222129Z
LAST-MODIFIED:20250613T170851Z
UID:10012311-1787601600-1787605200@myrecovery.org
SUMMARY:The Retreat Alumni and Friends Meeting - Discussion
DESCRIPTION:Discussion: Recovery meetings center around Big Book topics or pages selected by the Trusted Servant. The Trusted Servant speaks about the Big Book topic or pages selected and opens the meeting up for discussion for all attendees. \nCLICK HERE to join the meeting!
URL:https://myrecovery.org/event/the-retreat-alumni-and-friends-meeting-discussion/2026-08-24/
CATEGORIES:Discussion,The Retreat
ATTACH;FMTTYPE=image/jpeg:https://myrecovery.org/wp-content/uploads/2024/02/The-Retreat-Alumni-and-Friends-Meeting-Discussion.jpg
LOCATION:https://us06web.zoom.us/j/81481719413?pwd=THBRSkdFQkhLNTBmb1JoaDQ0UFF1QT09
END:VEVENT
BEGIN:VEVENT
DTSTART;TZID=UTC:20260826T110000
DTEND;TZID=UTC:20260826T120000
DTSTAMP:20260421T184352
CREATED:20250611T221802Z
LAST-MODIFIED:20250613T170535Z
UID:10010461-1787742000-1787745600@myrecovery.org
SUMMARY:AA - Artists In Recovery - Format: Discussion
DESCRIPTION:Discussion: Recovery meetings center around Big Book topics or pages selected by the Trusted Servant. The Trusted Servant speaks about the Big Book topic or pages selected and opens the meeting up for discussion for all attendees. \nCLICK HERE to join the meeting!
URL:https://myrecovery.org/event/aa-artists-in-recovery-format-discussion/2026-08-26/
CATEGORIES:AA,Discussion
ATTACH;FMTTYPE=image/jpeg:https://myrecovery.org/wp-content/uploads/2024/09/AA-Artists-In-Recovery-Format-Discussion-1.jpg
LOCATION:https://zoom.us/j/958586357?pwd=QVRxWUo4VlRnd05JY0ZWT0VZRk1IZz09
END:VEVENT
BEGIN:VEVENT
DTSTART;TZID=UTC:20260826T220000
DTEND;TZID=UTC:20260826T230000
DTSTAMP:20260421T184352
CREATED:20250611T222622Z
LAST-MODIFIED:20250613T170917Z
UID:10015645-1787781600-1787785200@myrecovery.org
SUMMARY:AA - Sober Stogies - Format: Discussion
DESCRIPTION:Big Book or Discussion: Recovery meetings center around Big Book topics or pages selected by the Trusted Servant. The Trusted Servant speaks about the Big Book topic or pages selected and opens the meeting up for discussion for all attendees. \nCLICK HERE to join the meeting!
URL:https://myrecovery.org/event/aa-sober-stogies-format-discussion/2026-08-26/
CATEGORIES:AA,Discussion
ATTACH;FMTTYPE=image/jpeg:https://myrecovery.org/wp-content/uploads/2024/02/AA-Sober-Stogies-Format-Discussion.jpg
LOCATION:https://zoom.us/j/440227720
END:VEVENT
BEGIN:VEVENT
DTSTART;TZID=UTC:20260831T183000
DTEND;TZID=UTC:20260831T193000
DTSTAMP:20260421T184352
CREATED:20250611T222145Z
LAST-MODIFIED:20250613T165844Z
UID:10011532-1788201000-1788204600@myrecovery.org
SUMMARY:OA (Overeaters Anonymous) - Robbinsdale - Format: Discussion
DESCRIPTION:Discussion: Recovery meetings center around Big Book topics or pages selected by the Trusted Servant. The Trusted Servant speaks about the Big Book topic or pages selected and opens the meeting up for discussion for all attendees. \nCLICK HERE to join the meeting!
URL:https://myrecovery.org/event/oa-overeaters-anonymous-robbinsdale-format-discussion/2026-08-31/
CATEGORIES:Discussion,OA
ATTACH;FMTTYPE=image/jpeg:https://myrecovery.org/wp-content/uploads/2024/02/OA-Overeaters-Anonymous-Robbinsdale-Format-Discussion.jpg
LOCATION:https://us02web.zoom.us/j/75795366633?pwd=eVNWcUZSandoR0Y1QXJ6c1h2TFl3Zz09
END:VEVENT
BEGIN:VEVENT
DTSTART;TZID=UTC:20260831T190000
DTEND;TZID=UTC:20260831T200000
DTSTAMP:20260421T184352
CREATED:20250611T222134Z
LAST-MODIFIED:20250613T165920Z
UID:10011792-1788202800-1788206400@myrecovery.org
SUMMARY:AA - Complete Defeat AA - Format: Steps and Discussion
DESCRIPTION:Steps: Recovery meetings will focus on the 12 steps rotating through a step per week. The Trusted Servant speaks about the step and opens the meeting up for discussion for all attendees. \nBig Book or Discussion: Recovery meetings center around Big Book topics or pages selected by the Trusted Servant. The Trusted Servant speaks about the Big Book topic or pages selected and opens the meeting up for discussion for all attendees. \nCLICK HERE to join the meeting!
URL:https://myrecovery.org/event/aa-complete-defeat-aa-format-steps-and-discussion-2/2026-08-31/
CATEGORIES:AA,Discussion,Steps
ATTACH;FMTTYPE=image/jpeg:https://myrecovery.org/wp-content/uploads/2024/02/AA-Complete-Defeat-AA-Format-Steps-and-Discussion.jpg
LOCATION:https://zoom.us/j/674001502?pwd=T0VkdjhXc2tkRmZxR0t6ZVpzQWs0dz09
END:VEVENT
BEGIN:VEVENT
DTSTART;TZID=UTC:20260831T200000
DTEND;TZID=UTC:20260831T210000
DTSTAMP:20260421T184352
CREATED:20250611T222129Z
LAST-MODIFIED:20250613T170851Z
UID:10012312-1788206400-1788210000@myrecovery.org
SUMMARY:The Retreat Alumni and Friends Meeting - Discussion
DESCRIPTION:Discussion: Recovery meetings center around Big Book topics or pages selected by the Trusted Servant. The Trusted Servant speaks about the Big Book topic or pages selected and opens the meeting up for discussion for all attendees. \nCLICK HERE to join the meeting!
URL:https://myrecovery.org/event/the-retreat-alumni-and-friends-meeting-discussion/2026-08-31/
CATEGORIES:Discussion,The Retreat
ATTACH;FMTTYPE=image/jpeg:https://myrecovery.org/wp-content/uploads/2024/02/The-Retreat-Alumni-and-Friends-Meeting-Discussion.jpg
LOCATION:https://us06web.zoom.us/j/81481719413?pwd=THBRSkdFQkhLNTBmb1JoaDQ0UFF1QT09
END:VEVENT
BEGIN:VEVENT
DTSTART;TZID=UTC:20260902T110000
DTEND;TZID=UTC:20260902T120000
DTSTAMP:20260421T184352
CREATED:20250611T221802Z
LAST-MODIFIED:20250613T170535Z
UID:10010462-1788346800-1788350400@myrecovery.org
SUMMARY:AA - Artists In Recovery - Format: Discussion
DESCRIPTION:Discussion: Recovery meetings center around Big Book topics or pages selected by the Trusted Servant. The Trusted Servant speaks about the Big Book topic or pages selected and opens the meeting up for discussion for all attendees. \nCLICK HERE to join the meeting!
URL:https://myrecovery.org/event/aa-artists-in-recovery-format-discussion/2026-09-02/
CATEGORIES:AA,Discussion
ATTACH;FMTTYPE=image/jpeg:https://myrecovery.org/wp-content/uploads/2024/09/AA-Artists-In-Recovery-Format-Discussion-1.jpg
LOCATION:https://zoom.us/j/958586357?pwd=QVRxWUo4VlRnd05JY0ZWT0VZRk1IZz09
END:VEVENT
BEGIN:VEVENT
DTSTART;TZID=UTC:20260902T220000
DTEND;TZID=UTC:20260902T230000
DTSTAMP:20260421T184352
CREATED:20250611T222622Z
LAST-MODIFIED:20250613T170917Z
UID:10015646-1788386400-1788390000@myrecovery.org
SUMMARY:AA - Sober Stogies - Format: Discussion
DESCRIPTION:Big Book or Discussion: Recovery meetings center around Big Book topics or pages selected by the Trusted Servant. The Trusted Servant speaks about the Big Book topic or pages selected and opens the meeting up for discussion for all attendees. \nCLICK HERE to join the meeting!
URL:https://myrecovery.org/event/aa-sober-stogies-format-discussion/2026-09-02/
CATEGORIES:AA,Discussion
ATTACH;FMTTYPE=image/jpeg:https://myrecovery.org/wp-content/uploads/2024/02/AA-Sober-Stogies-Format-Discussion.jpg
LOCATION:https://zoom.us/j/440227720
END:VEVENT
BEGIN:VEVENT
DTSTART;TZID=UTC:20260907T183000
DTEND;TZID=UTC:20260907T193000
DTSTAMP:20260421T184352
CREATED:20250611T222145Z
LAST-MODIFIED:20250613T165844Z
UID:10011533-1788805800-1788809400@myrecovery.org
SUMMARY:OA (Overeaters Anonymous) - Robbinsdale - Format: Discussion
DESCRIPTION:Discussion: Recovery meetings center around Big Book topics or pages selected by the Trusted Servant. The Trusted Servant speaks about the Big Book topic or pages selected and opens the meeting up for discussion for all attendees. \nCLICK HERE to join the meeting!
URL:https://myrecovery.org/event/oa-overeaters-anonymous-robbinsdale-format-discussion/2026-09-07/
CATEGORIES:Discussion,OA
ATTACH;FMTTYPE=image/jpeg:https://myrecovery.org/wp-content/uploads/2024/02/OA-Overeaters-Anonymous-Robbinsdale-Format-Discussion.jpg
LOCATION:https://us02web.zoom.us/j/75795366633?pwd=eVNWcUZSandoR0Y1QXJ6c1h2TFl3Zz09
END:VEVENT
BEGIN:VEVENT
DTSTART;TZID=UTC:20260907T190000
DTEND;TZID=UTC:20260907T200000
DTSTAMP:20260421T184352
CREATED:20250611T222134Z
LAST-MODIFIED:20250613T165920Z
UID:10011793-1788807600-1788811200@myrecovery.org
SUMMARY:AA - Complete Defeat AA - Format: Steps and Discussion
DESCRIPTION:Steps: Recovery meetings will focus on the 12 steps rotating through a step per week. The Trusted Servant speaks about the step and opens the meeting up for discussion for all attendees. \nBig Book or Discussion: Recovery meetings center around Big Book topics or pages selected by the Trusted Servant. The Trusted Servant speaks about the Big Book topic or pages selected and opens the meeting up for discussion for all attendees. \nCLICK HERE to join the meeting!
URL:https://myrecovery.org/event/aa-complete-defeat-aa-format-steps-and-discussion-2/2026-09-07/
CATEGORIES:AA,Discussion,Steps
ATTACH;FMTTYPE=image/jpeg:https://myrecovery.org/wp-content/uploads/2024/02/AA-Complete-Defeat-AA-Format-Steps-and-Discussion.jpg
LOCATION:https://zoom.us/j/674001502?pwd=T0VkdjhXc2tkRmZxR0t6ZVpzQWs0dz09
END:VEVENT
BEGIN:VEVENT
DTSTART;TZID=UTC:20260907T200000
DTEND;TZID=UTC:20260907T210000
DTSTAMP:20260421T184352
CREATED:20250611T222129Z
LAST-MODIFIED:20250613T170851Z
UID:10012313-1788811200-1788814800@myrecovery.org
SUMMARY:The Retreat Alumni and Friends Meeting - Discussion
DESCRIPTION:Discussion: Recovery meetings center around Big Book topics or pages selected by the Trusted Servant. The Trusted Servant speaks about the Big Book topic or pages selected and opens the meeting up for discussion for all attendees. \nCLICK HERE to join the meeting!
URL:https://myrecovery.org/event/the-retreat-alumni-and-friends-meeting-discussion/2026-09-07/
CATEGORIES:Discussion,The Retreat
ATTACH;FMTTYPE=image/jpeg:https://myrecovery.org/wp-content/uploads/2024/02/The-Retreat-Alumni-and-Friends-Meeting-Discussion.jpg
LOCATION:https://us06web.zoom.us/j/81481719413?pwd=THBRSkdFQkhLNTBmb1JoaDQ0UFF1QT09
END:VEVENT
BEGIN:VEVENT
DTSTART;TZID=UTC:20260909T110000
DTEND;TZID=UTC:20260909T120000
DTSTAMP:20260421T184352
CREATED:20250611T221802Z
LAST-MODIFIED:20250613T170535Z
UID:10010463-1788951600-1788955200@myrecovery.org
SUMMARY:AA - Artists In Recovery - Format: Discussion
DESCRIPTION:Discussion: Recovery meetings center around Big Book topics or pages selected by the Trusted Servant. The Trusted Servant speaks about the Big Book topic or pages selected and opens the meeting up for discussion for all attendees. \nCLICK HERE to join the meeting!
URL:https://myrecovery.org/event/aa-artists-in-recovery-format-discussion/2026-09-09/
CATEGORIES:AA,Discussion
ATTACH;FMTTYPE=image/jpeg:https://myrecovery.org/wp-content/uploads/2024/09/AA-Artists-In-Recovery-Format-Discussion-1.jpg
LOCATION:https://zoom.us/j/958586357?pwd=QVRxWUo4VlRnd05JY0ZWT0VZRk1IZz09
END:VEVENT
BEGIN:VEVENT
DTSTART;TZID=UTC:20260909T220000
DTEND;TZID=UTC:20260909T230000
DTSTAMP:20260421T184352
CREATED:20250611T222622Z
LAST-MODIFIED:20250613T170917Z
UID:10015647-1788991200-1788994800@myrecovery.org
SUMMARY:AA - Sober Stogies - Format: Discussion
DESCRIPTION:Big Book or Discussion: Recovery meetings center around Big Book topics or pages selected by the Trusted Servant. The Trusted Servant speaks about the Big Book topic or pages selected and opens the meeting up for discussion for all attendees. \nCLICK HERE to join the meeting!
URL:https://myrecovery.org/event/aa-sober-stogies-format-discussion/2026-09-09/
CATEGORIES:AA,Discussion
ATTACH;FMTTYPE=image/jpeg:https://myrecovery.org/wp-content/uploads/2024/02/AA-Sober-Stogies-Format-Discussion.jpg
LOCATION:https://zoom.us/j/440227720
END:VEVENT
BEGIN:VEVENT
DTSTART;TZID=UTC:20260914T183000
DTEND;TZID=UTC:20260914T193000
DTSTAMP:20260421T184352
CREATED:20250611T222145Z
LAST-MODIFIED:20250613T165844Z
UID:10011534-1789410600-1789414200@myrecovery.org
SUMMARY:OA (Overeaters Anonymous) - Robbinsdale - Format: Discussion
DESCRIPTION:Discussion: Recovery meetings center around Big Book topics or pages selected by the Trusted Servant. The Trusted Servant speaks about the Big Book topic or pages selected and opens the meeting up for discussion for all attendees. \nCLICK HERE to join the meeting!
URL:https://myrecovery.org/event/oa-overeaters-anonymous-robbinsdale-format-discussion/2026-09-14/
CATEGORIES:Discussion,OA
ATTACH;FMTTYPE=image/jpeg:https://myrecovery.org/wp-content/uploads/2024/02/OA-Overeaters-Anonymous-Robbinsdale-Format-Discussion.jpg
LOCATION:https://us02web.zoom.us/j/75795366633?pwd=eVNWcUZSandoR0Y1QXJ6c1h2TFl3Zz09
END:VEVENT
BEGIN:VEVENT
DTSTART;TZID=UTC:20260914T190000
DTEND;TZID=UTC:20260914T200000
DTSTAMP:20260421T184352
CREATED:20250611T222134Z
LAST-MODIFIED:20250613T165920Z
UID:10011794-1789412400-1789416000@myrecovery.org
SUMMARY:AA - Complete Defeat AA - Format: Steps and Discussion
DESCRIPTION:Steps: Recovery meetings will focus on the 12 steps rotating through a step per week. The Trusted Servant speaks about the step and opens the meeting up for discussion for all attendees. \nBig Book or Discussion: Recovery meetings center around Big Book topics or pages selected by the Trusted Servant. The Trusted Servant speaks about the Big Book topic or pages selected and opens the meeting up for discussion for all attendees. \nCLICK HERE to join the meeting!
URL:https://myrecovery.org/event/aa-complete-defeat-aa-format-steps-and-discussion-2/2026-09-14/
CATEGORIES:AA,Discussion,Steps
ATTACH;FMTTYPE=image/jpeg:https://myrecovery.org/wp-content/uploads/2024/02/AA-Complete-Defeat-AA-Format-Steps-and-Discussion.jpg
LOCATION:https://zoom.us/j/674001502?pwd=T0VkdjhXc2tkRmZxR0t6ZVpzQWs0dz09
END:VEVENT
BEGIN:VEVENT
DTSTART;TZID=UTC:20260914T200000
DTEND;TZID=UTC:20260914T210000
DTSTAMP:20260421T184352
CREATED:20250611T222129Z
LAST-MODIFIED:20250613T170851Z
UID:10012314-1789416000-1789419600@myrecovery.org
SUMMARY:The Retreat Alumni and Friends Meeting - Discussion
DESCRIPTION:Discussion: Recovery meetings center around Big Book topics or pages selected by the Trusted Servant. The Trusted Servant speaks about the Big Book topic or pages selected and opens the meeting up for discussion for all attendees. \nCLICK HERE to join the meeting!
URL:https://myrecovery.org/event/the-retreat-alumni-and-friends-meeting-discussion/2026-09-14/
CATEGORIES:Discussion,The Retreat
ATTACH;FMTTYPE=image/jpeg:https://myrecovery.org/wp-content/uploads/2024/02/The-Retreat-Alumni-and-Friends-Meeting-Discussion.jpg
LOCATION:https://us06web.zoom.us/j/81481719413?pwd=THBRSkdFQkhLNTBmb1JoaDQ0UFF1QT09
END:VEVENT
BEGIN:VEVENT
DTSTART;TZID=UTC:20260916T110000
DTEND;TZID=UTC:20260916T120000
DTSTAMP:20260421T184352
CREATED:20250611T221802Z
LAST-MODIFIED:20250613T170535Z
UID:10010464-1789556400-1789560000@myrecovery.org
SUMMARY:AA - Artists In Recovery - Format: Discussion
DESCRIPTION:Discussion: Recovery meetings center around Big Book topics or pages selected by the Trusted Servant. The Trusted Servant speaks about the Big Book topic or pages selected and opens the meeting up for discussion for all attendees. \nCLICK HERE to join the meeting!
URL:https://myrecovery.org/event/aa-artists-in-recovery-format-discussion/2026-09-16/
CATEGORIES:AA,Discussion
ATTACH;FMTTYPE=image/jpeg:https://myrecovery.org/wp-content/uploads/2024/09/AA-Artists-In-Recovery-Format-Discussion-1.jpg
LOCATION:https://zoom.us/j/958586357?pwd=QVRxWUo4VlRnd05JY0ZWT0VZRk1IZz09
END:VEVENT
END:VCALENDAR