BEGIN:VCALENDAR
VERSION:2.0
PRODID:-//My Recovery - ECPv6.15.17//NONSGML v1.0//EN
CALSCALE:GREGORIAN
METHOD:PUBLISH
X-WR-CALNAME:My Recovery
X-ORIGINAL-URL:https://myrecovery.org
X-WR-CALDESC:Events for My Recovery
REFRESH-INTERVAL;VALUE=DURATION:PT1H
X-Robots-Tag:noindex
X-PUBLISHED-TTL:PT1H
BEGIN:VTIMEZONE
TZID:UTC
BEGIN:STANDARD
TZOFFSETFROM:+0000
TZOFFSETTO:+0000
TZNAME:UTC
DTSTART:20240101T000000
END:STANDARD
END:VTIMEZONE
BEGIN:VEVENT
DTSTART;TZID=UTC:20260202T183000
DTEND;TZID=UTC:20260202T193000
DTSTAMP:20260421T184041
CREATED:20250611T222145Z
LAST-MODIFIED:20250613T165844Z
UID:10011502-1770057000-1770060600@myrecovery.org
SUMMARY:OA (Overeaters Anonymous) - Robbinsdale - Format: Discussion
DESCRIPTION:Discussion: Recovery meetings center around Big Book topics or pages selected by the Trusted Servant. The Trusted Servant speaks about the Big Book topic or pages selected and opens the meeting up for discussion for all attendees. \nCLICK HERE to join the meeting!
URL:https://myrecovery.org/event/oa-overeaters-anonymous-robbinsdale-format-discussion/2026-02-02/
CATEGORIES:Discussion,OA
ATTACH;FMTTYPE=image/jpeg:https://myrecovery.org/wp-content/uploads/2024/02/OA-Overeaters-Anonymous-Robbinsdale-Format-Discussion.jpg
LOCATION:https://us02web.zoom.us/j/75795366633?pwd=eVNWcUZSandoR0Y1QXJ6c1h2TFl3Zz09
END:VEVENT
BEGIN:VEVENT
DTSTART;TZID=UTC:20260128T220000
DTEND;TZID=UTC:20260128T230000
DTSTAMP:20260421T184041
CREATED:20250611T222622Z
LAST-MODIFIED:20250613T170917Z
UID:10015615-1769637600-1769641200@myrecovery.org
SUMMARY:AA - Sober Stogies - Format: Discussion
DESCRIPTION:Big Book or Discussion: Recovery meetings center around Big Book topics or pages selected by the Trusted Servant. The Trusted Servant speaks about the Big Book topic or pages selected and opens the meeting up for discussion for all attendees. \nCLICK HERE to join the meeting!
URL:https://myrecovery.org/event/aa-sober-stogies-format-discussion/2026-01-28/
CATEGORIES:AA,Discussion
ATTACH;FMTTYPE=image/jpeg:https://myrecovery.org/wp-content/uploads/2024/02/AA-Sober-Stogies-Format-Discussion.jpg
LOCATION:https://zoom.us/j/440227720
END:VEVENT
BEGIN:VEVENT
DTSTART;TZID=UTC:20260128T110000
DTEND;TZID=UTC:20260128T120000
DTSTAMP:20260421T184041
CREATED:20250611T221802Z
LAST-MODIFIED:20250613T170535Z
UID:10010431-1769598000-1769601600@myrecovery.org
SUMMARY:AA - Artists In Recovery - Format: Discussion
DESCRIPTION:Discussion: Recovery meetings center around Big Book topics or pages selected by the Trusted Servant. The Trusted Servant speaks about the Big Book topic or pages selected and opens the meeting up for discussion for all attendees. \nCLICK HERE to join the meeting!
URL:https://myrecovery.org/event/aa-artists-in-recovery-format-discussion/2026-01-28/
CATEGORIES:AA,Discussion
ATTACH;FMTTYPE=image/jpeg:https://myrecovery.org/wp-content/uploads/2024/09/AA-Artists-In-Recovery-Format-Discussion-1.jpg
LOCATION:https://zoom.us/j/958586357?pwd=QVRxWUo4VlRnd05JY0ZWT0VZRk1IZz09
END:VEVENT
BEGIN:VEVENT
DTSTART;TZID=UTC:20260126T200000
DTEND;TZID=UTC:20260126T210000
DTSTAMP:20260421T184041
CREATED:20250611T222129Z
LAST-MODIFIED:20250613T170851Z
UID:10012281-1769457600-1769461200@myrecovery.org
SUMMARY:The Retreat Alumni and Friends Meeting - Discussion
DESCRIPTION:Discussion: Recovery meetings center around Big Book topics or pages selected by the Trusted Servant. The Trusted Servant speaks about the Big Book topic or pages selected and opens the meeting up for discussion for all attendees. \nCLICK HERE to join the meeting!
URL:https://myrecovery.org/event/the-retreat-alumni-and-friends-meeting-discussion/2026-01-26/
CATEGORIES:Discussion,The Retreat
ATTACH;FMTTYPE=image/jpeg:https://myrecovery.org/wp-content/uploads/2024/02/The-Retreat-Alumni-and-Friends-Meeting-Discussion.jpg
LOCATION:https://us06web.zoom.us/j/81481719413?pwd=THBRSkdFQkhLNTBmb1JoaDQ0UFF1QT09
END:VEVENT
BEGIN:VEVENT
DTSTART;TZID=UTC:20260126T190000
DTEND;TZID=UTC:20260126T200000
DTSTAMP:20260421T184041
CREATED:20250611T222134Z
LAST-MODIFIED:20250613T165920Z
UID:10011761-1769454000-1769457600@myrecovery.org
SUMMARY:AA - Complete Defeat AA - Format: Steps and Discussion
DESCRIPTION:Steps: Recovery meetings will focus on the 12 steps rotating through a step per week. The Trusted Servant speaks about the step and opens the meeting up for discussion for all attendees. \nBig Book or Discussion: Recovery meetings center around Big Book topics or pages selected by the Trusted Servant. The Trusted Servant speaks about the Big Book topic or pages selected and opens the meeting up for discussion for all attendees. \nCLICK HERE to join the meeting!
URL:https://myrecovery.org/event/aa-complete-defeat-aa-format-steps-and-discussion-2/2026-01-26/
CATEGORIES:AA,Discussion,Steps
ATTACH;FMTTYPE=image/jpeg:https://myrecovery.org/wp-content/uploads/2024/02/AA-Complete-Defeat-AA-Format-Steps-and-Discussion.jpg
LOCATION:https://zoom.us/j/674001502?pwd=T0VkdjhXc2tkRmZxR0t6ZVpzQWs0dz09
END:VEVENT
BEGIN:VEVENT
DTSTART;TZID=UTC:20260126T183000
DTEND;TZID=UTC:20260126T193000
DTSTAMP:20260421T184041
CREATED:20250611T222145Z
LAST-MODIFIED:20250613T165844Z
UID:10011501-1769452200-1769455800@myrecovery.org
SUMMARY:OA (Overeaters Anonymous) - Robbinsdale - Format: Discussion
DESCRIPTION:Discussion: Recovery meetings center around Big Book topics or pages selected by the Trusted Servant. The Trusted Servant speaks about the Big Book topic or pages selected and opens the meeting up for discussion for all attendees. \nCLICK HERE to join the meeting!
URL:https://myrecovery.org/event/oa-overeaters-anonymous-robbinsdale-format-discussion/2026-01-26/
CATEGORIES:Discussion,OA
ATTACH;FMTTYPE=image/jpeg:https://myrecovery.org/wp-content/uploads/2024/02/OA-Overeaters-Anonymous-Robbinsdale-Format-Discussion.jpg
LOCATION:https://us02web.zoom.us/j/75795366633?pwd=eVNWcUZSandoR0Y1QXJ6c1h2TFl3Zz09
END:VEVENT
BEGIN:VEVENT
DTSTART;TZID=UTC:20260121T220000
DTEND;TZID=UTC:20260121T230000
DTSTAMP:20260421T184041
CREATED:20250611T222622Z
LAST-MODIFIED:20250613T170917Z
UID:10015614-1769032800-1769036400@myrecovery.org
SUMMARY:AA - Sober Stogies - Format: Discussion
DESCRIPTION:Big Book or Discussion: Recovery meetings center around Big Book topics or pages selected by the Trusted Servant. The Trusted Servant speaks about the Big Book topic or pages selected and opens the meeting up for discussion for all attendees. \nCLICK HERE to join the meeting!
URL:https://myrecovery.org/event/aa-sober-stogies-format-discussion/2026-01-21/
CATEGORIES:AA,Discussion
ATTACH;FMTTYPE=image/jpeg:https://myrecovery.org/wp-content/uploads/2024/02/AA-Sober-Stogies-Format-Discussion.jpg
LOCATION:https://zoom.us/j/440227720
END:VEVENT
BEGIN:VEVENT
DTSTART;TZID=UTC:20260121T110000
DTEND;TZID=UTC:20260121T120000
DTSTAMP:20260421T184041
CREATED:20250611T221802Z
LAST-MODIFIED:20250613T170535Z
UID:10010430-1768993200-1768996800@myrecovery.org
SUMMARY:AA - Artists In Recovery - Format: Discussion
DESCRIPTION:Discussion: Recovery meetings center around Big Book topics or pages selected by the Trusted Servant. The Trusted Servant speaks about the Big Book topic or pages selected and opens the meeting up for discussion for all attendees. \nCLICK HERE to join the meeting!
URL:https://myrecovery.org/event/aa-artists-in-recovery-format-discussion/2026-01-21/
CATEGORIES:AA,Discussion
ATTACH;FMTTYPE=image/jpeg:https://myrecovery.org/wp-content/uploads/2024/09/AA-Artists-In-Recovery-Format-Discussion-1.jpg
LOCATION:https://zoom.us/j/958586357?pwd=QVRxWUo4VlRnd05JY0ZWT0VZRk1IZz09
END:VEVENT
BEGIN:VEVENT
DTSTART;TZID=UTC:20260119T200000
DTEND;TZID=UTC:20260119T210000
DTSTAMP:20260421T184041
CREATED:20250611T222129Z
LAST-MODIFIED:20250613T170851Z
UID:10012280-1768852800-1768856400@myrecovery.org
SUMMARY:The Retreat Alumni and Friends Meeting - Discussion
DESCRIPTION:Discussion: Recovery meetings center around Big Book topics or pages selected by the Trusted Servant. The Trusted Servant speaks about the Big Book topic or pages selected and opens the meeting up for discussion for all attendees. \nCLICK HERE to join the meeting!
URL:https://myrecovery.org/event/the-retreat-alumni-and-friends-meeting-discussion/2026-01-19/
CATEGORIES:Discussion,The Retreat
ATTACH;FMTTYPE=image/jpeg:https://myrecovery.org/wp-content/uploads/2024/02/The-Retreat-Alumni-and-Friends-Meeting-Discussion.jpg
LOCATION:https://us06web.zoom.us/j/81481719413?pwd=THBRSkdFQkhLNTBmb1JoaDQ0UFF1QT09
END:VEVENT
BEGIN:VEVENT
DTSTART;TZID=UTC:20260119T190000
DTEND;TZID=UTC:20260119T200000
DTSTAMP:20260421T184041
CREATED:20250611T222134Z
LAST-MODIFIED:20250613T165920Z
UID:10011760-1768849200-1768852800@myrecovery.org
SUMMARY:AA - Complete Defeat AA - Format: Steps and Discussion
DESCRIPTION:Steps: Recovery meetings will focus on the 12 steps rotating through a step per week. The Trusted Servant speaks about the step and opens the meeting up for discussion for all attendees. \nBig Book or Discussion: Recovery meetings center around Big Book topics or pages selected by the Trusted Servant. The Trusted Servant speaks about the Big Book topic or pages selected and opens the meeting up for discussion for all attendees. \nCLICK HERE to join the meeting!
URL:https://myrecovery.org/event/aa-complete-defeat-aa-format-steps-and-discussion-2/2026-01-19/
CATEGORIES:AA,Discussion,Steps
ATTACH;FMTTYPE=image/jpeg:https://myrecovery.org/wp-content/uploads/2024/02/AA-Complete-Defeat-AA-Format-Steps-and-Discussion.jpg
LOCATION:https://zoom.us/j/674001502?pwd=T0VkdjhXc2tkRmZxR0t6ZVpzQWs0dz09
END:VEVENT
BEGIN:VEVENT
DTSTART;TZID=UTC:20260119T183000
DTEND;TZID=UTC:20260119T193000
DTSTAMP:20260421T184041
CREATED:20250611T222145Z
LAST-MODIFIED:20250613T165844Z
UID:10011500-1768847400-1768851000@myrecovery.org
SUMMARY:OA (Overeaters Anonymous) - Robbinsdale - Format: Discussion
DESCRIPTION:Discussion: Recovery meetings center around Big Book topics or pages selected by the Trusted Servant. The Trusted Servant speaks about the Big Book topic or pages selected and opens the meeting up for discussion for all attendees. \nCLICK HERE to join the meeting!
URL:https://myrecovery.org/event/oa-overeaters-anonymous-robbinsdale-format-discussion/2026-01-19/
CATEGORIES:Discussion,OA
ATTACH;FMTTYPE=image/jpeg:https://myrecovery.org/wp-content/uploads/2024/02/OA-Overeaters-Anonymous-Robbinsdale-Format-Discussion.jpg
LOCATION:https://us02web.zoom.us/j/75795366633?pwd=eVNWcUZSandoR0Y1QXJ6c1h2TFl3Zz09
END:VEVENT
BEGIN:VEVENT
DTSTART;TZID=UTC:20260115T073000
DTEND;TZID=UTC:20260115T083000
DTSTAMP:20260421T184041
CREATED:20250611T222123Z
LAST-MODIFIED:20250716T171846Z
UID:10017019-1768462200-1768465800@myrecovery.org
SUMMARY:The Retreat Breakfast Club - Format: Discussion
DESCRIPTION:NOTE: THIS IS NOT AN AA MEETING. \nDiscussion: Recovery meetings center around Big Book topics or pages selected by the Trusted Servant. The Trusted Servant speaks about the Big Book topic or pages selected and opens the meeting up for discussion for all attendees. \nCLICK HERE to join the meeting!
URL:https://myrecovery.org/event/the-retreat-breakfast-club-format-discussion/2026-01-15/
CATEGORIES:Discussion
ATTACH;FMTTYPE=image/jpeg:https://myrecovery.org/wp-content/uploads/2024/10/The-Retreat-Breakfast-Club-Format-Discussion.jpg
LOCATION:https://zoom.us/j/94412147463?pwd=K3A5RzNPS2w1bVZYMW5vRGp6QXdiZz09
END:VEVENT
BEGIN:VEVENT
DTSTART;TZID=UTC:20260114T220000
DTEND;TZID=UTC:20260114T230000
DTSTAMP:20260421T184041
CREATED:20250611T222622Z
LAST-MODIFIED:20250613T170917Z
UID:10015613-1768428000-1768431600@myrecovery.org
SUMMARY:AA - Sober Stogies - Format: Discussion
DESCRIPTION:Big Book or Discussion: Recovery meetings center around Big Book topics or pages selected by the Trusted Servant. The Trusted Servant speaks about the Big Book topic or pages selected and opens the meeting up for discussion for all attendees. \nCLICK HERE to join the meeting!
URL:https://myrecovery.org/event/aa-sober-stogies-format-discussion/2026-01-14/
CATEGORIES:AA,Discussion
ATTACH;FMTTYPE=image/jpeg:https://myrecovery.org/wp-content/uploads/2024/02/AA-Sober-Stogies-Format-Discussion.jpg
LOCATION:https://zoom.us/j/440227720
END:VEVENT
BEGIN:VEVENT
DTSTART;TZID=UTC:20260114T110000
DTEND;TZID=UTC:20260114T120000
DTSTAMP:20260421T184041
CREATED:20250611T221802Z
LAST-MODIFIED:20250613T170535Z
UID:10010429-1768388400-1768392000@myrecovery.org
SUMMARY:AA - Artists In Recovery - Format: Discussion
DESCRIPTION:Discussion: Recovery meetings center around Big Book topics or pages selected by the Trusted Servant. The Trusted Servant speaks about the Big Book topic or pages selected and opens the meeting up for discussion for all attendees. \nCLICK HERE to join the meeting!
URL:https://myrecovery.org/event/aa-artists-in-recovery-format-discussion/2026-01-14/
CATEGORIES:AA,Discussion
ATTACH;FMTTYPE=image/jpeg:https://myrecovery.org/wp-content/uploads/2024/09/AA-Artists-In-Recovery-Format-Discussion-1.jpg
LOCATION:https://zoom.us/j/958586357?pwd=QVRxWUo4VlRnd05JY0ZWT0VZRk1IZz09
END:VEVENT
BEGIN:VEVENT
DTSTART;TZID=UTC:20260112T200000
DTEND;TZID=UTC:20260112T210000
DTSTAMP:20260421T184041
CREATED:20250611T222129Z
LAST-MODIFIED:20250613T170851Z
UID:10012279-1768248000-1768251600@myrecovery.org
SUMMARY:The Retreat Alumni and Friends Meeting - Discussion
DESCRIPTION:Discussion: Recovery meetings center around Big Book topics or pages selected by the Trusted Servant. The Trusted Servant speaks about the Big Book topic or pages selected and opens the meeting up for discussion for all attendees. \nCLICK HERE to join the meeting!
URL:https://myrecovery.org/event/the-retreat-alumni-and-friends-meeting-discussion/2026-01-12/
CATEGORIES:Discussion,The Retreat
ATTACH;FMTTYPE=image/jpeg:https://myrecovery.org/wp-content/uploads/2024/02/The-Retreat-Alumni-and-Friends-Meeting-Discussion.jpg
LOCATION:https://us06web.zoom.us/j/81481719413?pwd=THBRSkdFQkhLNTBmb1JoaDQ0UFF1QT09
END:VEVENT
BEGIN:VEVENT
DTSTART;TZID=UTC:20260112T190000
DTEND;TZID=UTC:20260112T200000
DTSTAMP:20260421T184041
CREATED:20250611T222134Z
LAST-MODIFIED:20250613T165920Z
UID:10011759-1768244400-1768248000@myrecovery.org
SUMMARY:AA - Complete Defeat AA - Format: Steps and Discussion
DESCRIPTION:Steps: Recovery meetings will focus on the 12 steps rotating through a step per week. The Trusted Servant speaks about the step and opens the meeting up for discussion for all attendees. \nBig Book or Discussion: Recovery meetings center around Big Book topics or pages selected by the Trusted Servant. The Trusted Servant speaks about the Big Book topic or pages selected and opens the meeting up for discussion for all attendees. \nCLICK HERE to join the meeting!
URL:https://myrecovery.org/event/aa-complete-defeat-aa-format-steps-and-discussion-2/2026-01-12/
CATEGORIES:AA,Discussion,Steps
ATTACH;FMTTYPE=image/jpeg:https://myrecovery.org/wp-content/uploads/2024/02/AA-Complete-Defeat-AA-Format-Steps-and-Discussion.jpg
LOCATION:https://zoom.us/j/674001502?pwd=T0VkdjhXc2tkRmZxR0t6ZVpzQWs0dz09
END:VEVENT
BEGIN:VEVENT
DTSTART;TZID=UTC:20260112T183000
DTEND;TZID=UTC:20260112T193000
DTSTAMP:20260421T184041
CREATED:20250611T222145Z
LAST-MODIFIED:20250613T165844Z
UID:10011499-1768242600-1768246200@myrecovery.org
SUMMARY:OA (Overeaters Anonymous) - Robbinsdale - Format: Discussion
DESCRIPTION:Discussion: Recovery meetings center around Big Book topics or pages selected by the Trusted Servant. The Trusted Servant speaks about the Big Book topic or pages selected and opens the meeting up for discussion for all attendees. \nCLICK HERE to join the meeting!
URL:https://myrecovery.org/event/oa-overeaters-anonymous-robbinsdale-format-discussion/2026-01-12/
CATEGORIES:Discussion,OA
ATTACH;FMTTYPE=image/jpeg:https://myrecovery.org/wp-content/uploads/2024/02/OA-Overeaters-Anonymous-Robbinsdale-Format-Discussion.jpg
LOCATION:https://us02web.zoom.us/j/75795366633?pwd=eVNWcUZSandoR0Y1QXJ6c1h2TFl3Zz09
END:VEVENT
BEGIN:VEVENT
DTSTART;TZID=UTC:20260107T220000
DTEND;TZID=UTC:20260107T230000
DTSTAMP:20260421T184041
CREATED:20250611T222622Z
LAST-MODIFIED:20250613T170917Z
UID:10015612-1767823200-1767826800@myrecovery.org
SUMMARY:AA - Sober Stogies - Format: Discussion
DESCRIPTION:Big Book or Discussion: Recovery meetings center around Big Book topics or pages selected by the Trusted Servant. The Trusted Servant speaks about the Big Book topic or pages selected and opens the meeting up for discussion for all attendees. \nCLICK HERE to join the meeting!
URL:https://myrecovery.org/event/aa-sober-stogies-format-discussion/2026-01-07/
CATEGORIES:AA,Discussion
ATTACH;FMTTYPE=image/jpeg:https://myrecovery.org/wp-content/uploads/2024/02/AA-Sober-Stogies-Format-Discussion.jpg
LOCATION:https://zoom.us/j/440227720
END:VEVENT
BEGIN:VEVENT
DTSTART;TZID=UTC:20260107T110000
DTEND;TZID=UTC:20260107T120000
DTSTAMP:20260421T184041
CREATED:20250611T221802Z
LAST-MODIFIED:20250613T170535Z
UID:10010428-1767783600-1767787200@myrecovery.org
SUMMARY:AA - Artists In Recovery - Format: Discussion
DESCRIPTION:Discussion: Recovery meetings center around Big Book topics or pages selected by the Trusted Servant. The Trusted Servant speaks about the Big Book topic or pages selected and opens the meeting up for discussion for all attendees. \nCLICK HERE to join the meeting!
URL:https://myrecovery.org/event/aa-artists-in-recovery-format-discussion/2026-01-07/
CATEGORIES:AA,Discussion
ATTACH;FMTTYPE=image/jpeg:https://myrecovery.org/wp-content/uploads/2024/09/AA-Artists-In-Recovery-Format-Discussion-1.jpg
LOCATION:https://zoom.us/j/958586357?pwd=QVRxWUo4VlRnd05JY0ZWT0VZRk1IZz09
END:VEVENT
BEGIN:VEVENT
DTSTART;TZID=UTC:20260105T200000
DTEND;TZID=UTC:20260105T210000
DTSTAMP:20260421T184041
CREATED:20250611T222129Z
LAST-MODIFIED:20250613T170851Z
UID:10012278-1767643200-1767646800@myrecovery.org
SUMMARY:The Retreat Alumni and Friends Meeting - Discussion
DESCRIPTION:Discussion: Recovery meetings center around Big Book topics or pages selected by the Trusted Servant. The Trusted Servant speaks about the Big Book topic or pages selected and opens the meeting up for discussion for all attendees. \nCLICK HERE to join the meeting!
URL:https://myrecovery.org/event/the-retreat-alumni-and-friends-meeting-discussion/2026-01-05/
CATEGORIES:Discussion,The Retreat
ATTACH;FMTTYPE=image/jpeg:https://myrecovery.org/wp-content/uploads/2024/02/The-Retreat-Alumni-and-Friends-Meeting-Discussion.jpg
LOCATION:https://us06web.zoom.us/j/81481719413?pwd=THBRSkdFQkhLNTBmb1JoaDQ0UFF1QT09
END:VEVENT
BEGIN:VEVENT
DTSTART;TZID=UTC:20260105T190000
DTEND;TZID=UTC:20260105T200000
DTSTAMP:20260421T184041
CREATED:20250611T222134Z
LAST-MODIFIED:20250613T165920Z
UID:10011758-1767639600-1767643200@myrecovery.org
SUMMARY:AA - Complete Defeat AA - Format: Steps and Discussion
DESCRIPTION:Steps: Recovery meetings will focus on the 12 steps rotating through a step per week. The Trusted Servant speaks about the step and opens the meeting up for discussion for all attendees. \nBig Book or Discussion: Recovery meetings center around Big Book topics or pages selected by the Trusted Servant. The Trusted Servant speaks about the Big Book topic or pages selected and opens the meeting up for discussion for all attendees. \nCLICK HERE to join the meeting!
URL:https://myrecovery.org/event/aa-complete-defeat-aa-format-steps-and-discussion-2/2026-01-05/
CATEGORIES:AA,Discussion,Steps
ATTACH;FMTTYPE=image/jpeg:https://myrecovery.org/wp-content/uploads/2024/02/AA-Complete-Defeat-AA-Format-Steps-and-Discussion.jpg
LOCATION:https://zoom.us/j/674001502?pwd=T0VkdjhXc2tkRmZxR0t6ZVpzQWs0dz09
END:VEVENT
BEGIN:VEVENT
DTSTART;TZID=UTC:20260105T183000
DTEND;TZID=UTC:20260105T193000
DTSTAMP:20260421T184041
CREATED:20250611T222145Z
LAST-MODIFIED:20250613T165844Z
UID:10011498-1767637800-1767641400@myrecovery.org
SUMMARY:OA (Overeaters Anonymous) - Robbinsdale - Format: Discussion
DESCRIPTION:Discussion: Recovery meetings center around Big Book topics or pages selected by the Trusted Servant. The Trusted Servant speaks about the Big Book topic or pages selected and opens the meeting up for discussion for all attendees. \nCLICK HERE to join the meeting!
URL:https://myrecovery.org/event/oa-overeaters-anonymous-robbinsdale-format-discussion/2026-01-05/
CATEGORIES:Discussion,OA
ATTACH;FMTTYPE=image/jpeg:https://myrecovery.org/wp-content/uploads/2024/02/OA-Overeaters-Anonymous-Robbinsdale-Format-Discussion.jpg
LOCATION:https://us02web.zoom.us/j/75795366633?pwd=eVNWcUZSandoR0Y1QXJ6c1h2TFl3Zz09
END:VEVENT
BEGIN:VEVENT
DTSTART;TZID=UTC:20251231T220000
DTEND;TZID=UTC:20251231T230000
DTSTAMP:20260421T184041
CREATED:20250611T222622Z
LAST-MODIFIED:20250613T170917Z
UID:10015611-1767218400-1767222000@myrecovery.org
SUMMARY:AA - Sober Stogies - Format: Discussion
DESCRIPTION:Big Book or Discussion: Recovery meetings center around Big Book topics or pages selected by the Trusted Servant. The Trusted Servant speaks about the Big Book topic or pages selected and opens the meeting up for discussion for all attendees. \nCLICK HERE to join the meeting!
URL:https://myrecovery.org/event/aa-sober-stogies-format-discussion/2025-12-31/
CATEGORIES:AA,Discussion
ATTACH;FMTTYPE=image/jpeg:https://myrecovery.org/wp-content/uploads/2024/02/AA-Sober-Stogies-Format-Discussion.jpg
LOCATION:https://zoom.us/j/440227720
END:VEVENT
BEGIN:VEVENT
DTSTART;TZID=UTC:20251231T110000
DTEND;TZID=UTC:20251231T120000
DTSTAMP:20260421T184041
CREATED:20250611T221802Z
LAST-MODIFIED:20250613T170535Z
UID:10010427-1767178800-1767182400@myrecovery.org
SUMMARY:AA - Artists In Recovery - Format: Discussion
DESCRIPTION:Discussion: Recovery meetings center around Big Book topics or pages selected by the Trusted Servant. The Trusted Servant speaks about the Big Book topic or pages selected and opens the meeting up for discussion for all attendees. \nCLICK HERE to join the meeting!
URL:https://myrecovery.org/event/aa-artists-in-recovery-format-discussion/2025-12-31/
CATEGORIES:AA,Discussion
ATTACH;FMTTYPE=image/jpeg:https://myrecovery.org/wp-content/uploads/2024/09/AA-Artists-In-Recovery-Format-Discussion-1.jpg
LOCATION:https://zoom.us/j/958586357?pwd=QVRxWUo4VlRnd05JY0ZWT0VZRk1IZz09
END:VEVENT
BEGIN:VEVENT
DTSTART;TZID=UTC:20251229T200000
DTEND;TZID=UTC:20251229T210000
DTSTAMP:20260421T184041
CREATED:20250611T222129Z
LAST-MODIFIED:20250613T170851Z
UID:10012277-1767038400-1767042000@myrecovery.org
SUMMARY:The Retreat Alumni and Friends Meeting - Discussion
DESCRIPTION:Discussion: Recovery meetings center around Big Book topics or pages selected by the Trusted Servant. The Trusted Servant speaks about the Big Book topic or pages selected and opens the meeting up for discussion for all attendees. \nCLICK HERE to join the meeting!
URL:https://myrecovery.org/event/the-retreat-alumni-and-friends-meeting-discussion/2025-12-29/
CATEGORIES:Discussion,The Retreat
ATTACH;FMTTYPE=image/jpeg:https://myrecovery.org/wp-content/uploads/2024/02/The-Retreat-Alumni-and-Friends-Meeting-Discussion.jpg
LOCATION:https://us06web.zoom.us/j/81481719413?pwd=THBRSkdFQkhLNTBmb1JoaDQ0UFF1QT09
END:VEVENT
BEGIN:VEVENT
DTSTART;TZID=UTC:20251229T190000
DTEND;TZID=UTC:20251229T200000
DTSTAMP:20260421T184041
CREATED:20250611T222134Z
LAST-MODIFIED:20250613T165920Z
UID:10011757-1767034800-1767038400@myrecovery.org
SUMMARY:AA - Complete Defeat AA - Format: Steps and Discussion
DESCRIPTION:Steps: Recovery meetings will focus on the 12 steps rotating through a step per week. The Trusted Servant speaks about the step and opens the meeting up for discussion for all attendees. \nBig Book or Discussion: Recovery meetings center around Big Book topics or pages selected by the Trusted Servant. The Trusted Servant speaks about the Big Book topic or pages selected and opens the meeting up for discussion for all attendees. \nCLICK HERE to join the meeting!
URL:https://myrecovery.org/event/aa-complete-defeat-aa-format-steps-and-discussion-2/2025-12-29/
CATEGORIES:AA,Discussion,Steps
ATTACH;FMTTYPE=image/jpeg:https://myrecovery.org/wp-content/uploads/2024/02/AA-Complete-Defeat-AA-Format-Steps-and-Discussion.jpg
LOCATION:https://zoom.us/j/674001502?pwd=T0VkdjhXc2tkRmZxR0t6ZVpzQWs0dz09
END:VEVENT
BEGIN:VEVENT
DTSTART;TZID=UTC:20251229T183000
DTEND;TZID=UTC:20251229T193000
DTSTAMP:20260421T184041
CREATED:20250611T222145Z
LAST-MODIFIED:20250613T165844Z
UID:10011497-1767033000-1767036600@myrecovery.org
SUMMARY:OA (Overeaters Anonymous) - Robbinsdale - Format: Discussion
DESCRIPTION:Discussion: Recovery meetings center around Big Book topics or pages selected by the Trusted Servant. The Trusted Servant speaks about the Big Book topic or pages selected and opens the meeting up for discussion for all attendees. \nCLICK HERE to join the meeting!
URL:https://myrecovery.org/event/oa-overeaters-anonymous-robbinsdale-format-discussion/2025-12-29/
CATEGORIES:Discussion,OA
ATTACH;FMTTYPE=image/jpeg:https://myrecovery.org/wp-content/uploads/2024/02/OA-Overeaters-Anonymous-Robbinsdale-Format-Discussion.jpg
LOCATION:https://us02web.zoom.us/j/75795366633?pwd=eVNWcUZSandoR0Y1QXJ6c1h2TFl3Zz09
END:VEVENT
BEGIN:VEVENT
DTSTART;TZID=UTC:20251224T220000
DTEND;TZID=UTC:20251224T230000
DTSTAMP:20260421T184041
CREATED:20250611T222622Z
LAST-MODIFIED:20250613T170917Z
UID:10015610-1766613600-1766617200@myrecovery.org
SUMMARY:AA - Sober Stogies - Format: Discussion
DESCRIPTION:Big Book or Discussion: Recovery meetings center around Big Book topics or pages selected by the Trusted Servant. The Trusted Servant speaks about the Big Book topic or pages selected and opens the meeting up for discussion for all attendees. \nCLICK HERE to join the meeting!
URL:https://myrecovery.org/event/aa-sober-stogies-format-discussion/2025-12-24/
CATEGORIES:AA,Discussion
ATTACH;FMTTYPE=image/jpeg:https://myrecovery.org/wp-content/uploads/2024/02/AA-Sober-Stogies-Format-Discussion.jpg
LOCATION:https://zoom.us/j/440227720
END:VEVENT
BEGIN:VEVENT
DTSTART;TZID=UTC:20251224T110000
DTEND;TZID=UTC:20251224T120000
DTSTAMP:20260421T184041
CREATED:20250611T221802Z
LAST-MODIFIED:20250613T170535Z
UID:10010426-1766574000-1766577600@myrecovery.org
SUMMARY:AA - Artists In Recovery - Format: Discussion
DESCRIPTION:Discussion: Recovery meetings center around Big Book topics or pages selected by the Trusted Servant. The Trusted Servant speaks about the Big Book topic or pages selected and opens the meeting up for discussion for all attendees. \nCLICK HERE to join the meeting!
URL:https://myrecovery.org/event/aa-artists-in-recovery-format-discussion/2025-12-24/
CATEGORIES:AA,Discussion
ATTACH;FMTTYPE=image/jpeg:https://myrecovery.org/wp-content/uploads/2024/09/AA-Artists-In-Recovery-Format-Discussion-1.jpg
LOCATION:https://zoom.us/j/958586357?pwd=QVRxWUo4VlRnd05JY0ZWT0VZRk1IZz09
END:VEVENT
BEGIN:VEVENT
DTSTART;TZID=UTC:20251222T200000
DTEND;TZID=UTC:20251222T210000
DTSTAMP:20260421T184041
CREATED:20250611T222129Z
LAST-MODIFIED:20250613T170851Z
UID:10012276-1766433600-1766437200@myrecovery.org
SUMMARY:The Retreat Alumni and Friends Meeting - Discussion
DESCRIPTION:Discussion: Recovery meetings center around Big Book topics or pages selected by the Trusted Servant. The Trusted Servant speaks about the Big Book topic or pages selected and opens the meeting up for discussion for all attendees. \nCLICK HERE to join the meeting!
URL:https://myrecovery.org/event/the-retreat-alumni-and-friends-meeting-discussion/2025-12-22/
CATEGORIES:Discussion,The Retreat
ATTACH;FMTTYPE=image/jpeg:https://myrecovery.org/wp-content/uploads/2024/02/The-Retreat-Alumni-and-Friends-Meeting-Discussion.jpg
LOCATION:https://us06web.zoom.us/j/81481719413?pwd=THBRSkdFQkhLNTBmb1JoaDQ0UFF1QT09
END:VEVENT
END:VCALENDAR