BEGIN:VCALENDAR
VERSION:2.0
PRODID:-//My Recovery - ECPv6.15.17//NONSGML v1.0//EN
CALSCALE:GREGORIAN
METHOD:PUBLISH
X-WR-CALNAME:My Recovery
X-ORIGINAL-URL:https://myrecovery.org
X-WR-CALDESC:Events for My Recovery
REFRESH-INTERVAL;VALUE=DURATION:PT1H
X-Robots-Tag:noindex
X-PUBLISHED-TTL:PT1H
BEGIN:VTIMEZONE
TZID:UTC
BEGIN:STANDARD
TZOFFSETFROM:+0000
TZOFFSETTO:+0000
TZNAME:UTC
DTSTART:20260101T000000
END:STANDARD
END:VTIMEZONE
BEGIN:VEVENT
DTSTART;TZID=UTC:20270804T110000
DTEND;TZID=UTC:20270804T120000
DTSTAMP:20260423T054520
CREATED:20250611T221802Z
LAST-MODIFIED:20250613T170535Z
UID:10010510-1817377200-1817380800@myrecovery.org
SUMMARY:AA - Artists In Recovery - Format: Discussion
DESCRIPTION:Discussion: Recovery meetings center around Big Book topics or pages selected by the Trusted Servant. The Trusted Servant speaks about the Big Book topic or pages selected and opens the meeting up for discussion for all attendees. \nCLICK HERE to join the meeting!
URL:https://myrecovery.org/event/aa-artists-in-recovery-format-discussion/2027-08-04/
CATEGORIES:AA,Discussion
ATTACH;FMTTYPE=image/jpeg:https://myrecovery.org/wp-content/uploads/2024/09/AA-Artists-In-Recovery-Format-Discussion-1.jpg
LOCATION:https://zoom.us/j/958586357?pwd=QVRxWUo4VlRnd05JY0ZWT0VZRk1IZz09
END:VEVENT
BEGIN:VEVENT
DTSTART;TZID=UTC:20270804T220000
DTEND;TZID=UTC:20270804T230000
DTSTAMP:20260423T054520
CREATED:20250611T222622Z
LAST-MODIFIED:20250613T170917Z
UID:10015694-1817416800-1817420400@myrecovery.org
SUMMARY:AA - Sober Stogies - Format: Discussion
DESCRIPTION:Big Book or Discussion: Recovery meetings center around Big Book topics or pages selected by the Trusted Servant. The Trusted Servant speaks about the Big Book topic or pages selected and opens the meeting up for discussion for all attendees. \nCLICK HERE to join the meeting!
URL:https://myrecovery.org/event/aa-sober-stogies-format-discussion/2027-08-04/
CATEGORIES:AA,Discussion
ATTACH;FMTTYPE=image/jpeg:https://myrecovery.org/wp-content/uploads/2024/02/AA-Sober-Stogies-Format-Discussion.jpg
LOCATION:https://zoom.us/j/440227720
END:VEVENT
BEGIN:VEVENT
DTSTART;TZID=UTC:20270809T183000
DTEND;TZID=UTC:20270809T193000
DTSTAMP:20260423T054520
CREATED:20250611T222145Z
LAST-MODIFIED:20250613T165844Z
UID:10011581-1817836200-1817839800@myrecovery.org
SUMMARY:OA (Overeaters Anonymous) - Robbinsdale - Format: Discussion
DESCRIPTION:Discussion: Recovery meetings center around Big Book topics or pages selected by the Trusted Servant. The Trusted Servant speaks about the Big Book topic or pages selected and opens the meeting up for discussion for all attendees. \nCLICK HERE to join the meeting!
URL:https://myrecovery.org/event/oa-overeaters-anonymous-robbinsdale-format-discussion/2027-08-09/
CATEGORIES:Discussion,OA
ATTACH;FMTTYPE=image/jpeg:https://myrecovery.org/wp-content/uploads/2024/02/OA-Overeaters-Anonymous-Robbinsdale-Format-Discussion.jpg
LOCATION:https://us02web.zoom.us/j/75795366633?pwd=eVNWcUZSandoR0Y1QXJ6c1h2TFl3Zz09
END:VEVENT
BEGIN:VEVENT
DTSTART;TZID=UTC:20270809T190000
DTEND;TZID=UTC:20270809T200000
DTSTAMP:20260423T054520
CREATED:20250611T222134Z
LAST-MODIFIED:20250613T165920Z
UID:10011841-1817838000-1817841600@myrecovery.org
SUMMARY:AA - Complete Defeat AA - Format: Steps and Discussion
DESCRIPTION:Steps: Recovery meetings will focus on the 12 steps rotating through a step per week. The Trusted Servant speaks about the step and opens the meeting up for discussion for all attendees. \nBig Book or Discussion: Recovery meetings center around Big Book topics or pages selected by the Trusted Servant. The Trusted Servant speaks about the Big Book topic or pages selected and opens the meeting up for discussion for all attendees. \nCLICK HERE to join the meeting!
URL:https://myrecovery.org/event/aa-complete-defeat-aa-format-steps-and-discussion-2/2027-08-09/
CATEGORIES:AA,Discussion,Steps
ATTACH;FMTTYPE=image/jpeg:https://myrecovery.org/wp-content/uploads/2024/02/AA-Complete-Defeat-AA-Format-Steps-and-Discussion.jpg
LOCATION:https://zoom.us/j/674001502?pwd=T0VkdjhXc2tkRmZxR0t6ZVpzQWs0dz09
END:VEVENT
BEGIN:VEVENT
DTSTART;TZID=UTC:20270809T200000
DTEND;TZID=UTC:20270809T210000
DTSTAMP:20260423T054520
CREATED:20250611T222129Z
LAST-MODIFIED:20250613T170851Z
UID:10012361-1817841600-1817845200@myrecovery.org
SUMMARY:The Retreat Alumni and Friends Meeting - Discussion
DESCRIPTION:Discussion: Recovery meetings center around Big Book topics or pages selected by the Trusted Servant. The Trusted Servant speaks about the Big Book topic or pages selected and opens the meeting up for discussion for all attendees. \nCLICK HERE to join the meeting!
URL:https://myrecovery.org/event/the-retreat-alumni-and-friends-meeting-discussion/2027-08-09/
CATEGORIES:Discussion,The Retreat
ATTACH;FMTTYPE=image/jpeg:https://myrecovery.org/wp-content/uploads/2024/02/The-Retreat-Alumni-and-Friends-Meeting-Discussion.jpg
LOCATION:https://us06web.zoom.us/j/81481719413?pwd=THBRSkdFQkhLNTBmb1JoaDQ0UFF1QT09
END:VEVENT
BEGIN:VEVENT
DTSTART;TZID=UTC:20270811T110000
DTEND;TZID=UTC:20270811T120000
DTSTAMP:20260423T054520
CREATED:20250611T221802Z
LAST-MODIFIED:20250613T170535Z
UID:10010511-1817982000-1817985600@myrecovery.org
SUMMARY:AA - Artists In Recovery - Format: Discussion
DESCRIPTION:Discussion: Recovery meetings center around Big Book topics or pages selected by the Trusted Servant. The Trusted Servant speaks about the Big Book topic or pages selected and opens the meeting up for discussion for all attendees. \nCLICK HERE to join the meeting!
URL:https://myrecovery.org/event/aa-artists-in-recovery-format-discussion/2027-08-11/
CATEGORIES:AA,Discussion
ATTACH;FMTTYPE=image/jpeg:https://myrecovery.org/wp-content/uploads/2024/09/AA-Artists-In-Recovery-Format-Discussion-1.jpg
LOCATION:https://zoom.us/j/958586357?pwd=QVRxWUo4VlRnd05JY0ZWT0VZRk1IZz09
END:VEVENT
BEGIN:VEVENT
DTSTART;TZID=UTC:20270811T220000
DTEND;TZID=UTC:20270811T230000
DTSTAMP:20260423T054520
CREATED:20250611T222622Z
LAST-MODIFIED:20250613T170917Z
UID:10015695-1818021600-1818025200@myrecovery.org
SUMMARY:AA - Sober Stogies - Format: Discussion
DESCRIPTION:Big Book or Discussion: Recovery meetings center around Big Book topics or pages selected by the Trusted Servant. The Trusted Servant speaks about the Big Book topic or pages selected and opens the meeting up for discussion for all attendees. \nCLICK HERE to join the meeting!
URL:https://myrecovery.org/event/aa-sober-stogies-format-discussion/2027-08-11/
CATEGORIES:AA,Discussion
ATTACH;FMTTYPE=image/jpeg:https://myrecovery.org/wp-content/uploads/2024/02/AA-Sober-Stogies-Format-Discussion.jpg
LOCATION:https://zoom.us/j/440227720
END:VEVENT
BEGIN:VEVENT
DTSTART;TZID=UTC:20270816T183000
DTEND;TZID=UTC:20270816T193000
DTSTAMP:20260423T054520
CREATED:20250611T222145Z
LAST-MODIFIED:20250613T165844Z
UID:10011582-1818441000-1818444600@myrecovery.org
SUMMARY:OA (Overeaters Anonymous) - Robbinsdale - Format: Discussion
DESCRIPTION:Discussion: Recovery meetings center around Big Book topics or pages selected by the Trusted Servant. The Trusted Servant speaks about the Big Book topic or pages selected and opens the meeting up for discussion for all attendees. \nCLICK HERE to join the meeting!
URL:https://myrecovery.org/event/oa-overeaters-anonymous-robbinsdale-format-discussion/2027-08-16/
CATEGORIES:Discussion,OA
ATTACH;FMTTYPE=image/jpeg:https://myrecovery.org/wp-content/uploads/2024/02/OA-Overeaters-Anonymous-Robbinsdale-Format-Discussion.jpg
LOCATION:https://us02web.zoom.us/j/75795366633?pwd=eVNWcUZSandoR0Y1QXJ6c1h2TFl3Zz09
END:VEVENT
BEGIN:VEVENT
DTSTART;TZID=UTC:20270816T190000
DTEND;TZID=UTC:20270816T200000
DTSTAMP:20260423T054520
CREATED:20250611T222134Z
LAST-MODIFIED:20250613T165920Z
UID:10011842-1818442800-1818446400@myrecovery.org
SUMMARY:AA - Complete Defeat AA - Format: Steps and Discussion
DESCRIPTION:Steps: Recovery meetings will focus on the 12 steps rotating through a step per week. The Trusted Servant speaks about the step and opens the meeting up for discussion for all attendees. \nBig Book or Discussion: Recovery meetings center around Big Book topics or pages selected by the Trusted Servant. The Trusted Servant speaks about the Big Book topic or pages selected and opens the meeting up for discussion for all attendees. \nCLICK HERE to join the meeting!
URL:https://myrecovery.org/event/aa-complete-defeat-aa-format-steps-and-discussion-2/2027-08-16/
CATEGORIES:AA,Discussion,Steps
ATTACH;FMTTYPE=image/jpeg:https://myrecovery.org/wp-content/uploads/2024/02/AA-Complete-Defeat-AA-Format-Steps-and-Discussion.jpg
LOCATION:https://zoom.us/j/674001502?pwd=T0VkdjhXc2tkRmZxR0t6ZVpzQWs0dz09
END:VEVENT
BEGIN:VEVENT
DTSTART;TZID=UTC:20270816T200000
DTEND;TZID=UTC:20270816T210000
DTSTAMP:20260423T054520
CREATED:20250611T222129Z
LAST-MODIFIED:20250613T170851Z
UID:10012362-1818446400-1818450000@myrecovery.org
SUMMARY:The Retreat Alumni and Friends Meeting - Discussion
DESCRIPTION:Discussion: Recovery meetings center around Big Book topics or pages selected by the Trusted Servant. The Trusted Servant speaks about the Big Book topic or pages selected and opens the meeting up for discussion for all attendees. \nCLICK HERE to join the meeting!
URL:https://myrecovery.org/event/the-retreat-alumni-and-friends-meeting-discussion/2027-08-16/
CATEGORIES:Discussion,The Retreat
ATTACH;FMTTYPE=image/jpeg:https://myrecovery.org/wp-content/uploads/2024/02/The-Retreat-Alumni-and-Friends-Meeting-Discussion.jpg
LOCATION:https://us06web.zoom.us/j/81481719413?pwd=THBRSkdFQkhLNTBmb1JoaDQ0UFF1QT09
END:VEVENT
BEGIN:VEVENT
DTSTART;TZID=UTC:20270818T110000
DTEND;TZID=UTC:20270818T120000
DTSTAMP:20260423T054520
CREATED:20250611T221802Z
LAST-MODIFIED:20250613T170535Z
UID:10010512-1818586800-1818590400@myrecovery.org
SUMMARY:AA - Artists In Recovery - Format: Discussion
DESCRIPTION:Discussion: Recovery meetings center around Big Book topics or pages selected by the Trusted Servant. The Trusted Servant speaks about the Big Book topic or pages selected and opens the meeting up for discussion for all attendees. \nCLICK HERE to join the meeting!
URL:https://myrecovery.org/event/aa-artists-in-recovery-format-discussion/2027-08-18/
CATEGORIES:AA,Discussion
ATTACH;FMTTYPE=image/jpeg:https://myrecovery.org/wp-content/uploads/2024/09/AA-Artists-In-Recovery-Format-Discussion-1.jpg
LOCATION:https://zoom.us/j/958586357?pwd=QVRxWUo4VlRnd05JY0ZWT0VZRk1IZz09
END:VEVENT
BEGIN:VEVENT
DTSTART;TZID=UTC:20270818T220000
DTEND;TZID=UTC:20270818T230000
DTSTAMP:20260423T054520
CREATED:20250611T222622Z
LAST-MODIFIED:20250613T170917Z
UID:10015696-1818626400-1818630000@myrecovery.org
SUMMARY:AA - Sober Stogies - Format: Discussion
DESCRIPTION:Big Book or Discussion: Recovery meetings center around Big Book topics or pages selected by the Trusted Servant. The Trusted Servant speaks about the Big Book topic or pages selected and opens the meeting up for discussion for all attendees. \nCLICK HERE to join the meeting!
URL:https://myrecovery.org/event/aa-sober-stogies-format-discussion/2027-08-18/
CATEGORIES:AA,Discussion
ATTACH;FMTTYPE=image/jpeg:https://myrecovery.org/wp-content/uploads/2024/02/AA-Sober-Stogies-Format-Discussion.jpg
LOCATION:https://zoom.us/j/440227720
END:VEVENT
BEGIN:VEVENT
DTSTART;TZID=UTC:20270819T073000
DTEND;TZID=UTC:20270819T083000
DTSTAMP:20260423T054520
CREATED:20250611T222123Z
LAST-MODIFIED:20250716T171846Z
UID:10017038-1818660600-1818664200@myrecovery.org
SUMMARY:The Retreat Breakfast Club - Format: Discussion
DESCRIPTION:NOTE: THIS IS NOT AN AA MEETING. \nDiscussion: Recovery meetings center around Big Book topics or pages selected by the Trusted Servant. The Trusted Servant speaks about the Big Book topic or pages selected and opens the meeting up for discussion for all attendees. \nCLICK HERE to join the meeting!
URL:https://myrecovery.org/event/the-retreat-breakfast-club-format-discussion/2027-08-19/
CATEGORIES:Discussion
ATTACH;FMTTYPE=image/jpeg:https://myrecovery.org/wp-content/uploads/2024/10/The-Retreat-Breakfast-Club-Format-Discussion.jpg
LOCATION:https://zoom.us/j/94412147463?pwd=K3A5RzNPS2w1bVZYMW5vRGp6QXdiZz09
END:VEVENT
BEGIN:VEVENT
DTSTART;TZID=UTC:20270823T183000
DTEND;TZID=UTC:20270823T193000
DTSTAMP:20260423T054520
CREATED:20250611T222145Z
LAST-MODIFIED:20250613T165844Z
UID:10011583-1819045800-1819049400@myrecovery.org
SUMMARY:OA (Overeaters Anonymous) - Robbinsdale - Format: Discussion
DESCRIPTION:Discussion: Recovery meetings center around Big Book topics or pages selected by the Trusted Servant. The Trusted Servant speaks about the Big Book topic or pages selected and opens the meeting up for discussion for all attendees. \nCLICK HERE to join the meeting!
URL:https://myrecovery.org/event/oa-overeaters-anonymous-robbinsdale-format-discussion/2027-08-23/
CATEGORIES:Discussion,OA
ATTACH;FMTTYPE=image/jpeg:https://myrecovery.org/wp-content/uploads/2024/02/OA-Overeaters-Anonymous-Robbinsdale-Format-Discussion.jpg
LOCATION:https://us02web.zoom.us/j/75795366633?pwd=eVNWcUZSandoR0Y1QXJ6c1h2TFl3Zz09
END:VEVENT
BEGIN:VEVENT
DTSTART;TZID=UTC:20270823T190000
DTEND;TZID=UTC:20270823T200000
DTSTAMP:20260423T054520
CREATED:20250611T222134Z
LAST-MODIFIED:20250613T165920Z
UID:10011843-1819047600-1819051200@myrecovery.org
SUMMARY:AA - Complete Defeat AA - Format: Steps and Discussion
DESCRIPTION:Steps: Recovery meetings will focus on the 12 steps rotating through a step per week. The Trusted Servant speaks about the step and opens the meeting up for discussion for all attendees. \nBig Book or Discussion: Recovery meetings center around Big Book topics or pages selected by the Trusted Servant. The Trusted Servant speaks about the Big Book topic or pages selected and opens the meeting up for discussion for all attendees. \nCLICK HERE to join the meeting!
URL:https://myrecovery.org/event/aa-complete-defeat-aa-format-steps-and-discussion-2/2027-08-23/
CATEGORIES:AA,Discussion,Steps
ATTACH;FMTTYPE=image/jpeg:https://myrecovery.org/wp-content/uploads/2024/02/AA-Complete-Defeat-AA-Format-Steps-and-Discussion.jpg
LOCATION:https://zoom.us/j/674001502?pwd=T0VkdjhXc2tkRmZxR0t6ZVpzQWs0dz09
END:VEVENT
BEGIN:VEVENT
DTSTART;TZID=UTC:20270823T200000
DTEND;TZID=UTC:20270823T210000
DTSTAMP:20260423T054520
CREATED:20250611T222129Z
LAST-MODIFIED:20250613T170851Z
UID:10012363-1819051200-1819054800@myrecovery.org
SUMMARY:The Retreat Alumni and Friends Meeting - Discussion
DESCRIPTION:Discussion: Recovery meetings center around Big Book topics or pages selected by the Trusted Servant. The Trusted Servant speaks about the Big Book topic or pages selected and opens the meeting up for discussion for all attendees. \nCLICK HERE to join the meeting!
URL:https://myrecovery.org/event/the-retreat-alumni-and-friends-meeting-discussion/2027-08-23/
CATEGORIES:Discussion,The Retreat
ATTACH;FMTTYPE=image/jpeg:https://myrecovery.org/wp-content/uploads/2024/02/The-Retreat-Alumni-and-Friends-Meeting-Discussion.jpg
LOCATION:https://us06web.zoom.us/j/81481719413?pwd=THBRSkdFQkhLNTBmb1JoaDQ0UFF1QT09
END:VEVENT
BEGIN:VEVENT
DTSTART;TZID=UTC:20270825T110000
DTEND;TZID=UTC:20270825T120000
DTSTAMP:20260423T054520
CREATED:20250611T221802Z
LAST-MODIFIED:20250613T170535Z
UID:10010513-1819191600-1819195200@myrecovery.org
SUMMARY:AA - Artists In Recovery - Format: Discussion
DESCRIPTION:Discussion: Recovery meetings center around Big Book topics or pages selected by the Trusted Servant. The Trusted Servant speaks about the Big Book topic or pages selected and opens the meeting up for discussion for all attendees. \nCLICK HERE to join the meeting!
URL:https://myrecovery.org/event/aa-artists-in-recovery-format-discussion/2027-08-25/
CATEGORIES:AA,Discussion
ATTACH;FMTTYPE=image/jpeg:https://myrecovery.org/wp-content/uploads/2024/09/AA-Artists-In-Recovery-Format-Discussion-1.jpg
LOCATION:https://zoom.us/j/958586357?pwd=QVRxWUo4VlRnd05JY0ZWT0VZRk1IZz09
END:VEVENT
BEGIN:VEVENT
DTSTART;TZID=UTC:20270825T220000
DTEND;TZID=UTC:20270825T230000
DTSTAMP:20260423T054520
CREATED:20250611T222622Z
LAST-MODIFIED:20250613T170917Z
UID:10015697-1819231200-1819234800@myrecovery.org
SUMMARY:AA - Sober Stogies - Format: Discussion
DESCRIPTION:Big Book or Discussion: Recovery meetings center around Big Book topics or pages selected by the Trusted Servant. The Trusted Servant speaks about the Big Book topic or pages selected and opens the meeting up for discussion for all attendees. \nCLICK HERE to join the meeting!
URL:https://myrecovery.org/event/aa-sober-stogies-format-discussion/2027-08-25/
CATEGORIES:AA,Discussion
ATTACH;FMTTYPE=image/jpeg:https://myrecovery.org/wp-content/uploads/2024/02/AA-Sober-Stogies-Format-Discussion.jpg
LOCATION:https://zoom.us/j/440227720
END:VEVENT
BEGIN:VEVENT
DTSTART;TZID=UTC:20270830T183000
DTEND;TZID=UTC:20270830T193000
DTSTAMP:20260423T054520
CREATED:20250611T222145Z
LAST-MODIFIED:20250613T165844Z
UID:10011584-1819650600-1819654200@myrecovery.org
SUMMARY:OA (Overeaters Anonymous) - Robbinsdale - Format: Discussion
DESCRIPTION:Discussion: Recovery meetings center around Big Book topics or pages selected by the Trusted Servant. The Trusted Servant speaks about the Big Book topic or pages selected and opens the meeting up for discussion for all attendees. \nCLICK HERE to join the meeting!
URL:https://myrecovery.org/event/oa-overeaters-anonymous-robbinsdale-format-discussion/2027-08-30/
CATEGORIES:Discussion,OA
ATTACH;FMTTYPE=image/jpeg:https://myrecovery.org/wp-content/uploads/2024/02/OA-Overeaters-Anonymous-Robbinsdale-Format-Discussion.jpg
LOCATION:https://us02web.zoom.us/j/75795366633?pwd=eVNWcUZSandoR0Y1QXJ6c1h2TFl3Zz09
END:VEVENT
BEGIN:VEVENT
DTSTART;TZID=UTC:20270830T190000
DTEND;TZID=UTC:20270830T200000
DTSTAMP:20260423T054520
CREATED:20250611T222134Z
LAST-MODIFIED:20250613T165920Z
UID:10011844-1819652400-1819656000@myrecovery.org
SUMMARY:AA - Complete Defeat AA - Format: Steps and Discussion
DESCRIPTION:Steps: Recovery meetings will focus on the 12 steps rotating through a step per week. The Trusted Servant speaks about the step and opens the meeting up for discussion for all attendees. \nBig Book or Discussion: Recovery meetings center around Big Book topics or pages selected by the Trusted Servant. The Trusted Servant speaks about the Big Book topic or pages selected and opens the meeting up for discussion for all attendees. \nCLICK HERE to join the meeting!
URL:https://myrecovery.org/event/aa-complete-defeat-aa-format-steps-and-discussion-2/2027-08-30/
CATEGORIES:AA,Discussion,Steps
ATTACH;FMTTYPE=image/jpeg:https://myrecovery.org/wp-content/uploads/2024/02/AA-Complete-Defeat-AA-Format-Steps-and-Discussion.jpg
LOCATION:https://zoom.us/j/674001502?pwd=T0VkdjhXc2tkRmZxR0t6ZVpzQWs0dz09
END:VEVENT
BEGIN:VEVENT
DTSTART;TZID=UTC:20270830T200000
DTEND;TZID=UTC:20270830T210000
DTSTAMP:20260423T054520
CREATED:20250611T222129Z
LAST-MODIFIED:20250613T170851Z
UID:10012364-1819656000-1819659600@myrecovery.org
SUMMARY:The Retreat Alumni and Friends Meeting - Discussion
DESCRIPTION:Discussion: Recovery meetings center around Big Book topics or pages selected by the Trusted Servant. The Trusted Servant speaks about the Big Book topic or pages selected and opens the meeting up for discussion for all attendees. \nCLICK HERE to join the meeting!
URL:https://myrecovery.org/event/the-retreat-alumni-and-friends-meeting-discussion/2027-08-30/
CATEGORIES:Discussion,The Retreat
ATTACH;FMTTYPE=image/jpeg:https://myrecovery.org/wp-content/uploads/2024/02/The-Retreat-Alumni-and-Friends-Meeting-Discussion.jpg
LOCATION:https://us06web.zoom.us/j/81481719413?pwd=THBRSkdFQkhLNTBmb1JoaDQ0UFF1QT09
END:VEVENT
BEGIN:VEVENT
DTSTART;TZID=UTC:20270901T110000
DTEND;TZID=UTC:20270901T120000
DTSTAMP:20260423T054520
CREATED:20250611T221802Z
LAST-MODIFIED:20250613T170535Z
UID:10010514-1819796400-1819800000@myrecovery.org
SUMMARY:AA - Artists In Recovery - Format: Discussion
DESCRIPTION:Discussion: Recovery meetings center around Big Book topics or pages selected by the Trusted Servant. The Trusted Servant speaks about the Big Book topic or pages selected and opens the meeting up for discussion for all attendees. \nCLICK HERE to join the meeting!
URL:https://myrecovery.org/event/aa-artists-in-recovery-format-discussion/2027-09-01/
CATEGORIES:AA,Discussion
ATTACH;FMTTYPE=image/jpeg:https://myrecovery.org/wp-content/uploads/2024/09/AA-Artists-In-Recovery-Format-Discussion-1.jpg
LOCATION:https://zoom.us/j/958586357?pwd=QVRxWUo4VlRnd05JY0ZWT0VZRk1IZz09
END:VEVENT
BEGIN:VEVENT
DTSTART;TZID=UTC:20270901T220000
DTEND;TZID=UTC:20270901T230000
DTSTAMP:20260423T054520
CREATED:20250611T222622Z
LAST-MODIFIED:20250613T170917Z
UID:10015698-1819836000-1819839600@myrecovery.org
SUMMARY:AA - Sober Stogies - Format: Discussion
DESCRIPTION:Big Book or Discussion: Recovery meetings center around Big Book topics or pages selected by the Trusted Servant. The Trusted Servant speaks about the Big Book topic or pages selected and opens the meeting up for discussion for all attendees. \nCLICK HERE to join the meeting!
URL:https://myrecovery.org/event/aa-sober-stogies-format-discussion/2027-09-01/
CATEGORIES:AA,Discussion
ATTACH;FMTTYPE=image/jpeg:https://myrecovery.org/wp-content/uploads/2024/02/AA-Sober-Stogies-Format-Discussion.jpg
LOCATION:https://zoom.us/j/440227720
END:VEVENT
BEGIN:VEVENT
DTSTART;TZID=UTC:20270906T183000
DTEND;TZID=UTC:20270906T193000
DTSTAMP:20260423T054520
CREATED:20250611T222145Z
LAST-MODIFIED:20250613T165844Z
UID:10011585-1820255400-1820259000@myrecovery.org
SUMMARY:OA (Overeaters Anonymous) - Robbinsdale - Format: Discussion
DESCRIPTION:Discussion: Recovery meetings center around Big Book topics or pages selected by the Trusted Servant. The Trusted Servant speaks about the Big Book topic or pages selected and opens the meeting up for discussion for all attendees. \nCLICK HERE to join the meeting!
URL:https://myrecovery.org/event/oa-overeaters-anonymous-robbinsdale-format-discussion/2027-09-06/
CATEGORIES:Discussion,OA
ATTACH;FMTTYPE=image/jpeg:https://myrecovery.org/wp-content/uploads/2024/02/OA-Overeaters-Anonymous-Robbinsdale-Format-Discussion.jpg
LOCATION:https://us02web.zoom.us/j/75795366633?pwd=eVNWcUZSandoR0Y1QXJ6c1h2TFl3Zz09
END:VEVENT
BEGIN:VEVENT
DTSTART;TZID=UTC:20270906T190000
DTEND;TZID=UTC:20270906T200000
DTSTAMP:20260423T054520
CREATED:20250611T222134Z
LAST-MODIFIED:20250613T165920Z
UID:10011845-1820257200-1820260800@myrecovery.org
SUMMARY:AA - Complete Defeat AA - Format: Steps and Discussion
DESCRIPTION:Steps: Recovery meetings will focus on the 12 steps rotating through a step per week. The Trusted Servant speaks about the step and opens the meeting up for discussion for all attendees. \nBig Book or Discussion: Recovery meetings center around Big Book topics or pages selected by the Trusted Servant. The Trusted Servant speaks about the Big Book topic or pages selected and opens the meeting up for discussion for all attendees. \nCLICK HERE to join the meeting!
URL:https://myrecovery.org/event/aa-complete-defeat-aa-format-steps-and-discussion-2/2027-09-06/
CATEGORIES:AA,Discussion,Steps
ATTACH;FMTTYPE=image/jpeg:https://myrecovery.org/wp-content/uploads/2024/02/AA-Complete-Defeat-AA-Format-Steps-and-Discussion.jpg
LOCATION:https://zoom.us/j/674001502?pwd=T0VkdjhXc2tkRmZxR0t6ZVpzQWs0dz09
END:VEVENT
BEGIN:VEVENT
DTSTART;TZID=UTC:20270906T200000
DTEND;TZID=UTC:20270906T210000
DTSTAMP:20260423T054520
CREATED:20250611T222129Z
LAST-MODIFIED:20250613T170851Z
UID:10012365-1820260800-1820264400@myrecovery.org
SUMMARY:The Retreat Alumni and Friends Meeting - Discussion
DESCRIPTION:Discussion: Recovery meetings center around Big Book topics or pages selected by the Trusted Servant. The Trusted Servant speaks about the Big Book topic or pages selected and opens the meeting up for discussion for all attendees. \nCLICK HERE to join the meeting!
URL:https://myrecovery.org/event/the-retreat-alumni-and-friends-meeting-discussion/2027-09-06/
CATEGORIES:Discussion,The Retreat
ATTACH;FMTTYPE=image/jpeg:https://myrecovery.org/wp-content/uploads/2024/02/The-Retreat-Alumni-and-Friends-Meeting-Discussion.jpg
LOCATION:https://us06web.zoom.us/j/81481719413?pwd=THBRSkdFQkhLNTBmb1JoaDQ0UFF1QT09
END:VEVENT
BEGIN:VEVENT
DTSTART;TZID=UTC:20270908T110000
DTEND;TZID=UTC:20270908T120000
DTSTAMP:20260423T054520
CREATED:20250611T221802Z
LAST-MODIFIED:20250613T170535Z
UID:10010515-1820401200-1820404800@myrecovery.org
SUMMARY:AA - Artists In Recovery - Format: Discussion
DESCRIPTION:Discussion: Recovery meetings center around Big Book topics or pages selected by the Trusted Servant. The Trusted Servant speaks about the Big Book topic or pages selected and opens the meeting up for discussion for all attendees. \nCLICK HERE to join the meeting!
URL:https://myrecovery.org/event/aa-artists-in-recovery-format-discussion/2027-09-08/
CATEGORIES:AA,Discussion
ATTACH;FMTTYPE=image/jpeg:https://myrecovery.org/wp-content/uploads/2024/09/AA-Artists-In-Recovery-Format-Discussion-1.jpg
LOCATION:https://zoom.us/j/958586357?pwd=QVRxWUo4VlRnd05JY0ZWT0VZRk1IZz09
END:VEVENT
BEGIN:VEVENT
DTSTART;TZID=UTC:20270908T220000
DTEND;TZID=UTC:20270908T230000
DTSTAMP:20260423T054520
CREATED:20250611T222622Z
LAST-MODIFIED:20250613T170917Z
UID:10015699-1820440800-1820444400@myrecovery.org
SUMMARY:AA - Sober Stogies - Format: Discussion
DESCRIPTION:Big Book or Discussion: Recovery meetings center around Big Book topics or pages selected by the Trusted Servant. The Trusted Servant speaks about the Big Book topic or pages selected and opens the meeting up for discussion for all attendees. \nCLICK HERE to join the meeting!
URL:https://myrecovery.org/event/aa-sober-stogies-format-discussion/2027-09-08/
CATEGORIES:AA,Discussion
ATTACH;FMTTYPE=image/jpeg:https://myrecovery.org/wp-content/uploads/2024/02/AA-Sober-Stogies-Format-Discussion.jpg
LOCATION:https://zoom.us/j/440227720
END:VEVENT
BEGIN:VEVENT
DTSTART;TZID=UTC:20270913T183000
DTEND;TZID=UTC:20270913T193000
DTSTAMP:20260423T054520
CREATED:20250611T222145Z
LAST-MODIFIED:20250613T165844Z
UID:10011586-1820860200-1820863800@myrecovery.org
SUMMARY:OA (Overeaters Anonymous) - Robbinsdale - Format: Discussion
DESCRIPTION:Discussion: Recovery meetings center around Big Book topics or pages selected by the Trusted Servant. The Trusted Servant speaks about the Big Book topic or pages selected and opens the meeting up for discussion for all attendees. \nCLICK HERE to join the meeting!
URL:https://myrecovery.org/event/oa-overeaters-anonymous-robbinsdale-format-discussion/2027-09-13/
CATEGORIES:Discussion,OA
ATTACH;FMTTYPE=image/jpeg:https://myrecovery.org/wp-content/uploads/2024/02/OA-Overeaters-Anonymous-Robbinsdale-Format-Discussion.jpg
LOCATION:https://us02web.zoom.us/j/75795366633?pwd=eVNWcUZSandoR0Y1QXJ6c1h2TFl3Zz09
END:VEVENT
BEGIN:VEVENT
DTSTART;TZID=UTC:20270913T190000
DTEND;TZID=UTC:20270913T200000
DTSTAMP:20260423T054520
CREATED:20250611T222134Z
LAST-MODIFIED:20250613T165920Z
UID:10011846-1820862000-1820865600@myrecovery.org
SUMMARY:AA - Complete Defeat AA - Format: Steps and Discussion
DESCRIPTION:Steps: Recovery meetings will focus on the 12 steps rotating through a step per week. The Trusted Servant speaks about the step and opens the meeting up for discussion for all attendees. \nBig Book or Discussion: Recovery meetings center around Big Book topics or pages selected by the Trusted Servant. The Trusted Servant speaks about the Big Book topic or pages selected and opens the meeting up for discussion for all attendees. \nCLICK HERE to join the meeting!
URL:https://myrecovery.org/event/aa-complete-defeat-aa-format-steps-and-discussion-2/2027-09-13/
CATEGORIES:AA,Discussion,Steps
ATTACH;FMTTYPE=image/jpeg:https://myrecovery.org/wp-content/uploads/2024/02/AA-Complete-Defeat-AA-Format-Steps-and-Discussion.jpg
LOCATION:https://zoom.us/j/674001502?pwd=T0VkdjhXc2tkRmZxR0t6ZVpzQWs0dz09
END:VEVENT
END:VCALENDAR