BEGIN:VCALENDAR
VERSION:2.0
PRODID:-//My Recovery - ECPv6.15.17//NONSGML v1.0//EN
CALSCALE:GREGORIAN
METHOD:PUBLISH
X-ORIGINAL-URL:https://myrecovery.org
X-WR-CALDESC:Events for My Recovery
REFRESH-INTERVAL;VALUE=DURATION:PT1H
X-Robots-Tag:noindex
X-PUBLISHED-TTL:PT1H
BEGIN:VTIMEZONE
TZID:UTC
BEGIN:STANDARD
TZOFFSETFROM:+0000
TZOFFSETTO:+0000
TZNAME:UTC
DTSTART:20260101T000000
END:STANDARD
END:VTIMEZONE
BEGIN:VEVENT
DTSTART;TZID=UTC:20270428T110000
DTEND;TZID=UTC:20270428T120000
DTSTAMP:20260422T205007
CREATED:20250611T221802Z
LAST-MODIFIED:20250613T170535Z
UID:10010496-1808910000-1808913600@myrecovery.org
SUMMARY:AA - Artists In Recovery - Format: Discussion
DESCRIPTION:Discussion: Recovery meetings center around Big Book topics or pages selected by the Trusted Servant. The Trusted Servant speaks about the Big Book topic or pages selected and opens the meeting up for discussion for all attendees. \nCLICK HERE to join the meeting!
URL:https://myrecovery.org/event/aa-artists-in-recovery-format-discussion/2027-04-28/
CATEGORIES:AA,Discussion
ATTACH;FMTTYPE=image/jpeg:https://myrecovery.org/wp-content/uploads/2024/09/AA-Artists-In-Recovery-Format-Discussion-1.jpg
LOCATION:https://zoom.us/j/958586357?pwd=QVRxWUo4VlRnd05JY0ZWT0VZRk1IZz09
END:VEVENT
BEGIN:VEVENT
DTSTART;TZID=UTC:20270428T220000
DTEND;TZID=UTC:20270428T230000
DTSTAMP:20260422T205007
CREATED:20250611T222622Z
LAST-MODIFIED:20250613T170917Z
UID:10015680-1808949600-1808953200@myrecovery.org
SUMMARY:AA - Sober Stogies - Format: Discussion
DESCRIPTION:Big Book or Discussion: Recovery meetings center around Big Book topics or pages selected by the Trusted Servant. The Trusted Servant speaks about the Big Book topic or pages selected and opens the meeting up for discussion for all attendees. \nCLICK HERE to join the meeting!
URL:https://myrecovery.org/event/aa-sober-stogies-format-discussion/2027-04-28/
CATEGORIES:AA,Discussion
ATTACH;FMTTYPE=image/jpeg:https://myrecovery.org/wp-content/uploads/2024/02/AA-Sober-Stogies-Format-Discussion.jpg
LOCATION:https://zoom.us/j/440227720
END:VEVENT
BEGIN:VEVENT
DTSTART;TZID=UTC:20270503T183000
DTEND;TZID=UTC:20270503T193000
DTSTAMP:20260422T205007
CREATED:20250611T222145Z
LAST-MODIFIED:20250613T165844Z
UID:10011567-1809369000-1809372600@myrecovery.org
SUMMARY:OA (Overeaters Anonymous) - Robbinsdale - Format: Discussion
DESCRIPTION:Discussion: Recovery meetings center around Big Book topics or pages selected by the Trusted Servant. The Trusted Servant speaks about the Big Book topic or pages selected and opens the meeting up for discussion for all attendees. \nCLICK HERE to join the meeting!
URL:https://myrecovery.org/event/oa-overeaters-anonymous-robbinsdale-format-discussion/2027-05-03/
CATEGORIES:Discussion,OA
ATTACH;FMTTYPE=image/jpeg:https://myrecovery.org/wp-content/uploads/2024/02/OA-Overeaters-Anonymous-Robbinsdale-Format-Discussion.jpg
LOCATION:https://us02web.zoom.us/j/75795366633?pwd=eVNWcUZSandoR0Y1QXJ6c1h2TFl3Zz09
END:VEVENT
BEGIN:VEVENT
DTSTART;TZID=UTC:20270503T190000
DTEND;TZID=UTC:20270503T200000
DTSTAMP:20260422T205007
CREATED:20250611T222134Z
LAST-MODIFIED:20250613T165920Z
UID:10011827-1809370800-1809374400@myrecovery.org
SUMMARY:AA - Complete Defeat AA - Format: Steps and Discussion
DESCRIPTION:Steps: Recovery meetings will focus on the 12 steps rotating through a step per week. The Trusted Servant speaks about the step and opens the meeting up for discussion for all attendees. \nBig Book or Discussion: Recovery meetings center around Big Book topics or pages selected by the Trusted Servant. The Trusted Servant speaks about the Big Book topic or pages selected and opens the meeting up for discussion for all attendees. \nCLICK HERE to join the meeting!
URL:https://myrecovery.org/event/aa-complete-defeat-aa-format-steps-and-discussion-2/2027-05-03/
CATEGORIES:AA,Discussion,Steps
ATTACH;FMTTYPE=image/jpeg:https://myrecovery.org/wp-content/uploads/2024/02/AA-Complete-Defeat-AA-Format-Steps-and-Discussion.jpg
LOCATION:https://zoom.us/j/674001502?pwd=T0VkdjhXc2tkRmZxR0t6ZVpzQWs0dz09
END:VEVENT
BEGIN:VEVENT
DTSTART;TZID=UTC:20270503T200000
DTEND;TZID=UTC:20270503T210000
DTSTAMP:20260422T205007
CREATED:20250611T222129Z
LAST-MODIFIED:20250613T170851Z
UID:10012347-1809374400-1809378000@myrecovery.org
SUMMARY:The Retreat Alumni and Friends Meeting - Discussion
DESCRIPTION:Discussion: Recovery meetings center around Big Book topics or pages selected by the Trusted Servant. The Trusted Servant speaks about the Big Book topic or pages selected and opens the meeting up for discussion for all attendees. \nCLICK HERE to join the meeting!
URL:https://myrecovery.org/event/the-retreat-alumni-and-friends-meeting-discussion/2027-05-03/
CATEGORIES:Discussion,The Retreat
ATTACH;FMTTYPE=image/jpeg:https://myrecovery.org/wp-content/uploads/2024/02/The-Retreat-Alumni-and-Friends-Meeting-Discussion.jpg
LOCATION:https://us06web.zoom.us/j/81481719413?pwd=THBRSkdFQkhLNTBmb1JoaDQ0UFF1QT09
END:VEVENT
BEGIN:VEVENT
DTSTART;TZID=UTC:20270505T110000
DTEND;TZID=UTC:20270505T120000
DTSTAMP:20260422T205007
CREATED:20250611T221802Z
LAST-MODIFIED:20250613T170535Z
UID:10010497-1809514800-1809518400@myrecovery.org
SUMMARY:AA - Artists In Recovery - Format: Discussion
DESCRIPTION:Discussion: Recovery meetings center around Big Book topics or pages selected by the Trusted Servant. The Trusted Servant speaks about the Big Book topic or pages selected and opens the meeting up for discussion for all attendees. \nCLICK HERE to join the meeting!
URL:https://myrecovery.org/event/aa-artists-in-recovery-format-discussion/2027-05-05/
CATEGORIES:AA,Discussion
ATTACH;FMTTYPE=image/jpeg:https://myrecovery.org/wp-content/uploads/2024/09/AA-Artists-In-Recovery-Format-Discussion-1.jpg
LOCATION:https://zoom.us/j/958586357?pwd=QVRxWUo4VlRnd05JY0ZWT0VZRk1IZz09
END:VEVENT
BEGIN:VEVENT
DTSTART;TZID=UTC:20270505T220000
DTEND;TZID=UTC:20270505T230000
DTSTAMP:20260422T205007
CREATED:20250611T222622Z
LAST-MODIFIED:20250613T170917Z
UID:10015681-1809554400-1809558000@myrecovery.org
SUMMARY:AA - Sober Stogies - Format: Discussion
DESCRIPTION:Big Book or Discussion: Recovery meetings center around Big Book topics or pages selected by the Trusted Servant. The Trusted Servant speaks about the Big Book topic or pages selected and opens the meeting up for discussion for all attendees. \nCLICK HERE to join the meeting!
URL:https://myrecovery.org/event/aa-sober-stogies-format-discussion/2027-05-05/
CATEGORIES:AA,Discussion
ATTACH;FMTTYPE=image/jpeg:https://myrecovery.org/wp-content/uploads/2024/02/AA-Sober-Stogies-Format-Discussion.jpg
LOCATION:https://zoom.us/j/440227720
END:VEVENT
BEGIN:VEVENT
DTSTART;TZID=UTC:20270510T183000
DTEND;TZID=UTC:20270510T193000
DTSTAMP:20260422T205007
CREATED:20250611T222145Z
LAST-MODIFIED:20250613T165844Z
UID:10011568-1809973800-1809977400@myrecovery.org
SUMMARY:OA (Overeaters Anonymous) - Robbinsdale - Format: Discussion
DESCRIPTION:Discussion: Recovery meetings center around Big Book topics or pages selected by the Trusted Servant. The Trusted Servant speaks about the Big Book topic or pages selected and opens the meeting up for discussion for all attendees. \nCLICK HERE to join the meeting!
URL:https://myrecovery.org/event/oa-overeaters-anonymous-robbinsdale-format-discussion/2027-05-10/
CATEGORIES:Discussion,OA
ATTACH;FMTTYPE=image/jpeg:https://myrecovery.org/wp-content/uploads/2024/02/OA-Overeaters-Anonymous-Robbinsdale-Format-Discussion.jpg
LOCATION:https://us02web.zoom.us/j/75795366633?pwd=eVNWcUZSandoR0Y1QXJ6c1h2TFl3Zz09
END:VEVENT
BEGIN:VEVENT
DTSTART;TZID=UTC:20270510T190000
DTEND;TZID=UTC:20270510T200000
DTSTAMP:20260422T205007
CREATED:20250611T222134Z
LAST-MODIFIED:20250613T165920Z
UID:10011828-1809975600-1809979200@myrecovery.org
SUMMARY:AA - Complete Defeat AA - Format: Steps and Discussion
DESCRIPTION:Steps: Recovery meetings will focus on the 12 steps rotating through a step per week. The Trusted Servant speaks about the step and opens the meeting up for discussion for all attendees. \nBig Book or Discussion: Recovery meetings center around Big Book topics or pages selected by the Trusted Servant. The Trusted Servant speaks about the Big Book topic or pages selected and opens the meeting up for discussion for all attendees. \nCLICK HERE to join the meeting!
URL:https://myrecovery.org/event/aa-complete-defeat-aa-format-steps-and-discussion-2/2027-05-10/
CATEGORIES:AA,Discussion,Steps
ATTACH;FMTTYPE=image/jpeg:https://myrecovery.org/wp-content/uploads/2024/02/AA-Complete-Defeat-AA-Format-Steps-and-Discussion.jpg
LOCATION:https://zoom.us/j/674001502?pwd=T0VkdjhXc2tkRmZxR0t6ZVpzQWs0dz09
END:VEVENT
BEGIN:VEVENT
DTSTART;TZID=UTC:20270510T200000
DTEND;TZID=UTC:20270510T210000
DTSTAMP:20260422T205007
CREATED:20250611T222129Z
LAST-MODIFIED:20250613T170851Z
UID:10012348-1809979200-1809982800@myrecovery.org
SUMMARY:The Retreat Alumni and Friends Meeting - Discussion
DESCRIPTION:Discussion: Recovery meetings center around Big Book topics or pages selected by the Trusted Servant. The Trusted Servant speaks about the Big Book topic or pages selected and opens the meeting up for discussion for all attendees. \nCLICK HERE to join the meeting!
URL:https://myrecovery.org/event/the-retreat-alumni-and-friends-meeting-discussion/2027-05-10/
CATEGORIES:Discussion,The Retreat
ATTACH;FMTTYPE=image/jpeg:https://myrecovery.org/wp-content/uploads/2024/02/The-Retreat-Alumni-and-Friends-Meeting-Discussion.jpg
LOCATION:https://us06web.zoom.us/j/81481719413?pwd=THBRSkdFQkhLNTBmb1JoaDQ0UFF1QT09
END:VEVENT
BEGIN:VEVENT
DTSTART;TZID=UTC:20270512T110000
DTEND;TZID=UTC:20270512T120000
DTSTAMP:20260422T205007
CREATED:20250611T221802Z
LAST-MODIFIED:20250613T170535Z
UID:10010498-1810119600-1810123200@myrecovery.org
SUMMARY:AA - Artists In Recovery - Format: Discussion
DESCRIPTION:Discussion: Recovery meetings center around Big Book topics or pages selected by the Trusted Servant. The Trusted Servant speaks about the Big Book topic or pages selected and opens the meeting up for discussion for all attendees. \nCLICK HERE to join the meeting!
URL:https://myrecovery.org/event/aa-artists-in-recovery-format-discussion/2027-05-12/
CATEGORIES:AA,Discussion
ATTACH;FMTTYPE=image/jpeg:https://myrecovery.org/wp-content/uploads/2024/09/AA-Artists-In-Recovery-Format-Discussion-1.jpg
LOCATION:https://zoom.us/j/958586357?pwd=QVRxWUo4VlRnd05JY0ZWT0VZRk1IZz09
END:VEVENT
BEGIN:VEVENT
DTSTART;TZID=UTC:20270512T220000
DTEND;TZID=UTC:20270512T230000
DTSTAMP:20260422T205007
CREATED:20250611T222622Z
LAST-MODIFIED:20250613T170917Z
UID:10015682-1810159200-1810162800@myrecovery.org
SUMMARY:AA - Sober Stogies - Format: Discussion
DESCRIPTION:Big Book or Discussion: Recovery meetings center around Big Book topics or pages selected by the Trusted Servant. The Trusted Servant speaks about the Big Book topic or pages selected and opens the meeting up for discussion for all attendees. \nCLICK HERE to join the meeting!
URL:https://myrecovery.org/event/aa-sober-stogies-format-discussion/2027-05-12/
CATEGORIES:AA,Discussion
ATTACH;FMTTYPE=image/jpeg:https://myrecovery.org/wp-content/uploads/2024/02/AA-Sober-Stogies-Format-Discussion.jpg
LOCATION:https://zoom.us/j/440227720
END:VEVENT
BEGIN:VEVENT
DTSTART;TZID=UTC:20270517T183000
DTEND;TZID=UTC:20270517T193000
DTSTAMP:20260422T205007
CREATED:20250611T222145Z
LAST-MODIFIED:20250613T165844Z
UID:10011569-1810578600-1810582200@myrecovery.org
SUMMARY:OA (Overeaters Anonymous) - Robbinsdale - Format: Discussion
DESCRIPTION:Discussion: Recovery meetings center around Big Book topics or pages selected by the Trusted Servant. The Trusted Servant speaks about the Big Book topic or pages selected and opens the meeting up for discussion for all attendees. \nCLICK HERE to join the meeting!
URL:https://myrecovery.org/event/oa-overeaters-anonymous-robbinsdale-format-discussion/2027-05-17/
CATEGORIES:Discussion,OA
ATTACH;FMTTYPE=image/jpeg:https://myrecovery.org/wp-content/uploads/2024/02/OA-Overeaters-Anonymous-Robbinsdale-Format-Discussion.jpg
LOCATION:https://us02web.zoom.us/j/75795366633?pwd=eVNWcUZSandoR0Y1QXJ6c1h2TFl3Zz09
END:VEVENT
BEGIN:VEVENT
DTSTART;TZID=UTC:20270517T190000
DTEND;TZID=UTC:20270517T200000
DTSTAMP:20260422T205007
CREATED:20250611T222134Z
LAST-MODIFIED:20250613T165920Z
UID:10011829-1810580400-1810584000@myrecovery.org
SUMMARY:AA - Complete Defeat AA - Format: Steps and Discussion
DESCRIPTION:Steps: Recovery meetings will focus on the 12 steps rotating through a step per week. The Trusted Servant speaks about the step and opens the meeting up for discussion for all attendees. \nBig Book or Discussion: Recovery meetings center around Big Book topics or pages selected by the Trusted Servant. The Trusted Servant speaks about the Big Book topic or pages selected and opens the meeting up for discussion for all attendees. \nCLICK HERE to join the meeting!
URL:https://myrecovery.org/event/aa-complete-defeat-aa-format-steps-and-discussion-2/2027-05-17/
CATEGORIES:AA,Discussion,Steps
ATTACH;FMTTYPE=image/jpeg:https://myrecovery.org/wp-content/uploads/2024/02/AA-Complete-Defeat-AA-Format-Steps-and-Discussion.jpg
LOCATION:https://zoom.us/j/674001502?pwd=T0VkdjhXc2tkRmZxR0t6ZVpzQWs0dz09
END:VEVENT
BEGIN:VEVENT
DTSTART;TZID=UTC:20270517T200000
DTEND;TZID=UTC:20270517T210000
DTSTAMP:20260422T205007
CREATED:20250611T222129Z
LAST-MODIFIED:20250613T170851Z
UID:10012349-1810584000-1810587600@myrecovery.org
SUMMARY:The Retreat Alumni and Friends Meeting - Discussion
DESCRIPTION:Discussion: Recovery meetings center around Big Book topics or pages selected by the Trusted Servant. The Trusted Servant speaks about the Big Book topic or pages selected and opens the meeting up for discussion for all attendees. \nCLICK HERE to join the meeting!
URL:https://myrecovery.org/event/the-retreat-alumni-and-friends-meeting-discussion/2027-05-17/
CATEGORIES:Discussion,The Retreat
ATTACH;FMTTYPE=image/jpeg:https://myrecovery.org/wp-content/uploads/2024/02/The-Retreat-Alumni-and-Friends-Meeting-Discussion.jpg
LOCATION:https://us06web.zoom.us/j/81481719413?pwd=THBRSkdFQkhLNTBmb1JoaDQ0UFF1QT09
END:VEVENT
BEGIN:VEVENT
DTSTART;TZID=UTC:20270519T110000
DTEND;TZID=UTC:20270519T120000
DTSTAMP:20260422T205007
CREATED:20250611T221802Z
LAST-MODIFIED:20250613T170535Z
UID:10010499-1810724400-1810728000@myrecovery.org
SUMMARY:AA - Artists In Recovery - Format: Discussion
DESCRIPTION:Discussion: Recovery meetings center around Big Book topics or pages selected by the Trusted Servant. The Trusted Servant speaks about the Big Book topic or pages selected and opens the meeting up for discussion for all attendees. \nCLICK HERE to join the meeting!
URL:https://myrecovery.org/event/aa-artists-in-recovery-format-discussion/2027-05-19/
CATEGORIES:AA,Discussion
ATTACH;FMTTYPE=image/jpeg:https://myrecovery.org/wp-content/uploads/2024/09/AA-Artists-In-Recovery-Format-Discussion-1.jpg
LOCATION:https://zoom.us/j/958586357?pwd=QVRxWUo4VlRnd05JY0ZWT0VZRk1IZz09
END:VEVENT
BEGIN:VEVENT
DTSTART;TZID=UTC:20270519T220000
DTEND;TZID=UTC:20270519T230000
DTSTAMP:20260422T205007
CREATED:20250611T222622Z
LAST-MODIFIED:20250613T170917Z
UID:10015683-1810764000-1810767600@myrecovery.org
SUMMARY:AA - Sober Stogies - Format: Discussion
DESCRIPTION:Big Book or Discussion: Recovery meetings center around Big Book topics or pages selected by the Trusted Servant. The Trusted Servant speaks about the Big Book topic or pages selected and opens the meeting up for discussion for all attendees. \nCLICK HERE to join the meeting!
URL:https://myrecovery.org/event/aa-sober-stogies-format-discussion/2027-05-19/
CATEGORIES:AA,Discussion
ATTACH;FMTTYPE=image/jpeg:https://myrecovery.org/wp-content/uploads/2024/02/AA-Sober-Stogies-Format-Discussion.jpg
LOCATION:https://zoom.us/j/440227720
END:VEVENT
BEGIN:VEVENT
DTSTART;TZID=UTC:20270520T073000
DTEND;TZID=UTC:20270520T083000
DTSTAMP:20260422T205007
CREATED:20250611T222123Z
LAST-MODIFIED:20250716T171846Z
UID:10017035-1810798200-1810801800@myrecovery.org
SUMMARY:The Retreat Breakfast Club - Format: Discussion
DESCRIPTION:NOTE: THIS IS NOT AN AA MEETING. \nDiscussion: Recovery meetings center around Big Book topics or pages selected by the Trusted Servant. The Trusted Servant speaks about the Big Book topic or pages selected and opens the meeting up for discussion for all attendees. \nCLICK HERE to join the meeting!
URL:https://myrecovery.org/event/the-retreat-breakfast-club-format-discussion/2027-05-20/
CATEGORIES:Discussion
ATTACH;FMTTYPE=image/jpeg:https://myrecovery.org/wp-content/uploads/2024/10/The-Retreat-Breakfast-Club-Format-Discussion.jpg
LOCATION:https://zoom.us/j/94412147463?pwd=K3A5RzNPS2w1bVZYMW5vRGp6QXdiZz09
END:VEVENT
BEGIN:VEVENT
DTSTART;TZID=UTC:20270524T183000
DTEND;TZID=UTC:20270524T193000
DTSTAMP:20260422T205007
CREATED:20250611T222145Z
LAST-MODIFIED:20250613T165844Z
UID:10011570-1811183400-1811187000@myrecovery.org
SUMMARY:OA (Overeaters Anonymous) - Robbinsdale - Format: Discussion
DESCRIPTION:Discussion: Recovery meetings center around Big Book topics or pages selected by the Trusted Servant. The Trusted Servant speaks about the Big Book topic or pages selected and opens the meeting up for discussion for all attendees. \nCLICK HERE to join the meeting!
URL:https://myrecovery.org/event/oa-overeaters-anonymous-robbinsdale-format-discussion/2027-05-24/
CATEGORIES:Discussion,OA
ATTACH;FMTTYPE=image/jpeg:https://myrecovery.org/wp-content/uploads/2024/02/OA-Overeaters-Anonymous-Robbinsdale-Format-Discussion.jpg
LOCATION:https://us02web.zoom.us/j/75795366633?pwd=eVNWcUZSandoR0Y1QXJ6c1h2TFl3Zz09
END:VEVENT
BEGIN:VEVENT
DTSTART;TZID=UTC:20270524T190000
DTEND;TZID=UTC:20270524T200000
DTSTAMP:20260422T205007
CREATED:20250611T222134Z
LAST-MODIFIED:20250613T165920Z
UID:10011830-1811185200-1811188800@myrecovery.org
SUMMARY:AA - Complete Defeat AA - Format: Steps and Discussion
DESCRIPTION:Steps: Recovery meetings will focus on the 12 steps rotating through a step per week. The Trusted Servant speaks about the step and opens the meeting up for discussion for all attendees. \nBig Book or Discussion: Recovery meetings center around Big Book topics or pages selected by the Trusted Servant. The Trusted Servant speaks about the Big Book topic or pages selected and opens the meeting up for discussion for all attendees. \nCLICK HERE to join the meeting!
URL:https://myrecovery.org/event/aa-complete-defeat-aa-format-steps-and-discussion-2/2027-05-24/
CATEGORIES:AA,Discussion,Steps
ATTACH;FMTTYPE=image/jpeg:https://myrecovery.org/wp-content/uploads/2024/02/AA-Complete-Defeat-AA-Format-Steps-and-Discussion.jpg
LOCATION:https://zoom.us/j/674001502?pwd=T0VkdjhXc2tkRmZxR0t6ZVpzQWs0dz09
END:VEVENT
BEGIN:VEVENT
DTSTART;TZID=UTC:20270524T200000
DTEND;TZID=UTC:20270524T210000
DTSTAMP:20260422T205007
CREATED:20250611T222129Z
LAST-MODIFIED:20250613T170851Z
UID:10012350-1811188800-1811192400@myrecovery.org
SUMMARY:The Retreat Alumni and Friends Meeting - Discussion
DESCRIPTION:Discussion: Recovery meetings center around Big Book topics or pages selected by the Trusted Servant. The Trusted Servant speaks about the Big Book topic or pages selected and opens the meeting up for discussion for all attendees. \nCLICK HERE to join the meeting!
URL:https://myrecovery.org/event/the-retreat-alumni-and-friends-meeting-discussion/2027-05-24/
CATEGORIES:Discussion,The Retreat
ATTACH;FMTTYPE=image/jpeg:https://myrecovery.org/wp-content/uploads/2024/02/The-Retreat-Alumni-and-Friends-Meeting-Discussion.jpg
LOCATION:https://us06web.zoom.us/j/81481719413?pwd=THBRSkdFQkhLNTBmb1JoaDQ0UFF1QT09
END:VEVENT
BEGIN:VEVENT
DTSTART;TZID=UTC:20270526T110000
DTEND;TZID=UTC:20270526T120000
DTSTAMP:20260422T205007
CREATED:20250611T221802Z
LAST-MODIFIED:20250613T170535Z
UID:10010500-1811329200-1811332800@myrecovery.org
SUMMARY:AA - Artists In Recovery - Format: Discussion
DESCRIPTION:Discussion: Recovery meetings center around Big Book topics or pages selected by the Trusted Servant. The Trusted Servant speaks about the Big Book topic or pages selected and opens the meeting up for discussion for all attendees. \nCLICK HERE to join the meeting!
URL:https://myrecovery.org/event/aa-artists-in-recovery-format-discussion/2027-05-26/
CATEGORIES:AA,Discussion
ATTACH;FMTTYPE=image/jpeg:https://myrecovery.org/wp-content/uploads/2024/09/AA-Artists-In-Recovery-Format-Discussion-1.jpg
LOCATION:https://zoom.us/j/958586357?pwd=QVRxWUo4VlRnd05JY0ZWT0VZRk1IZz09
END:VEVENT
BEGIN:VEVENT
DTSTART;TZID=UTC:20270526T220000
DTEND;TZID=UTC:20270526T230000
DTSTAMP:20260422T205008
CREATED:20250611T222622Z
LAST-MODIFIED:20250613T170917Z
UID:10015684-1811368800-1811372400@myrecovery.org
SUMMARY:AA - Sober Stogies - Format: Discussion
DESCRIPTION:Big Book or Discussion: Recovery meetings center around Big Book topics or pages selected by the Trusted Servant. The Trusted Servant speaks about the Big Book topic or pages selected and opens the meeting up for discussion for all attendees. \nCLICK HERE to join the meeting!
URL:https://myrecovery.org/event/aa-sober-stogies-format-discussion/2027-05-26/
CATEGORIES:AA,Discussion
ATTACH;FMTTYPE=image/jpeg:https://myrecovery.org/wp-content/uploads/2024/02/AA-Sober-Stogies-Format-Discussion.jpg
LOCATION:https://zoom.us/j/440227720
END:VEVENT
BEGIN:VEVENT
DTSTART;TZID=UTC:20270531T183000
DTEND;TZID=UTC:20270531T193000
DTSTAMP:20260422T205008
CREATED:20250611T222145Z
LAST-MODIFIED:20250613T165844Z
UID:10011571-1811788200-1811791800@myrecovery.org
SUMMARY:OA (Overeaters Anonymous) - Robbinsdale - Format: Discussion
DESCRIPTION:Discussion: Recovery meetings center around Big Book topics or pages selected by the Trusted Servant. The Trusted Servant speaks about the Big Book topic or pages selected and opens the meeting up for discussion for all attendees. \nCLICK HERE to join the meeting!
URL:https://myrecovery.org/event/oa-overeaters-anonymous-robbinsdale-format-discussion/2027-05-31/
CATEGORIES:Discussion,OA
ATTACH;FMTTYPE=image/jpeg:https://myrecovery.org/wp-content/uploads/2024/02/OA-Overeaters-Anonymous-Robbinsdale-Format-Discussion.jpg
LOCATION:https://us02web.zoom.us/j/75795366633?pwd=eVNWcUZSandoR0Y1QXJ6c1h2TFl3Zz09
END:VEVENT
BEGIN:VEVENT
DTSTART;TZID=UTC:20270531T190000
DTEND;TZID=UTC:20270531T200000
DTSTAMP:20260422T205008
CREATED:20250611T222134Z
LAST-MODIFIED:20250613T165920Z
UID:10011831-1811790000-1811793600@myrecovery.org
SUMMARY:AA - Complete Defeat AA - Format: Steps and Discussion
DESCRIPTION:Steps: Recovery meetings will focus on the 12 steps rotating through a step per week. The Trusted Servant speaks about the step and opens the meeting up for discussion for all attendees. \nBig Book or Discussion: Recovery meetings center around Big Book topics or pages selected by the Trusted Servant. The Trusted Servant speaks about the Big Book topic or pages selected and opens the meeting up for discussion for all attendees. \nCLICK HERE to join the meeting!
URL:https://myrecovery.org/event/aa-complete-defeat-aa-format-steps-and-discussion-2/2027-05-31/
CATEGORIES:AA,Discussion,Steps
ATTACH;FMTTYPE=image/jpeg:https://myrecovery.org/wp-content/uploads/2024/02/AA-Complete-Defeat-AA-Format-Steps-and-Discussion.jpg
LOCATION:https://zoom.us/j/674001502?pwd=T0VkdjhXc2tkRmZxR0t6ZVpzQWs0dz09
END:VEVENT
BEGIN:VEVENT
DTSTART;TZID=UTC:20270531T200000
DTEND;TZID=UTC:20270531T210000
DTSTAMP:20260422T205008
CREATED:20250611T222129Z
LAST-MODIFIED:20250613T170851Z
UID:10012351-1811793600-1811797200@myrecovery.org
SUMMARY:The Retreat Alumni and Friends Meeting - Discussion
DESCRIPTION:Discussion: Recovery meetings center around Big Book topics or pages selected by the Trusted Servant. The Trusted Servant speaks about the Big Book topic or pages selected and opens the meeting up for discussion for all attendees. \nCLICK HERE to join the meeting!
URL:https://myrecovery.org/event/the-retreat-alumni-and-friends-meeting-discussion/2027-05-31/
CATEGORIES:Discussion,The Retreat
ATTACH;FMTTYPE=image/jpeg:https://myrecovery.org/wp-content/uploads/2024/02/The-Retreat-Alumni-and-Friends-Meeting-Discussion.jpg
LOCATION:https://us06web.zoom.us/j/81481719413?pwd=THBRSkdFQkhLNTBmb1JoaDQ0UFF1QT09
END:VEVENT
BEGIN:VEVENT
DTSTART;TZID=UTC:20270602T110000
DTEND;TZID=UTC:20270602T120000
DTSTAMP:20260422T205008
CREATED:20250611T221802Z
LAST-MODIFIED:20250613T170535Z
UID:10010501-1811934000-1811937600@myrecovery.org
SUMMARY:AA - Artists In Recovery - Format: Discussion
DESCRIPTION:Discussion: Recovery meetings center around Big Book topics or pages selected by the Trusted Servant. The Trusted Servant speaks about the Big Book topic or pages selected and opens the meeting up for discussion for all attendees. \nCLICK HERE to join the meeting!
URL:https://myrecovery.org/event/aa-artists-in-recovery-format-discussion/2027-06-02/
CATEGORIES:AA,Discussion
ATTACH;FMTTYPE=image/jpeg:https://myrecovery.org/wp-content/uploads/2024/09/AA-Artists-In-Recovery-Format-Discussion-1.jpg
LOCATION:https://zoom.us/j/958586357?pwd=QVRxWUo4VlRnd05JY0ZWT0VZRk1IZz09
END:VEVENT
BEGIN:VEVENT
DTSTART;TZID=UTC:20270602T220000
DTEND;TZID=UTC:20270602T230000
DTSTAMP:20260422T205008
CREATED:20250611T222622Z
LAST-MODIFIED:20250613T170917Z
UID:10015685-1811973600-1811977200@myrecovery.org
SUMMARY:AA - Sober Stogies - Format: Discussion
DESCRIPTION:Big Book or Discussion: Recovery meetings center around Big Book topics or pages selected by the Trusted Servant. The Trusted Servant speaks about the Big Book topic or pages selected and opens the meeting up for discussion for all attendees. \nCLICK HERE to join the meeting!
URL:https://myrecovery.org/event/aa-sober-stogies-format-discussion/2027-06-02/
CATEGORIES:AA,Discussion
ATTACH;FMTTYPE=image/jpeg:https://myrecovery.org/wp-content/uploads/2024/02/AA-Sober-Stogies-Format-Discussion.jpg
LOCATION:https://zoom.us/j/440227720
END:VEVENT
BEGIN:VEVENT
DTSTART;TZID=UTC:20270607T183000
DTEND;TZID=UTC:20270607T193000
DTSTAMP:20260422T205008
CREATED:20250611T222145Z
LAST-MODIFIED:20250613T165844Z
UID:10011572-1812393000-1812396600@myrecovery.org
SUMMARY:OA (Overeaters Anonymous) - Robbinsdale - Format: Discussion
DESCRIPTION:Discussion: Recovery meetings center around Big Book topics or pages selected by the Trusted Servant. The Trusted Servant speaks about the Big Book topic or pages selected and opens the meeting up for discussion for all attendees. \nCLICK HERE to join the meeting!
URL:https://myrecovery.org/event/oa-overeaters-anonymous-robbinsdale-format-discussion/2027-06-07/
CATEGORIES:Discussion,OA
ATTACH;FMTTYPE=image/jpeg:https://myrecovery.org/wp-content/uploads/2024/02/OA-Overeaters-Anonymous-Robbinsdale-Format-Discussion.jpg
LOCATION:https://us02web.zoom.us/j/75795366633?pwd=eVNWcUZSandoR0Y1QXJ6c1h2TFl3Zz09
END:VEVENT
BEGIN:VEVENT
DTSTART;TZID=UTC:20270607T190000
DTEND;TZID=UTC:20270607T200000
DTSTAMP:20260422T205008
CREATED:20250611T222134Z
LAST-MODIFIED:20250613T165920Z
UID:10011832-1812394800-1812398400@myrecovery.org
SUMMARY:AA - Complete Defeat AA - Format: Steps and Discussion
DESCRIPTION:Steps: Recovery meetings will focus on the 12 steps rotating through a step per week. The Trusted Servant speaks about the step and opens the meeting up for discussion for all attendees. \nBig Book or Discussion: Recovery meetings center around Big Book topics or pages selected by the Trusted Servant. The Trusted Servant speaks about the Big Book topic or pages selected and opens the meeting up for discussion for all attendees. \nCLICK HERE to join the meeting!
URL:https://myrecovery.org/event/aa-complete-defeat-aa-format-steps-and-discussion-2/2027-06-07/
CATEGORIES:AA,Discussion,Steps
ATTACH;FMTTYPE=image/jpeg:https://myrecovery.org/wp-content/uploads/2024/02/AA-Complete-Defeat-AA-Format-Steps-and-Discussion.jpg
LOCATION:https://zoom.us/j/674001502?pwd=T0VkdjhXc2tkRmZxR0t6ZVpzQWs0dz09
END:VEVENT
END:VCALENDAR