BEGIN:VCALENDAR
VERSION:2.0
PRODID:-//My Recovery - ECPv6.15.17//NONSGML v1.0//EN
CALSCALE:GREGORIAN
METHOD:PUBLISH
X-ORIGINAL-URL:https://myrecovery.org
X-WR-CALDESC:Events for My Recovery
REFRESH-INTERVAL;VALUE=DURATION:PT1H
X-Robots-Tag:noindex
X-PUBLISHED-TTL:PT1H
BEGIN:VTIMEZONE
TZID:UTC
BEGIN:STANDARD
TZOFFSETFROM:+0000
TZOFFSETTO:+0000
TZNAME:UTC
DTSTART:20260101T000000
END:STANDARD
END:VTIMEZONE
BEGIN:VEVENT
DTSTART;TZID=UTC:20270222T200000
DTEND;TZID=UTC:20270222T210000
DTSTAMP:20260422T145933
CREATED:20250611T222129Z
LAST-MODIFIED:20250613T170851Z
UID:10012337-1803326400-1803330000@myrecovery.org
SUMMARY:The Retreat Alumni and Friends Meeting - Discussion
DESCRIPTION:Discussion: Recovery meetings center around Big Book topics or pages selected by the Trusted Servant. The Trusted Servant speaks about the Big Book topic or pages selected and opens the meeting up for discussion for all attendees. \nCLICK HERE to join the meeting!
URL:https://myrecovery.org/event/the-retreat-alumni-and-friends-meeting-discussion/2027-02-22/
CATEGORIES:Discussion,The Retreat
ATTACH;FMTTYPE=image/jpeg:https://myrecovery.org/wp-content/uploads/2024/02/The-Retreat-Alumni-and-Friends-Meeting-Discussion.jpg
LOCATION:https://us06web.zoom.us/j/81481719413?pwd=THBRSkdFQkhLNTBmb1JoaDQ0UFF1QT09
END:VEVENT
BEGIN:VEVENT
DTSTART;TZID=UTC:20270224T110000
DTEND;TZID=UTC:20270224T120000
DTSTAMP:20260422T145933
CREATED:20250611T221802Z
LAST-MODIFIED:20250613T170535Z
UID:10010487-1803466800-1803470400@myrecovery.org
SUMMARY:AA - Artists In Recovery - Format: Discussion
DESCRIPTION:Discussion: Recovery meetings center around Big Book topics or pages selected by the Trusted Servant. The Trusted Servant speaks about the Big Book topic or pages selected and opens the meeting up for discussion for all attendees. \nCLICK HERE to join the meeting!
URL:https://myrecovery.org/event/aa-artists-in-recovery-format-discussion/2027-02-24/
CATEGORIES:AA,Discussion
ATTACH;FMTTYPE=image/jpeg:https://myrecovery.org/wp-content/uploads/2024/09/AA-Artists-In-Recovery-Format-Discussion-1.jpg
LOCATION:https://zoom.us/j/958586357?pwd=QVRxWUo4VlRnd05JY0ZWT0VZRk1IZz09
END:VEVENT
BEGIN:VEVENT
DTSTART;TZID=UTC:20270224T220000
DTEND;TZID=UTC:20270224T230000
DTSTAMP:20260422T145933
CREATED:20250611T222622Z
LAST-MODIFIED:20250613T170917Z
UID:10015671-1803506400-1803510000@myrecovery.org
SUMMARY:AA - Sober Stogies - Format: Discussion
DESCRIPTION:Big Book or Discussion: Recovery meetings center around Big Book topics or pages selected by the Trusted Servant. The Trusted Servant speaks about the Big Book topic or pages selected and opens the meeting up for discussion for all attendees. \nCLICK HERE to join the meeting!
URL:https://myrecovery.org/event/aa-sober-stogies-format-discussion/2027-02-24/
CATEGORIES:AA,Discussion
ATTACH;FMTTYPE=image/jpeg:https://myrecovery.org/wp-content/uploads/2024/02/AA-Sober-Stogies-Format-Discussion.jpg
LOCATION:https://zoom.us/j/440227720
END:VEVENT
BEGIN:VEVENT
DTSTART;TZID=UTC:20270301T183000
DTEND;TZID=UTC:20270301T193000
DTSTAMP:20260422T145933
CREATED:20250611T222145Z
LAST-MODIFIED:20250613T165844Z
UID:10011558-1803925800-1803929400@myrecovery.org
SUMMARY:OA (Overeaters Anonymous) - Robbinsdale - Format: Discussion
DESCRIPTION:Discussion: Recovery meetings center around Big Book topics or pages selected by the Trusted Servant. The Trusted Servant speaks about the Big Book topic or pages selected and opens the meeting up for discussion for all attendees. \nCLICK HERE to join the meeting!
URL:https://myrecovery.org/event/oa-overeaters-anonymous-robbinsdale-format-discussion/2027-03-01/
CATEGORIES:Discussion,OA
ATTACH;FMTTYPE=image/jpeg:https://myrecovery.org/wp-content/uploads/2024/02/OA-Overeaters-Anonymous-Robbinsdale-Format-Discussion.jpg
LOCATION:https://us02web.zoom.us/j/75795366633?pwd=eVNWcUZSandoR0Y1QXJ6c1h2TFl3Zz09
END:VEVENT
BEGIN:VEVENT
DTSTART;TZID=UTC:20270301T190000
DTEND;TZID=UTC:20270301T200000
DTSTAMP:20260422T145933
CREATED:20250611T222134Z
LAST-MODIFIED:20250613T165920Z
UID:10011818-1803927600-1803931200@myrecovery.org
SUMMARY:AA - Complete Defeat AA - Format: Steps and Discussion
DESCRIPTION:Steps: Recovery meetings will focus on the 12 steps rotating through a step per week. The Trusted Servant speaks about the step and opens the meeting up for discussion for all attendees. \nBig Book or Discussion: Recovery meetings center around Big Book topics or pages selected by the Trusted Servant. The Trusted Servant speaks about the Big Book topic or pages selected and opens the meeting up for discussion for all attendees. \nCLICK HERE to join the meeting!
URL:https://myrecovery.org/event/aa-complete-defeat-aa-format-steps-and-discussion-2/2027-03-01/
CATEGORIES:AA,Discussion,Steps
ATTACH;FMTTYPE=image/jpeg:https://myrecovery.org/wp-content/uploads/2024/02/AA-Complete-Defeat-AA-Format-Steps-and-Discussion.jpg
LOCATION:https://zoom.us/j/674001502?pwd=T0VkdjhXc2tkRmZxR0t6ZVpzQWs0dz09
END:VEVENT
BEGIN:VEVENT
DTSTART;TZID=UTC:20270301T200000
DTEND;TZID=UTC:20270301T210000
DTSTAMP:20260422T145933
CREATED:20250611T222129Z
LAST-MODIFIED:20250613T170851Z
UID:10012338-1803931200-1803934800@myrecovery.org
SUMMARY:The Retreat Alumni and Friends Meeting - Discussion
DESCRIPTION:Discussion: Recovery meetings center around Big Book topics or pages selected by the Trusted Servant. The Trusted Servant speaks about the Big Book topic or pages selected and opens the meeting up for discussion for all attendees. \nCLICK HERE to join the meeting!
URL:https://myrecovery.org/event/the-retreat-alumni-and-friends-meeting-discussion/2027-03-01/
CATEGORIES:Discussion,The Retreat
ATTACH;FMTTYPE=image/jpeg:https://myrecovery.org/wp-content/uploads/2024/02/The-Retreat-Alumni-and-Friends-Meeting-Discussion.jpg
LOCATION:https://us06web.zoom.us/j/81481719413?pwd=THBRSkdFQkhLNTBmb1JoaDQ0UFF1QT09
END:VEVENT
BEGIN:VEVENT
DTSTART;TZID=UTC:20270303T110000
DTEND;TZID=UTC:20270303T120000
DTSTAMP:20260422T145933
CREATED:20250611T221802Z
LAST-MODIFIED:20250613T170535Z
UID:10010488-1804071600-1804075200@myrecovery.org
SUMMARY:AA - Artists In Recovery - Format: Discussion
DESCRIPTION:Discussion: Recovery meetings center around Big Book topics or pages selected by the Trusted Servant. The Trusted Servant speaks about the Big Book topic or pages selected and opens the meeting up for discussion for all attendees. \nCLICK HERE to join the meeting!
URL:https://myrecovery.org/event/aa-artists-in-recovery-format-discussion/2027-03-03/
CATEGORIES:AA,Discussion
ATTACH;FMTTYPE=image/jpeg:https://myrecovery.org/wp-content/uploads/2024/09/AA-Artists-In-Recovery-Format-Discussion-1.jpg
LOCATION:https://zoom.us/j/958586357?pwd=QVRxWUo4VlRnd05JY0ZWT0VZRk1IZz09
END:VEVENT
BEGIN:VEVENT
DTSTART;TZID=UTC:20270303T220000
DTEND;TZID=UTC:20270303T230000
DTSTAMP:20260422T145933
CREATED:20250611T222622Z
LAST-MODIFIED:20250613T170917Z
UID:10015672-1804111200-1804114800@myrecovery.org
SUMMARY:AA - Sober Stogies - Format: Discussion
DESCRIPTION:Big Book or Discussion: Recovery meetings center around Big Book topics or pages selected by the Trusted Servant. The Trusted Servant speaks about the Big Book topic or pages selected and opens the meeting up for discussion for all attendees. \nCLICK HERE to join the meeting!
URL:https://myrecovery.org/event/aa-sober-stogies-format-discussion/2027-03-03/
CATEGORIES:AA,Discussion
ATTACH;FMTTYPE=image/jpeg:https://myrecovery.org/wp-content/uploads/2024/02/AA-Sober-Stogies-Format-Discussion.jpg
LOCATION:https://zoom.us/j/440227720
END:VEVENT
BEGIN:VEVENT
DTSTART;TZID=UTC:20270308T183000
DTEND;TZID=UTC:20270308T193000
DTSTAMP:20260422T145933
CREATED:20250611T222145Z
LAST-MODIFIED:20250613T165844Z
UID:10011559-1804530600-1804534200@myrecovery.org
SUMMARY:OA (Overeaters Anonymous) - Robbinsdale - Format: Discussion
DESCRIPTION:Discussion: Recovery meetings center around Big Book topics or pages selected by the Trusted Servant. The Trusted Servant speaks about the Big Book topic or pages selected and opens the meeting up for discussion for all attendees. \nCLICK HERE to join the meeting!
URL:https://myrecovery.org/event/oa-overeaters-anonymous-robbinsdale-format-discussion/2027-03-08/
CATEGORIES:Discussion,OA
ATTACH;FMTTYPE=image/jpeg:https://myrecovery.org/wp-content/uploads/2024/02/OA-Overeaters-Anonymous-Robbinsdale-Format-Discussion.jpg
LOCATION:https://us02web.zoom.us/j/75795366633?pwd=eVNWcUZSandoR0Y1QXJ6c1h2TFl3Zz09
END:VEVENT
BEGIN:VEVENT
DTSTART;TZID=UTC:20270308T190000
DTEND;TZID=UTC:20270308T200000
DTSTAMP:20260422T145933
CREATED:20250611T222134Z
LAST-MODIFIED:20250613T165920Z
UID:10011819-1804532400-1804536000@myrecovery.org
SUMMARY:AA - Complete Defeat AA - Format: Steps and Discussion
DESCRIPTION:Steps: Recovery meetings will focus on the 12 steps rotating through a step per week. The Trusted Servant speaks about the step and opens the meeting up for discussion for all attendees. \nBig Book or Discussion: Recovery meetings center around Big Book topics or pages selected by the Trusted Servant. The Trusted Servant speaks about the Big Book topic or pages selected and opens the meeting up for discussion for all attendees. \nCLICK HERE to join the meeting!
URL:https://myrecovery.org/event/aa-complete-defeat-aa-format-steps-and-discussion-2/2027-03-08/
CATEGORIES:AA,Discussion,Steps
ATTACH;FMTTYPE=image/jpeg:https://myrecovery.org/wp-content/uploads/2024/02/AA-Complete-Defeat-AA-Format-Steps-and-Discussion.jpg
LOCATION:https://zoom.us/j/674001502?pwd=T0VkdjhXc2tkRmZxR0t6ZVpzQWs0dz09
END:VEVENT
BEGIN:VEVENT
DTSTART;TZID=UTC:20270308T200000
DTEND;TZID=UTC:20270308T210000
DTSTAMP:20260422T145933
CREATED:20250611T222129Z
LAST-MODIFIED:20250613T170851Z
UID:10012339-1804536000-1804539600@myrecovery.org
SUMMARY:The Retreat Alumni and Friends Meeting - Discussion
DESCRIPTION:Discussion: Recovery meetings center around Big Book topics or pages selected by the Trusted Servant. The Trusted Servant speaks about the Big Book topic or pages selected and opens the meeting up for discussion for all attendees. \nCLICK HERE to join the meeting!
URL:https://myrecovery.org/event/the-retreat-alumni-and-friends-meeting-discussion/2027-03-08/
CATEGORIES:Discussion,The Retreat
ATTACH;FMTTYPE=image/jpeg:https://myrecovery.org/wp-content/uploads/2024/02/The-Retreat-Alumni-and-Friends-Meeting-Discussion.jpg
LOCATION:https://us06web.zoom.us/j/81481719413?pwd=THBRSkdFQkhLNTBmb1JoaDQ0UFF1QT09
END:VEVENT
BEGIN:VEVENT
DTSTART;TZID=UTC:20270310T110000
DTEND;TZID=UTC:20270310T120000
DTSTAMP:20260422T145933
CREATED:20250611T221802Z
LAST-MODIFIED:20250613T170535Z
UID:10010489-1804676400-1804680000@myrecovery.org
SUMMARY:AA - Artists In Recovery - Format: Discussion
DESCRIPTION:Discussion: Recovery meetings center around Big Book topics or pages selected by the Trusted Servant. The Trusted Servant speaks about the Big Book topic or pages selected and opens the meeting up for discussion for all attendees. \nCLICK HERE to join the meeting!
URL:https://myrecovery.org/event/aa-artists-in-recovery-format-discussion/2027-03-10/
CATEGORIES:AA,Discussion
ATTACH;FMTTYPE=image/jpeg:https://myrecovery.org/wp-content/uploads/2024/09/AA-Artists-In-Recovery-Format-Discussion-1.jpg
LOCATION:https://zoom.us/j/958586357?pwd=QVRxWUo4VlRnd05JY0ZWT0VZRk1IZz09
END:VEVENT
BEGIN:VEVENT
DTSTART;TZID=UTC:20270310T220000
DTEND;TZID=UTC:20270310T230000
DTSTAMP:20260422T145933
CREATED:20250611T222622Z
LAST-MODIFIED:20250613T170917Z
UID:10015673-1804716000-1804719600@myrecovery.org
SUMMARY:AA - Sober Stogies - Format: Discussion
DESCRIPTION:Big Book or Discussion: Recovery meetings center around Big Book topics or pages selected by the Trusted Servant. The Trusted Servant speaks about the Big Book topic or pages selected and opens the meeting up for discussion for all attendees. \nCLICK HERE to join the meeting!
URL:https://myrecovery.org/event/aa-sober-stogies-format-discussion/2027-03-10/
CATEGORIES:AA,Discussion
ATTACH;FMTTYPE=image/jpeg:https://myrecovery.org/wp-content/uploads/2024/02/AA-Sober-Stogies-Format-Discussion.jpg
LOCATION:https://zoom.us/j/440227720
END:VEVENT
BEGIN:VEVENT
DTSTART;TZID=UTC:20270315T183000
DTEND;TZID=UTC:20270315T193000
DTSTAMP:20260422T145933
CREATED:20250611T222145Z
LAST-MODIFIED:20250613T165844Z
UID:10011560-1805135400-1805139000@myrecovery.org
SUMMARY:OA (Overeaters Anonymous) - Robbinsdale - Format: Discussion
DESCRIPTION:Discussion: Recovery meetings center around Big Book topics or pages selected by the Trusted Servant. The Trusted Servant speaks about the Big Book topic or pages selected and opens the meeting up for discussion for all attendees. \nCLICK HERE to join the meeting!
URL:https://myrecovery.org/event/oa-overeaters-anonymous-robbinsdale-format-discussion/2027-03-15/
CATEGORIES:Discussion,OA
ATTACH;FMTTYPE=image/jpeg:https://myrecovery.org/wp-content/uploads/2024/02/OA-Overeaters-Anonymous-Robbinsdale-Format-Discussion.jpg
LOCATION:https://us02web.zoom.us/j/75795366633?pwd=eVNWcUZSandoR0Y1QXJ6c1h2TFl3Zz09
END:VEVENT
BEGIN:VEVENT
DTSTART;TZID=UTC:20270315T190000
DTEND;TZID=UTC:20270315T200000
DTSTAMP:20260422T145933
CREATED:20250611T222134Z
LAST-MODIFIED:20250613T165920Z
UID:10011820-1805137200-1805140800@myrecovery.org
SUMMARY:AA - Complete Defeat AA - Format: Steps and Discussion
DESCRIPTION:Steps: Recovery meetings will focus on the 12 steps rotating through a step per week. The Trusted Servant speaks about the step and opens the meeting up for discussion for all attendees. \nBig Book or Discussion: Recovery meetings center around Big Book topics or pages selected by the Trusted Servant. The Trusted Servant speaks about the Big Book topic or pages selected and opens the meeting up for discussion for all attendees. \nCLICK HERE to join the meeting!
URL:https://myrecovery.org/event/aa-complete-defeat-aa-format-steps-and-discussion-2/2027-03-15/
CATEGORIES:AA,Discussion,Steps
ATTACH;FMTTYPE=image/jpeg:https://myrecovery.org/wp-content/uploads/2024/02/AA-Complete-Defeat-AA-Format-Steps-and-Discussion.jpg
LOCATION:https://zoom.us/j/674001502?pwd=T0VkdjhXc2tkRmZxR0t6ZVpzQWs0dz09
END:VEVENT
BEGIN:VEVENT
DTSTART;TZID=UTC:20270315T200000
DTEND;TZID=UTC:20270315T210000
DTSTAMP:20260422T145933
CREATED:20250611T222129Z
LAST-MODIFIED:20250613T170851Z
UID:10012340-1805140800-1805144400@myrecovery.org
SUMMARY:The Retreat Alumni and Friends Meeting - Discussion
DESCRIPTION:Discussion: Recovery meetings center around Big Book topics or pages selected by the Trusted Servant. The Trusted Servant speaks about the Big Book topic or pages selected and opens the meeting up for discussion for all attendees. \nCLICK HERE to join the meeting!
URL:https://myrecovery.org/event/the-retreat-alumni-and-friends-meeting-discussion/2027-03-15/
CATEGORIES:Discussion,The Retreat
ATTACH;FMTTYPE=image/jpeg:https://myrecovery.org/wp-content/uploads/2024/02/The-Retreat-Alumni-and-Friends-Meeting-Discussion.jpg
LOCATION:https://us06web.zoom.us/j/81481719413?pwd=THBRSkdFQkhLNTBmb1JoaDQ0UFF1QT09
END:VEVENT
BEGIN:VEVENT
DTSTART;TZID=UTC:20270317T110000
DTEND;TZID=UTC:20270317T120000
DTSTAMP:20260422T145933
CREATED:20250611T221802Z
LAST-MODIFIED:20250613T170535Z
UID:10010490-1805281200-1805284800@myrecovery.org
SUMMARY:AA - Artists In Recovery - Format: Discussion
DESCRIPTION:Discussion: Recovery meetings center around Big Book topics or pages selected by the Trusted Servant. The Trusted Servant speaks about the Big Book topic or pages selected and opens the meeting up for discussion for all attendees. \nCLICK HERE to join the meeting!
URL:https://myrecovery.org/event/aa-artists-in-recovery-format-discussion/2027-03-17/
CATEGORIES:AA,Discussion
ATTACH;FMTTYPE=image/jpeg:https://myrecovery.org/wp-content/uploads/2024/09/AA-Artists-In-Recovery-Format-Discussion-1.jpg
LOCATION:https://zoom.us/j/958586357?pwd=QVRxWUo4VlRnd05JY0ZWT0VZRk1IZz09
END:VEVENT
BEGIN:VEVENT
DTSTART;TZID=UTC:20270317T220000
DTEND;TZID=UTC:20270317T230000
DTSTAMP:20260422T145933
CREATED:20250611T222622Z
LAST-MODIFIED:20250613T170917Z
UID:10015674-1805320800-1805324400@myrecovery.org
SUMMARY:AA - Sober Stogies - Format: Discussion
DESCRIPTION:Big Book or Discussion: Recovery meetings center around Big Book topics or pages selected by the Trusted Servant. The Trusted Servant speaks about the Big Book topic or pages selected and opens the meeting up for discussion for all attendees. \nCLICK HERE to join the meeting!
URL:https://myrecovery.org/event/aa-sober-stogies-format-discussion/2027-03-17/
CATEGORIES:AA,Discussion
ATTACH;FMTTYPE=image/jpeg:https://myrecovery.org/wp-content/uploads/2024/02/AA-Sober-Stogies-Format-Discussion.jpg
LOCATION:https://zoom.us/j/440227720
END:VEVENT
BEGIN:VEVENT
DTSTART;TZID=UTC:20270318T073000
DTEND;TZID=UTC:20270318T083000
DTSTAMP:20260422T145933
CREATED:20250611T222123Z
LAST-MODIFIED:20250716T171846Z
UID:10017033-1805355000-1805358600@myrecovery.org
SUMMARY:The Retreat Breakfast Club - Format: Discussion
DESCRIPTION:NOTE: THIS IS NOT AN AA MEETING. \nDiscussion: Recovery meetings center around Big Book topics or pages selected by the Trusted Servant. The Trusted Servant speaks about the Big Book topic or pages selected and opens the meeting up for discussion for all attendees. \nCLICK HERE to join the meeting!
URL:https://myrecovery.org/event/the-retreat-breakfast-club-format-discussion/2027-03-18/
CATEGORIES:Discussion
ATTACH;FMTTYPE=image/jpeg:https://myrecovery.org/wp-content/uploads/2024/10/The-Retreat-Breakfast-Club-Format-Discussion.jpg
LOCATION:https://zoom.us/j/94412147463?pwd=K3A5RzNPS2w1bVZYMW5vRGp6QXdiZz09
END:VEVENT
BEGIN:VEVENT
DTSTART;TZID=UTC:20270322T183000
DTEND;TZID=UTC:20270322T193000
DTSTAMP:20260422T145933
CREATED:20250611T222145Z
LAST-MODIFIED:20250613T165844Z
UID:10011561-1805740200-1805743800@myrecovery.org
SUMMARY:OA (Overeaters Anonymous) - Robbinsdale - Format: Discussion
DESCRIPTION:Discussion: Recovery meetings center around Big Book topics or pages selected by the Trusted Servant. The Trusted Servant speaks about the Big Book topic or pages selected and opens the meeting up for discussion for all attendees. \nCLICK HERE to join the meeting!
URL:https://myrecovery.org/event/oa-overeaters-anonymous-robbinsdale-format-discussion/2027-03-22/
CATEGORIES:Discussion,OA
ATTACH;FMTTYPE=image/jpeg:https://myrecovery.org/wp-content/uploads/2024/02/OA-Overeaters-Anonymous-Robbinsdale-Format-Discussion.jpg
LOCATION:https://us02web.zoom.us/j/75795366633?pwd=eVNWcUZSandoR0Y1QXJ6c1h2TFl3Zz09
END:VEVENT
BEGIN:VEVENT
DTSTART;TZID=UTC:20270322T190000
DTEND;TZID=UTC:20270322T200000
DTSTAMP:20260422T145933
CREATED:20250611T222134Z
LAST-MODIFIED:20250613T165920Z
UID:10011821-1805742000-1805745600@myrecovery.org
SUMMARY:AA - Complete Defeat AA - Format: Steps and Discussion
DESCRIPTION:Steps: Recovery meetings will focus on the 12 steps rotating through a step per week. The Trusted Servant speaks about the step and opens the meeting up for discussion for all attendees. \nBig Book or Discussion: Recovery meetings center around Big Book topics or pages selected by the Trusted Servant. The Trusted Servant speaks about the Big Book topic or pages selected and opens the meeting up for discussion for all attendees. \nCLICK HERE to join the meeting!
URL:https://myrecovery.org/event/aa-complete-defeat-aa-format-steps-and-discussion-2/2027-03-22/
CATEGORIES:AA,Discussion,Steps
ATTACH;FMTTYPE=image/jpeg:https://myrecovery.org/wp-content/uploads/2024/02/AA-Complete-Defeat-AA-Format-Steps-and-Discussion.jpg
LOCATION:https://zoom.us/j/674001502?pwd=T0VkdjhXc2tkRmZxR0t6ZVpzQWs0dz09
END:VEVENT
BEGIN:VEVENT
DTSTART;TZID=UTC:20270322T200000
DTEND;TZID=UTC:20270322T210000
DTSTAMP:20260422T145933
CREATED:20250611T222129Z
LAST-MODIFIED:20250613T170851Z
UID:10012341-1805745600-1805749200@myrecovery.org
SUMMARY:The Retreat Alumni and Friends Meeting - Discussion
DESCRIPTION:Discussion: Recovery meetings center around Big Book topics or pages selected by the Trusted Servant. The Trusted Servant speaks about the Big Book topic or pages selected and opens the meeting up for discussion for all attendees. \nCLICK HERE to join the meeting!
URL:https://myrecovery.org/event/the-retreat-alumni-and-friends-meeting-discussion/2027-03-22/
CATEGORIES:Discussion,The Retreat
ATTACH;FMTTYPE=image/jpeg:https://myrecovery.org/wp-content/uploads/2024/02/The-Retreat-Alumni-and-Friends-Meeting-Discussion.jpg
LOCATION:https://us06web.zoom.us/j/81481719413?pwd=THBRSkdFQkhLNTBmb1JoaDQ0UFF1QT09
END:VEVENT
BEGIN:VEVENT
DTSTART;TZID=UTC:20270324T110000
DTEND;TZID=UTC:20270324T120000
DTSTAMP:20260422T145933
CREATED:20250611T221802Z
LAST-MODIFIED:20250613T170535Z
UID:10010491-1805886000-1805889600@myrecovery.org
SUMMARY:AA - Artists In Recovery - Format: Discussion
DESCRIPTION:Discussion: Recovery meetings center around Big Book topics or pages selected by the Trusted Servant. The Trusted Servant speaks about the Big Book topic or pages selected and opens the meeting up for discussion for all attendees. \nCLICK HERE to join the meeting!
URL:https://myrecovery.org/event/aa-artists-in-recovery-format-discussion/2027-03-24/
CATEGORIES:AA,Discussion
ATTACH;FMTTYPE=image/jpeg:https://myrecovery.org/wp-content/uploads/2024/09/AA-Artists-In-Recovery-Format-Discussion-1.jpg
LOCATION:https://zoom.us/j/958586357?pwd=QVRxWUo4VlRnd05JY0ZWT0VZRk1IZz09
END:VEVENT
BEGIN:VEVENT
DTSTART;TZID=UTC:20270324T220000
DTEND;TZID=UTC:20270324T230000
DTSTAMP:20260422T145933
CREATED:20250611T222622Z
LAST-MODIFIED:20250613T170917Z
UID:10015675-1805925600-1805929200@myrecovery.org
SUMMARY:AA - Sober Stogies - Format: Discussion
DESCRIPTION:Big Book or Discussion: Recovery meetings center around Big Book topics or pages selected by the Trusted Servant. The Trusted Servant speaks about the Big Book topic or pages selected and opens the meeting up for discussion for all attendees. \nCLICK HERE to join the meeting!
URL:https://myrecovery.org/event/aa-sober-stogies-format-discussion/2027-03-24/
CATEGORIES:AA,Discussion
ATTACH;FMTTYPE=image/jpeg:https://myrecovery.org/wp-content/uploads/2024/02/AA-Sober-Stogies-Format-Discussion.jpg
LOCATION:https://zoom.us/j/440227720
END:VEVENT
BEGIN:VEVENT
DTSTART;TZID=UTC:20270329T183000
DTEND;TZID=UTC:20270329T193000
DTSTAMP:20260422T145933
CREATED:20250611T222145Z
LAST-MODIFIED:20250613T165844Z
UID:10011562-1806345000-1806348600@myrecovery.org
SUMMARY:OA (Overeaters Anonymous) - Robbinsdale - Format: Discussion
DESCRIPTION:Discussion: Recovery meetings center around Big Book topics or pages selected by the Trusted Servant. The Trusted Servant speaks about the Big Book topic or pages selected and opens the meeting up for discussion for all attendees. \nCLICK HERE to join the meeting!
URL:https://myrecovery.org/event/oa-overeaters-anonymous-robbinsdale-format-discussion/2027-03-29/
CATEGORIES:Discussion,OA
ATTACH;FMTTYPE=image/jpeg:https://myrecovery.org/wp-content/uploads/2024/02/OA-Overeaters-Anonymous-Robbinsdale-Format-Discussion.jpg
LOCATION:https://us02web.zoom.us/j/75795366633?pwd=eVNWcUZSandoR0Y1QXJ6c1h2TFl3Zz09
END:VEVENT
BEGIN:VEVENT
DTSTART;TZID=UTC:20270329T190000
DTEND;TZID=UTC:20270329T200000
DTSTAMP:20260422T145933
CREATED:20250611T222134Z
LAST-MODIFIED:20250613T165920Z
UID:10011822-1806346800-1806350400@myrecovery.org
SUMMARY:AA - Complete Defeat AA - Format: Steps and Discussion
DESCRIPTION:Steps: Recovery meetings will focus on the 12 steps rotating through a step per week. The Trusted Servant speaks about the step and opens the meeting up for discussion for all attendees. \nBig Book or Discussion: Recovery meetings center around Big Book topics or pages selected by the Trusted Servant. The Trusted Servant speaks about the Big Book topic or pages selected and opens the meeting up for discussion for all attendees. \nCLICK HERE to join the meeting!
URL:https://myrecovery.org/event/aa-complete-defeat-aa-format-steps-and-discussion-2/2027-03-29/
CATEGORIES:AA,Discussion,Steps
ATTACH;FMTTYPE=image/jpeg:https://myrecovery.org/wp-content/uploads/2024/02/AA-Complete-Defeat-AA-Format-Steps-and-Discussion.jpg
LOCATION:https://zoom.us/j/674001502?pwd=T0VkdjhXc2tkRmZxR0t6ZVpzQWs0dz09
END:VEVENT
BEGIN:VEVENT
DTSTART;TZID=UTC:20270329T200000
DTEND;TZID=UTC:20270329T210000
DTSTAMP:20260422T145933
CREATED:20250611T222129Z
LAST-MODIFIED:20250613T170851Z
UID:10012342-1806350400-1806354000@myrecovery.org
SUMMARY:The Retreat Alumni and Friends Meeting - Discussion
DESCRIPTION:Discussion: Recovery meetings center around Big Book topics or pages selected by the Trusted Servant. The Trusted Servant speaks about the Big Book topic or pages selected and opens the meeting up for discussion for all attendees. \nCLICK HERE to join the meeting!
URL:https://myrecovery.org/event/the-retreat-alumni-and-friends-meeting-discussion/2027-03-29/
CATEGORIES:Discussion,The Retreat
ATTACH;FMTTYPE=image/jpeg:https://myrecovery.org/wp-content/uploads/2024/02/The-Retreat-Alumni-and-Friends-Meeting-Discussion.jpg
LOCATION:https://us06web.zoom.us/j/81481719413?pwd=THBRSkdFQkhLNTBmb1JoaDQ0UFF1QT09
END:VEVENT
BEGIN:VEVENT
DTSTART;TZID=UTC:20270331T110000
DTEND;TZID=UTC:20270331T120000
DTSTAMP:20260422T145933
CREATED:20250611T221802Z
LAST-MODIFIED:20250613T170535Z
UID:10010492-1806490800-1806494400@myrecovery.org
SUMMARY:AA - Artists In Recovery - Format: Discussion
DESCRIPTION:Discussion: Recovery meetings center around Big Book topics or pages selected by the Trusted Servant. The Trusted Servant speaks about the Big Book topic or pages selected and opens the meeting up for discussion for all attendees. \nCLICK HERE to join the meeting!
URL:https://myrecovery.org/event/aa-artists-in-recovery-format-discussion/2027-03-31/
CATEGORIES:AA,Discussion
ATTACH;FMTTYPE=image/jpeg:https://myrecovery.org/wp-content/uploads/2024/09/AA-Artists-In-Recovery-Format-Discussion-1.jpg
LOCATION:https://zoom.us/j/958586357?pwd=QVRxWUo4VlRnd05JY0ZWT0VZRk1IZz09
END:VEVENT
BEGIN:VEVENT
DTSTART;TZID=UTC:20270331T220000
DTEND;TZID=UTC:20270331T230000
DTSTAMP:20260422T145933
CREATED:20250611T222622Z
LAST-MODIFIED:20250613T170917Z
UID:10015676-1806530400-1806534000@myrecovery.org
SUMMARY:AA - Sober Stogies - Format: Discussion
DESCRIPTION:Big Book or Discussion: Recovery meetings center around Big Book topics or pages selected by the Trusted Servant. The Trusted Servant speaks about the Big Book topic or pages selected and opens the meeting up for discussion for all attendees. \nCLICK HERE to join the meeting!
URL:https://myrecovery.org/event/aa-sober-stogies-format-discussion/2027-03-31/
CATEGORIES:AA,Discussion
ATTACH;FMTTYPE=image/jpeg:https://myrecovery.org/wp-content/uploads/2024/02/AA-Sober-Stogies-Format-Discussion.jpg
LOCATION:https://zoom.us/j/440227720
END:VEVENT
BEGIN:VEVENT
DTSTART;TZID=UTC:20270405T183000
DTEND;TZID=UTC:20270405T193000
DTSTAMP:20260422T145933
CREATED:20250611T222145Z
LAST-MODIFIED:20250613T165844Z
UID:10011563-1806949800-1806953400@myrecovery.org
SUMMARY:OA (Overeaters Anonymous) - Robbinsdale - Format: Discussion
DESCRIPTION:Discussion: Recovery meetings center around Big Book topics or pages selected by the Trusted Servant. The Trusted Servant speaks about the Big Book topic or pages selected and opens the meeting up for discussion for all attendees. \nCLICK HERE to join the meeting!
URL:https://myrecovery.org/event/oa-overeaters-anonymous-robbinsdale-format-discussion/2027-04-05/
CATEGORIES:Discussion,OA
ATTACH;FMTTYPE=image/jpeg:https://myrecovery.org/wp-content/uploads/2024/02/OA-Overeaters-Anonymous-Robbinsdale-Format-Discussion.jpg
LOCATION:https://us02web.zoom.us/j/75795366633?pwd=eVNWcUZSandoR0Y1QXJ6c1h2TFl3Zz09
END:VEVENT
END:VCALENDAR