BEGIN:VCALENDAR
VERSION:2.0
PRODID:-//My Recovery - ECPv6.15.17//NONSGML v1.0//EN
CALSCALE:GREGORIAN
METHOD:PUBLISH
X-ORIGINAL-URL:https://myrecovery.org
X-WR-CALDESC:Events for My Recovery
REFRESH-INTERVAL;VALUE=DURATION:PT1H
X-Robots-Tag:noindex
X-PUBLISHED-TTL:PT1H
BEGIN:VTIMEZONE
TZID:UTC
BEGIN:STANDARD
TZOFFSETFROM:+0000
TZOFFSETTO:+0000
TZNAME:UTC
DTSTART:20270101T000000
END:STANDARD
END:VTIMEZONE
BEGIN:VEVENT
DTSTART;TZID=UTC:20280221T210000
DTEND;TZID=UTC:20280221T220000
DTSTAMP:20260421T103916
CREATED:20250611T222659Z
LAST-MODIFIED:20250613T170122Z
UID:10012719-1834779600-1834783200@myrecovery.org
SUMMARY:AA - Squad 19 - Format: Daily Reflections
DESCRIPTION:  \nCLICK HERE to join the meeting!
URL:https://myrecovery.org/event/aa-squad-19-format-daily-reflections/2028-02-21/
CATEGORIES:AA,Daily Reflections
ATTACH;FMTTYPE=image/jpeg:https://myrecovery.org/wp-content/uploads/2024/02/AA-Squad-19-Format-Daily-Reflections.jpg
LOCATION:https://zoom.us/j/448997822?pwd=RHpBelFXdXpWMEZUY2VKMXhKMENLdz09
END:VEVENT
BEGIN:VEVENT
DTSTART;TZID=UTC:20280228T210000
DTEND;TZID=UTC:20280228T220000
DTSTAMP:20260421T103916
CREATED:20250611T222659Z
LAST-MODIFIED:20250613T170122Z
UID:10012720-1835384400-1835388000@myrecovery.org
SUMMARY:AA - Squad 19 - Format: Daily Reflections
DESCRIPTION:  \nCLICK HERE to join the meeting!
URL:https://myrecovery.org/event/aa-squad-19-format-daily-reflections/2028-02-28/
CATEGORIES:AA,Daily Reflections
ATTACH;FMTTYPE=image/jpeg:https://myrecovery.org/wp-content/uploads/2024/02/AA-Squad-19-Format-Daily-Reflections.jpg
LOCATION:https://zoom.us/j/448997822?pwd=RHpBelFXdXpWMEZUY2VKMXhKMENLdz09
END:VEVENT
BEGIN:VEVENT
DTSTART;TZID=UTC:20280306T210000
DTEND;TZID=UTC:20280306T220000
DTSTAMP:20260421T103916
CREATED:20250611T222659Z
LAST-MODIFIED:20250613T170122Z
UID:10012721-1835989200-1835992800@myrecovery.org
SUMMARY:AA - Squad 19 - Format: Daily Reflections
DESCRIPTION:  \nCLICK HERE to join the meeting!
URL:https://myrecovery.org/event/aa-squad-19-format-daily-reflections/2028-03-06/
CATEGORIES:AA,Daily Reflections
ATTACH;FMTTYPE=image/jpeg:https://myrecovery.org/wp-content/uploads/2024/02/AA-Squad-19-Format-Daily-Reflections.jpg
LOCATION:https://zoom.us/j/448997822?pwd=RHpBelFXdXpWMEZUY2VKMXhKMENLdz09
END:VEVENT
BEGIN:VEVENT
DTSTART;TZID=UTC:20280313T210000
DTEND;TZID=UTC:20280313T220000
DTSTAMP:20260421T103916
CREATED:20250611T222659Z
LAST-MODIFIED:20250613T170122Z
UID:10012722-1836594000-1836597600@myrecovery.org
SUMMARY:AA - Squad 19 - Format: Daily Reflections
DESCRIPTION:  \nCLICK HERE to join the meeting!
URL:https://myrecovery.org/event/aa-squad-19-format-daily-reflections/2028-03-13/
CATEGORIES:AA,Daily Reflections
ATTACH;FMTTYPE=image/jpeg:https://myrecovery.org/wp-content/uploads/2024/02/AA-Squad-19-Format-Daily-Reflections.jpg
LOCATION:https://zoom.us/j/448997822?pwd=RHpBelFXdXpWMEZUY2VKMXhKMENLdz09
END:VEVENT
BEGIN:VEVENT
DTSTART;TZID=UTC:20280320T210000
DTEND;TZID=UTC:20280320T220000
DTSTAMP:20260421T103916
CREATED:20250611T222659Z
LAST-MODIFIED:20250613T170122Z
UID:10012723-1837198800-1837202400@myrecovery.org
SUMMARY:AA - Squad 19 - Format: Daily Reflections
DESCRIPTION:  \nCLICK HERE to join the meeting!
URL:https://myrecovery.org/event/aa-squad-19-format-daily-reflections/2028-03-20/
CATEGORIES:AA,Daily Reflections
ATTACH;FMTTYPE=image/jpeg:https://myrecovery.org/wp-content/uploads/2024/02/AA-Squad-19-Format-Daily-Reflections.jpg
LOCATION:https://zoom.us/j/448997822?pwd=RHpBelFXdXpWMEZUY2VKMXhKMENLdz09
END:VEVENT
BEGIN:VEVENT
DTSTART;TZID=UTC:20280327T210000
DTEND;TZID=UTC:20280327T220000
DTSTAMP:20260421T103916
CREATED:20250611T222659Z
LAST-MODIFIED:20250613T170122Z
UID:10012724-1837803600-1837807200@myrecovery.org
SUMMARY:AA - Squad 19 - Format: Daily Reflections
DESCRIPTION:  \nCLICK HERE to join the meeting!
URL:https://myrecovery.org/event/aa-squad-19-format-daily-reflections/2028-03-27/
CATEGORIES:AA,Daily Reflections
ATTACH;FMTTYPE=image/jpeg:https://myrecovery.org/wp-content/uploads/2024/02/AA-Squad-19-Format-Daily-Reflections.jpg
LOCATION:https://zoom.us/j/448997822?pwd=RHpBelFXdXpWMEZUY2VKMXhKMENLdz09
END:VEVENT
BEGIN:VEVENT
DTSTART;TZID=UTC:20280403T210000
DTEND;TZID=UTC:20280403T220000
DTSTAMP:20260421T103916
CREATED:20250611T222659Z
LAST-MODIFIED:20250613T170122Z
UID:10012725-1838408400-1838412000@myrecovery.org
SUMMARY:AA - Squad 19 - Format: Daily Reflections
DESCRIPTION:  \nCLICK HERE to join the meeting!
URL:https://myrecovery.org/event/aa-squad-19-format-daily-reflections/2028-04-03/
CATEGORIES:AA,Daily Reflections
ATTACH;FMTTYPE=image/jpeg:https://myrecovery.org/wp-content/uploads/2024/02/AA-Squad-19-Format-Daily-Reflections.jpg
LOCATION:https://zoom.us/j/448997822?pwd=RHpBelFXdXpWMEZUY2VKMXhKMENLdz09
END:VEVENT
BEGIN:VEVENT
DTSTART;TZID=UTC:20280410T210000
DTEND;TZID=UTC:20280410T220000
DTSTAMP:20260421T103916
CREATED:20250611T222659Z
LAST-MODIFIED:20250613T170122Z
UID:10012726-1839013200-1839016800@myrecovery.org
SUMMARY:AA - Squad 19 - Format: Daily Reflections
DESCRIPTION:  \nCLICK HERE to join the meeting!
URL:https://myrecovery.org/event/aa-squad-19-format-daily-reflections/2028-04-10/
CATEGORIES:AA,Daily Reflections
ATTACH;FMTTYPE=image/jpeg:https://myrecovery.org/wp-content/uploads/2024/02/AA-Squad-19-Format-Daily-Reflections.jpg
LOCATION:https://zoom.us/j/448997822?pwd=RHpBelFXdXpWMEZUY2VKMXhKMENLdz09
END:VEVENT
BEGIN:VEVENT
DTSTART;TZID=UTC:20280417T210000
DTEND;TZID=UTC:20280417T220000
DTSTAMP:20260421T103916
CREATED:20250611T222659Z
LAST-MODIFIED:20250613T170122Z
UID:10012727-1839618000-1839621600@myrecovery.org
SUMMARY:AA - Squad 19 - Format: Daily Reflections
DESCRIPTION:  \nCLICK HERE to join the meeting!
URL:https://myrecovery.org/event/aa-squad-19-format-daily-reflections/2028-04-17/
CATEGORIES:AA,Daily Reflections
ATTACH;FMTTYPE=image/jpeg:https://myrecovery.org/wp-content/uploads/2024/02/AA-Squad-19-Format-Daily-Reflections.jpg
LOCATION:https://zoom.us/j/448997822?pwd=RHpBelFXdXpWMEZUY2VKMXhKMENLdz09
END:VEVENT
BEGIN:VEVENT
DTSTART;TZID=UTC:20280424T210000
DTEND;TZID=UTC:20280424T220000
DTSTAMP:20260421T103916
CREATED:20250611T222659Z
LAST-MODIFIED:20250613T170122Z
UID:10012728-1840222800-1840226400@myrecovery.org
SUMMARY:AA - Squad 19 - Format: Daily Reflections
DESCRIPTION:  \nCLICK HERE to join the meeting!
URL:https://myrecovery.org/event/aa-squad-19-format-daily-reflections/2028-04-24/
CATEGORIES:AA,Daily Reflections
ATTACH;FMTTYPE=image/jpeg:https://myrecovery.org/wp-content/uploads/2024/02/AA-Squad-19-Format-Daily-Reflections.jpg
LOCATION:https://zoom.us/j/448997822?pwd=RHpBelFXdXpWMEZUY2VKMXhKMENLdz09
END:VEVENT
BEGIN:VEVENT
DTSTART;TZID=UTC:20280501T210000
DTEND;TZID=UTC:20280501T220000
DTSTAMP:20260421T103916
CREATED:20250611T222659Z
LAST-MODIFIED:20250613T170122Z
UID:10012729-1840827600-1840831200@myrecovery.org
SUMMARY:AA - Squad 19 - Format: Daily Reflections
DESCRIPTION:  \nCLICK HERE to join the meeting!
URL:https://myrecovery.org/event/aa-squad-19-format-daily-reflections/2028-05-01/
CATEGORIES:AA,Daily Reflections
ATTACH;FMTTYPE=image/jpeg:https://myrecovery.org/wp-content/uploads/2024/02/AA-Squad-19-Format-Daily-Reflections.jpg
LOCATION:https://zoom.us/j/448997822?pwd=RHpBelFXdXpWMEZUY2VKMXhKMENLdz09
END:VEVENT
BEGIN:VEVENT
DTSTART;TZID=UTC:20280508T210000
DTEND;TZID=UTC:20280508T220000
DTSTAMP:20260421T103916
CREATED:20250611T222659Z
LAST-MODIFIED:20250613T170122Z
UID:10012730-1841432400-1841436000@myrecovery.org
SUMMARY:AA - Squad 19 - Format: Daily Reflections
DESCRIPTION:  \nCLICK HERE to join the meeting!
URL:https://myrecovery.org/event/aa-squad-19-format-daily-reflections/2028-05-08/
CATEGORIES:AA,Daily Reflections
ATTACH;FMTTYPE=image/jpeg:https://myrecovery.org/wp-content/uploads/2024/02/AA-Squad-19-Format-Daily-Reflections.jpg
LOCATION:https://zoom.us/j/448997822?pwd=RHpBelFXdXpWMEZUY2VKMXhKMENLdz09
END:VEVENT
BEGIN:VEVENT
DTSTART;TZID=UTC:20280515T210000
DTEND;TZID=UTC:20280515T220000
DTSTAMP:20260421T103916
CREATED:20250611T222659Z
LAST-MODIFIED:20250613T170122Z
UID:10012731-1842037200-1842040800@myrecovery.org
SUMMARY:AA - Squad 19 - Format: Daily Reflections
DESCRIPTION:  \nCLICK HERE to join the meeting!
URL:https://myrecovery.org/event/aa-squad-19-format-daily-reflections/2028-05-15/
CATEGORIES:AA,Daily Reflections
ATTACH;FMTTYPE=image/jpeg:https://myrecovery.org/wp-content/uploads/2024/02/AA-Squad-19-Format-Daily-Reflections.jpg
LOCATION:https://zoom.us/j/448997822?pwd=RHpBelFXdXpWMEZUY2VKMXhKMENLdz09
END:VEVENT
BEGIN:VEVENT
DTSTART;TZID=UTC:20280522T210000
DTEND;TZID=UTC:20280522T220000
DTSTAMP:20260421T103916
CREATED:20250611T222659Z
LAST-MODIFIED:20250613T170122Z
UID:10012732-1842642000-1842645600@myrecovery.org
SUMMARY:AA - Squad 19 - Format: Daily Reflections
DESCRIPTION:  \nCLICK HERE to join the meeting!
URL:https://myrecovery.org/event/aa-squad-19-format-daily-reflections/2028-05-22/
CATEGORIES:AA,Daily Reflections
ATTACH;FMTTYPE=image/jpeg:https://myrecovery.org/wp-content/uploads/2024/02/AA-Squad-19-Format-Daily-Reflections.jpg
LOCATION:https://zoom.us/j/448997822?pwd=RHpBelFXdXpWMEZUY2VKMXhKMENLdz09
END:VEVENT
BEGIN:VEVENT
DTSTART;TZID=UTC:20280529T210000
DTEND;TZID=UTC:20280529T220000
DTSTAMP:20260421T103916
CREATED:20250611T222659Z
LAST-MODIFIED:20250613T170122Z
UID:10012733-1843246800-1843250400@myrecovery.org
SUMMARY:AA - Squad 19 - Format: Daily Reflections
DESCRIPTION:  \nCLICK HERE to join the meeting!
URL:https://myrecovery.org/event/aa-squad-19-format-daily-reflections/2028-05-29/
CATEGORIES:AA,Daily Reflections
ATTACH;FMTTYPE=image/jpeg:https://myrecovery.org/wp-content/uploads/2024/02/AA-Squad-19-Format-Daily-Reflections.jpg
LOCATION:https://zoom.us/j/448997822?pwd=RHpBelFXdXpWMEZUY2VKMXhKMENLdz09
END:VEVENT
BEGIN:VEVENT
DTSTART;TZID=UTC:20280605T210000
DTEND;TZID=UTC:20280605T220000
DTSTAMP:20260421T103916
CREATED:20250611T222659Z
LAST-MODIFIED:20250613T170122Z
UID:10012734-1843851600-1843855200@myrecovery.org
SUMMARY:AA - Squad 19 - Format: Daily Reflections
DESCRIPTION:  \nCLICK HERE to join the meeting!
URL:https://myrecovery.org/event/aa-squad-19-format-daily-reflections/2028-06-05/
CATEGORIES:AA,Daily Reflections
ATTACH;FMTTYPE=image/jpeg:https://myrecovery.org/wp-content/uploads/2024/02/AA-Squad-19-Format-Daily-Reflections.jpg
LOCATION:https://zoom.us/j/448997822?pwd=RHpBelFXdXpWMEZUY2VKMXhKMENLdz09
END:VEVENT
BEGIN:VEVENT
DTSTART;TZID=UTC:20280612T210000
DTEND;TZID=UTC:20280612T220000
DTSTAMP:20260421T103916
CREATED:20250611T222659Z
LAST-MODIFIED:20250613T170122Z
UID:10012735-1844456400-1844460000@myrecovery.org
SUMMARY:AA - Squad 19 - Format: Daily Reflections
DESCRIPTION:  \nCLICK HERE to join the meeting!
URL:https://myrecovery.org/event/aa-squad-19-format-daily-reflections/2028-06-12/
CATEGORIES:AA,Daily Reflections
ATTACH;FMTTYPE=image/jpeg:https://myrecovery.org/wp-content/uploads/2024/02/AA-Squad-19-Format-Daily-Reflections.jpg
LOCATION:https://zoom.us/j/448997822?pwd=RHpBelFXdXpWMEZUY2VKMXhKMENLdz09
END:VEVENT
BEGIN:VEVENT
DTSTART;TZID=UTC:20280619T210000
DTEND;TZID=UTC:20280619T220000
DTSTAMP:20260421T103916
CREATED:20250611T222659Z
LAST-MODIFIED:20250613T170122Z
UID:10012736-1845061200-1845064800@myrecovery.org
SUMMARY:AA - Squad 19 - Format: Daily Reflections
DESCRIPTION:  \nCLICK HERE to join the meeting!
URL:https://myrecovery.org/event/aa-squad-19-format-daily-reflections/2028-06-19/
CATEGORIES:AA,Daily Reflections
ATTACH;FMTTYPE=image/jpeg:https://myrecovery.org/wp-content/uploads/2024/02/AA-Squad-19-Format-Daily-Reflections.jpg
LOCATION:https://zoom.us/j/448997822?pwd=RHpBelFXdXpWMEZUY2VKMXhKMENLdz09
END:VEVENT
BEGIN:VEVENT
DTSTART;TZID=UTC:20280626T210000
DTEND;TZID=UTC:20280626T220000
DTSTAMP:20260421T103916
CREATED:20250611T222659Z
LAST-MODIFIED:20250613T170122Z
UID:10012737-1845666000-1845669600@myrecovery.org
SUMMARY:AA - Squad 19 - Format: Daily Reflections
DESCRIPTION:  \nCLICK HERE to join the meeting!
URL:https://myrecovery.org/event/aa-squad-19-format-daily-reflections/2028-06-26/
CATEGORIES:AA,Daily Reflections
ATTACH;FMTTYPE=image/jpeg:https://myrecovery.org/wp-content/uploads/2024/02/AA-Squad-19-Format-Daily-Reflections.jpg
LOCATION:https://zoom.us/j/448997822?pwd=RHpBelFXdXpWMEZUY2VKMXhKMENLdz09
END:VEVENT
BEGIN:VEVENT
DTSTART;TZID=UTC:20280703T210000
DTEND;TZID=UTC:20280703T220000
DTSTAMP:20260421T103916
CREATED:20250611T222659Z
LAST-MODIFIED:20250613T170122Z
UID:10012738-1846270800-1846274400@myrecovery.org
SUMMARY:AA - Squad 19 - Format: Daily Reflections
DESCRIPTION:  \nCLICK HERE to join the meeting!
URL:https://myrecovery.org/event/aa-squad-19-format-daily-reflections/2028-07-03/
CATEGORIES:AA,Daily Reflections
ATTACH;FMTTYPE=image/jpeg:https://myrecovery.org/wp-content/uploads/2024/02/AA-Squad-19-Format-Daily-Reflections.jpg
LOCATION:https://zoom.us/j/448997822?pwd=RHpBelFXdXpWMEZUY2VKMXhKMENLdz09
END:VEVENT
BEGIN:VEVENT
DTSTART;TZID=UTC:20280710T210000
DTEND;TZID=UTC:20280710T220000
DTSTAMP:20260421T103916
CREATED:20250611T222659Z
LAST-MODIFIED:20250613T170122Z
UID:10012739-1846875600-1846879200@myrecovery.org
SUMMARY:AA - Squad 19 - Format: Daily Reflections
DESCRIPTION:  \nCLICK HERE to join the meeting!
URL:https://myrecovery.org/event/aa-squad-19-format-daily-reflections/2028-07-10/
CATEGORIES:AA,Daily Reflections
ATTACH;FMTTYPE=image/jpeg:https://myrecovery.org/wp-content/uploads/2024/02/AA-Squad-19-Format-Daily-Reflections.jpg
LOCATION:https://zoom.us/j/448997822?pwd=RHpBelFXdXpWMEZUY2VKMXhKMENLdz09
END:VEVENT
BEGIN:VEVENT
DTSTART;TZID=UTC:20280717T210000
DTEND;TZID=UTC:20280717T220000
DTSTAMP:20260421T103916
CREATED:20250611T222659Z
LAST-MODIFIED:20250613T170122Z
UID:10012740-1847480400-1847484000@myrecovery.org
SUMMARY:AA - Squad 19 - Format: Daily Reflections
DESCRIPTION:  \nCLICK HERE to join the meeting!
URL:https://myrecovery.org/event/aa-squad-19-format-daily-reflections/2028-07-17/
CATEGORIES:AA,Daily Reflections
ATTACH;FMTTYPE=image/jpeg:https://myrecovery.org/wp-content/uploads/2024/02/AA-Squad-19-Format-Daily-Reflections.jpg
LOCATION:https://zoom.us/j/448997822?pwd=RHpBelFXdXpWMEZUY2VKMXhKMENLdz09
END:VEVENT
BEGIN:VEVENT
DTSTART;TZID=UTC:20280724T210000
DTEND;TZID=UTC:20280724T220000
DTSTAMP:20260421T103916
CREATED:20250611T222659Z
LAST-MODIFIED:20250613T170122Z
UID:10012741-1848085200-1848088800@myrecovery.org
SUMMARY:AA - Squad 19 - Format: Daily Reflections
DESCRIPTION:  \nCLICK HERE to join the meeting!
URL:https://myrecovery.org/event/aa-squad-19-format-daily-reflections/2028-07-24/
CATEGORIES:AA,Daily Reflections
ATTACH;FMTTYPE=image/jpeg:https://myrecovery.org/wp-content/uploads/2024/02/AA-Squad-19-Format-Daily-Reflections.jpg
LOCATION:https://zoom.us/j/448997822?pwd=RHpBelFXdXpWMEZUY2VKMXhKMENLdz09
END:VEVENT
BEGIN:VEVENT
DTSTART;TZID=UTC:20280731T210000
DTEND;TZID=UTC:20280731T220000
DTSTAMP:20260421T103916
CREATED:20250611T222659Z
LAST-MODIFIED:20250613T170122Z
UID:10012742-1848690000-1848693600@myrecovery.org
SUMMARY:AA - Squad 19 - Format: Daily Reflections
DESCRIPTION:  \nCLICK HERE to join the meeting!
URL:https://myrecovery.org/event/aa-squad-19-format-daily-reflections/2028-07-31/
CATEGORIES:AA,Daily Reflections
ATTACH;FMTTYPE=image/jpeg:https://myrecovery.org/wp-content/uploads/2024/02/AA-Squad-19-Format-Daily-Reflections.jpg
LOCATION:https://zoom.us/j/448997822?pwd=RHpBelFXdXpWMEZUY2VKMXhKMENLdz09
END:VEVENT
BEGIN:VEVENT
DTSTART;TZID=UTC:20280807T210000
DTEND;TZID=UTC:20280807T220000
DTSTAMP:20260421T103916
CREATED:20250611T222659Z
LAST-MODIFIED:20250613T170122Z
UID:10012743-1849294800-1849298400@myrecovery.org
SUMMARY:AA - Squad 19 - Format: Daily Reflections
DESCRIPTION:  \nCLICK HERE to join the meeting!
URL:https://myrecovery.org/event/aa-squad-19-format-daily-reflections/2028-08-07/
CATEGORIES:AA,Daily Reflections
ATTACH;FMTTYPE=image/jpeg:https://myrecovery.org/wp-content/uploads/2024/02/AA-Squad-19-Format-Daily-Reflections.jpg
LOCATION:https://zoom.us/j/448997822?pwd=RHpBelFXdXpWMEZUY2VKMXhKMENLdz09
END:VEVENT
BEGIN:VEVENT
DTSTART;TZID=UTC:20280814T210000
DTEND;TZID=UTC:20280814T220000
DTSTAMP:20260421T103916
CREATED:20250611T222659Z
LAST-MODIFIED:20250613T170122Z
UID:10012744-1849899600-1849903200@myrecovery.org
SUMMARY:AA - Squad 19 - Format: Daily Reflections
DESCRIPTION:  \nCLICK HERE to join the meeting!
URL:https://myrecovery.org/event/aa-squad-19-format-daily-reflections/2028-08-14/
CATEGORIES:AA,Daily Reflections
ATTACH;FMTTYPE=image/jpeg:https://myrecovery.org/wp-content/uploads/2024/02/AA-Squad-19-Format-Daily-Reflections.jpg
LOCATION:https://zoom.us/j/448997822?pwd=RHpBelFXdXpWMEZUY2VKMXhKMENLdz09
END:VEVENT
BEGIN:VEVENT
DTSTART;TZID=UTC:20280821T210000
DTEND;TZID=UTC:20280821T220000
DTSTAMP:20260421T103916
CREATED:20250611T222659Z
LAST-MODIFIED:20250613T170122Z
UID:10012745-1850504400-1850508000@myrecovery.org
SUMMARY:AA - Squad 19 - Format: Daily Reflections
DESCRIPTION:  \nCLICK HERE to join the meeting!
URL:https://myrecovery.org/event/aa-squad-19-format-daily-reflections/2028-08-21/
CATEGORIES:AA,Daily Reflections
ATTACH;FMTTYPE=image/jpeg:https://myrecovery.org/wp-content/uploads/2024/02/AA-Squad-19-Format-Daily-Reflections.jpg
LOCATION:https://zoom.us/j/448997822?pwd=RHpBelFXdXpWMEZUY2VKMXhKMENLdz09
END:VEVENT
BEGIN:VEVENT
DTSTART;TZID=UTC:20280828T210000
DTEND;TZID=UTC:20280828T220000
DTSTAMP:20260421T103916
CREATED:20250611T222659Z
LAST-MODIFIED:20250613T170122Z
UID:10012746-1851109200-1851112800@myrecovery.org
SUMMARY:AA - Squad 19 - Format: Daily Reflections
DESCRIPTION:  \nCLICK HERE to join the meeting!
URL:https://myrecovery.org/event/aa-squad-19-format-daily-reflections/2028-08-28/
CATEGORIES:AA,Daily Reflections
ATTACH;FMTTYPE=image/jpeg:https://myrecovery.org/wp-content/uploads/2024/02/AA-Squad-19-Format-Daily-Reflections.jpg
LOCATION:https://zoom.us/j/448997822?pwd=RHpBelFXdXpWMEZUY2VKMXhKMENLdz09
END:VEVENT
BEGIN:VEVENT
DTSTART;TZID=UTC:20280904T210000
DTEND;TZID=UTC:20280904T220000
DTSTAMP:20260421T103916
CREATED:20250611T222659Z
LAST-MODIFIED:20250613T170122Z
UID:10012747-1851714000-1851717600@myrecovery.org
SUMMARY:AA - Squad 19 - Format: Daily Reflections
DESCRIPTION:  \nCLICK HERE to join the meeting!
URL:https://myrecovery.org/event/aa-squad-19-format-daily-reflections/2028-09-04/
CATEGORIES:AA,Daily Reflections
ATTACH;FMTTYPE=image/jpeg:https://myrecovery.org/wp-content/uploads/2024/02/AA-Squad-19-Format-Daily-Reflections.jpg
LOCATION:https://zoom.us/j/448997822?pwd=RHpBelFXdXpWMEZUY2VKMXhKMENLdz09
END:VEVENT
BEGIN:VEVENT
DTSTART;TZID=UTC:20280911T210000
DTEND;TZID=UTC:20280911T220000
DTSTAMP:20260421T103916
CREATED:20250611T222659Z
LAST-MODIFIED:20250613T170122Z
UID:10012748-1852318800-1852322400@myrecovery.org
SUMMARY:AA - Squad 19 - Format: Daily Reflections
DESCRIPTION:  \nCLICK HERE to join the meeting!
URL:https://myrecovery.org/event/aa-squad-19-format-daily-reflections/2028-09-11/
CATEGORIES:AA,Daily Reflections
ATTACH;FMTTYPE=image/jpeg:https://myrecovery.org/wp-content/uploads/2024/02/AA-Squad-19-Format-Daily-Reflections.jpg
LOCATION:https://zoom.us/j/448997822?pwd=RHpBelFXdXpWMEZUY2VKMXhKMENLdz09
END:VEVENT
END:VCALENDAR