BEGIN:VCALENDAR
VERSION:2.0
PRODID:-//My Recovery - ECPv6.15.17//NONSGML v1.0//EN
CALSCALE:GREGORIAN
METHOD:PUBLISH
X-ORIGINAL-URL:https://myrecovery.org
X-WR-CALDESC:Events for My Recovery
REFRESH-INTERVAL;VALUE=DURATION:PT1H
X-Robots-Tag:noindex
X-PUBLISHED-TTL:PT1H
BEGIN:VTIMEZONE
TZID:UTC
BEGIN:STANDARD
TZOFFSETFROM:+0000
TZOFFSETTO:+0000
TZNAME:UTC
DTSTART:20280101T000000
END:STANDARD
END:VTIMEZONE
BEGIN:VEVENT
DTSTART;TZID=UTC:20291224T210000
DTEND;TZID=UTC:20291224T220000
DTSTAMP:20260421T235707
CREATED:20250611T222659Z
LAST-MODIFIED:20250613T170122Z
UID:10012815-1892840400-1892844000@myrecovery.org
SUMMARY:AA - Squad 19 - Format: Daily Reflections
DESCRIPTION:  \nCLICK HERE to join the meeting!
URL:https://myrecovery.org/event/aa-squad-19-format-daily-reflections/2029-12-24/
CATEGORIES:AA,Daily Reflections
ATTACH;FMTTYPE=image/jpeg:https://myrecovery.org/wp-content/uploads/2024/02/AA-Squad-19-Format-Daily-Reflections.jpg
LOCATION:https://zoom.us/j/448997822?pwd=RHpBelFXdXpWMEZUY2VKMXhKMENLdz09
END:VEVENT
BEGIN:VEVENT
DTSTART;TZID=UTC:20291231T210000
DTEND;TZID=UTC:20291231T220000
DTSTAMP:20260421T235707
CREATED:20250611T222659Z
LAST-MODIFIED:20250613T170122Z
UID:10012816-1893445200-1893448800@myrecovery.org
SUMMARY:AA - Squad 19 - Format: Daily Reflections
DESCRIPTION:  \nCLICK HERE to join the meeting!
URL:https://myrecovery.org/event/aa-squad-19-format-daily-reflections/2029-12-31/
CATEGORIES:AA,Daily Reflections
ATTACH;FMTTYPE=image/jpeg:https://myrecovery.org/wp-content/uploads/2024/02/AA-Squad-19-Format-Daily-Reflections.jpg
LOCATION:https://zoom.us/j/448997822?pwd=RHpBelFXdXpWMEZUY2VKMXhKMENLdz09
END:VEVENT
BEGIN:VEVENT
DTSTART;TZID=UTC:20300107T210000
DTEND;TZID=UTC:20300107T220000
DTSTAMP:20260421T235707
CREATED:20250611T222659Z
LAST-MODIFIED:20250613T170122Z
UID:10012817-1894050000-1894053600@myrecovery.org
SUMMARY:AA - Squad 19 - Format: Daily Reflections
DESCRIPTION:  \nCLICK HERE to join the meeting!
URL:https://myrecovery.org/event/aa-squad-19-format-daily-reflections/2030-01-07/
CATEGORIES:AA,Daily Reflections
ATTACH;FMTTYPE=image/jpeg:https://myrecovery.org/wp-content/uploads/2024/02/AA-Squad-19-Format-Daily-Reflections.jpg
LOCATION:https://zoom.us/j/448997822?pwd=RHpBelFXdXpWMEZUY2VKMXhKMENLdz09
END:VEVENT
BEGIN:VEVENT
DTSTART;TZID=UTC:20300114T210000
DTEND;TZID=UTC:20300114T220000
DTSTAMP:20260421T235707
CREATED:20250611T222659Z
LAST-MODIFIED:20250613T170122Z
UID:10012818-1894654800-1894658400@myrecovery.org
SUMMARY:AA - Squad 19 - Format: Daily Reflections
DESCRIPTION:  \nCLICK HERE to join the meeting!
URL:https://myrecovery.org/event/aa-squad-19-format-daily-reflections/2030-01-14/
CATEGORIES:AA,Daily Reflections
ATTACH;FMTTYPE=image/jpeg:https://myrecovery.org/wp-content/uploads/2024/02/AA-Squad-19-Format-Daily-Reflections.jpg
LOCATION:https://zoom.us/j/448997822?pwd=RHpBelFXdXpWMEZUY2VKMXhKMENLdz09
END:VEVENT
BEGIN:VEVENT
DTSTART;TZID=UTC:20300121T210000
DTEND;TZID=UTC:20300121T220000
DTSTAMP:20260421T235707
CREATED:20250611T222659Z
LAST-MODIFIED:20250613T170122Z
UID:10012819-1895259600-1895263200@myrecovery.org
SUMMARY:AA - Squad 19 - Format: Daily Reflections
DESCRIPTION:  \nCLICK HERE to join the meeting!
URL:https://myrecovery.org/event/aa-squad-19-format-daily-reflections/2030-01-21/
CATEGORIES:AA,Daily Reflections
ATTACH;FMTTYPE=image/jpeg:https://myrecovery.org/wp-content/uploads/2024/02/AA-Squad-19-Format-Daily-Reflections.jpg
LOCATION:https://zoom.us/j/448997822?pwd=RHpBelFXdXpWMEZUY2VKMXhKMENLdz09
END:VEVENT
BEGIN:VEVENT
DTSTART;TZID=UTC:20300128T210000
DTEND;TZID=UTC:20300128T220000
DTSTAMP:20260421T235707
CREATED:20250611T222659Z
LAST-MODIFIED:20250613T170122Z
UID:10012820-1895864400-1895868000@myrecovery.org
SUMMARY:AA - Squad 19 - Format: Daily Reflections
DESCRIPTION:  \nCLICK HERE to join the meeting!
URL:https://myrecovery.org/event/aa-squad-19-format-daily-reflections/2030-01-28/
CATEGORIES:AA,Daily Reflections
ATTACH;FMTTYPE=image/jpeg:https://myrecovery.org/wp-content/uploads/2024/02/AA-Squad-19-Format-Daily-Reflections.jpg
LOCATION:https://zoom.us/j/448997822?pwd=RHpBelFXdXpWMEZUY2VKMXhKMENLdz09
END:VEVENT
BEGIN:VEVENT
DTSTART;TZID=UTC:20300204T210000
DTEND;TZID=UTC:20300204T220000
DTSTAMP:20260421T235707
CREATED:20250611T222659Z
LAST-MODIFIED:20250613T170122Z
UID:10012821-1896469200-1896472800@myrecovery.org
SUMMARY:AA - Squad 19 - Format: Daily Reflections
DESCRIPTION:  \nCLICK HERE to join the meeting!
URL:https://myrecovery.org/event/aa-squad-19-format-daily-reflections/2030-02-04/
CATEGORIES:AA,Daily Reflections
ATTACH;FMTTYPE=image/jpeg:https://myrecovery.org/wp-content/uploads/2024/02/AA-Squad-19-Format-Daily-Reflections.jpg
LOCATION:https://zoom.us/j/448997822?pwd=RHpBelFXdXpWMEZUY2VKMXhKMENLdz09
END:VEVENT
BEGIN:VEVENT
DTSTART;TZID=UTC:20300211T210000
DTEND;TZID=UTC:20300211T220000
DTSTAMP:20260421T235707
CREATED:20250611T222659Z
LAST-MODIFIED:20250613T170122Z
UID:10012822-1897074000-1897077600@myrecovery.org
SUMMARY:AA - Squad 19 - Format: Daily Reflections
DESCRIPTION:  \nCLICK HERE to join the meeting!
URL:https://myrecovery.org/event/aa-squad-19-format-daily-reflections/2030-02-11/
CATEGORIES:AA,Daily Reflections
ATTACH;FMTTYPE=image/jpeg:https://myrecovery.org/wp-content/uploads/2024/02/AA-Squad-19-Format-Daily-Reflections.jpg
LOCATION:https://zoom.us/j/448997822?pwd=RHpBelFXdXpWMEZUY2VKMXhKMENLdz09
END:VEVENT
BEGIN:VEVENT
DTSTART;TZID=UTC:20300218T210000
DTEND;TZID=UTC:20300218T220000
DTSTAMP:20260421T235707
CREATED:20250611T222659Z
LAST-MODIFIED:20250613T170122Z
UID:10012823-1897678800-1897682400@myrecovery.org
SUMMARY:AA - Squad 19 - Format: Daily Reflections
DESCRIPTION:  \nCLICK HERE to join the meeting!
URL:https://myrecovery.org/event/aa-squad-19-format-daily-reflections/2030-02-18/
CATEGORIES:AA,Daily Reflections
ATTACH;FMTTYPE=image/jpeg:https://myrecovery.org/wp-content/uploads/2024/02/AA-Squad-19-Format-Daily-Reflections.jpg
LOCATION:https://zoom.us/j/448997822?pwd=RHpBelFXdXpWMEZUY2VKMXhKMENLdz09
END:VEVENT
BEGIN:VEVENT
DTSTART;TZID=UTC:20300225T210000
DTEND;TZID=UTC:20300225T220000
DTSTAMP:20260421T235707
CREATED:20250611T222659Z
LAST-MODIFIED:20250613T170122Z
UID:10012824-1898283600-1898287200@myrecovery.org
SUMMARY:AA - Squad 19 - Format: Daily Reflections
DESCRIPTION:  \nCLICK HERE to join the meeting!
URL:https://myrecovery.org/event/aa-squad-19-format-daily-reflections/2030-02-25/
CATEGORIES:AA,Daily Reflections
ATTACH;FMTTYPE=image/jpeg:https://myrecovery.org/wp-content/uploads/2024/02/AA-Squad-19-Format-Daily-Reflections.jpg
LOCATION:https://zoom.us/j/448997822?pwd=RHpBelFXdXpWMEZUY2VKMXhKMENLdz09
END:VEVENT
BEGIN:VEVENT
DTSTART;TZID=UTC:20300304T210000
DTEND;TZID=UTC:20300304T220000
DTSTAMP:20260421T235707
CREATED:20250611T222659Z
LAST-MODIFIED:20250613T170122Z
UID:10012825-1898888400-1898892000@myrecovery.org
SUMMARY:AA - Squad 19 - Format: Daily Reflections
DESCRIPTION:  \nCLICK HERE to join the meeting!
URL:https://myrecovery.org/event/aa-squad-19-format-daily-reflections/2030-03-04/
CATEGORIES:AA,Daily Reflections
ATTACH;FMTTYPE=image/jpeg:https://myrecovery.org/wp-content/uploads/2024/02/AA-Squad-19-Format-Daily-Reflections.jpg
LOCATION:https://zoom.us/j/448997822?pwd=RHpBelFXdXpWMEZUY2VKMXhKMENLdz09
END:VEVENT
BEGIN:VEVENT
DTSTART;TZID=UTC:20300311T210000
DTEND;TZID=UTC:20300311T220000
DTSTAMP:20260421T235707
CREATED:20250611T222659Z
LAST-MODIFIED:20250613T170122Z
UID:10012826-1899493200-1899496800@myrecovery.org
SUMMARY:AA - Squad 19 - Format: Daily Reflections
DESCRIPTION:  \nCLICK HERE to join the meeting!
URL:https://myrecovery.org/event/aa-squad-19-format-daily-reflections/2030-03-11/
CATEGORIES:AA,Daily Reflections
ATTACH;FMTTYPE=image/jpeg:https://myrecovery.org/wp-content/uploads/2024/02/AA-Squad-19-Format-Daily-Reflections.jpg
LOCATION:https://zoom.us/j/448997822?pwd=RHpBelFXdXpWMEZUY2VKMXhKMENLdz09
END:VEVENT
BEGIN:VEVENT
DTSTART;TZID=UTC:20300318T210000
DTEND;TZID=UTC:20300318T220000
DTSTAMP:20260421T235707
CREATED:20250611T222659Z
LAST-MODIFIED:20250613T170122Z
UID:10012827-1900098000-1900101600@myrecovery.org
SUMMARY:AA - Squad 19 - Format: Daily Reflections
DESCRIPTION:  \nCLICK HERE to join the meeting!
URL:https://myrecovery.org/event/aa-squad-19-format-daily-reflections/2030-03-18/
CATEGORIES:AA,Daily Reflections
ATTACH;FMTTYPE=image/jpeg:https://myrecovery.org/wp-content/uploads/2024/02/AA-Squad-19-Format-Daily-Reflections.jpg
LOCATION:https://zoom.us/j/448997822?pwd=RHpBelFXdXpWMEZUY2VKMXhKMENLdz09
END:VEVENT
BEGIN:VEVENT
DTSTART;TZID=UTC:20300325T210000
DTEND;TZID=UTC:20300325T220000
DTSTAMP:20260421T235707
CREATED:20250611T222659Z
LAST-MODIFIED:20250613T170122Z
UID:10012828-1900702800-1900706400@myrecovery.org
SUMMARY:AA - Squad 19 - Format: Daily Reflections
DESCRIPTION:  \nCLICK HERE to join the meeting!
URL:https://myrecovery.org/event/aa-squad-19-format-daily-reflections/2030-03-25/
CATEGORIES:AA,Daily Reflections
ATTACH;FMTTYPE=image/jpeg:https://myrecovery.org/wp-content/uploads/2024/02/AA-Squad-19-Format-Daily-Reflections.jpg
LOCATION:https://zoom.us/j/448997822?pwd=RHpBelFXdXpWMEZUY2VKMXhKMENLdz09
END:VEVENT
BEGIN:VEVENT
DTSTART;TZID=UTC:20300401T210000
DTEND;TZID=UTC:20300401T220000
DTSTAMP:20260421T235707
CREATED:20250611T222659Z
LAST-MODIFIED:20250613T170122Z
UID:10012829-1901307600-1901311200@myrecovery.org
SUMMARY:AA - Squad 19 - Format: Daily Reflections
DESCRIPTION:  \nCLICK HERE to join the meeting!
URL:https://myrecovery.org/event/aa-squad-19-format-daily-reflections/2030-04-01/
CATEGORIES:AA,Daily Reflections
ATTACH;FMTTYPE=image/jpeg:https://myrecovery.org/wp-content/uploads/2024/02/AA-Squad-19-Format-Daily-Reflections.jpg
LOCATION:https://zoom.us/j/448997822?pwd=RHpBelFXdXpWMEZUY2VKMXhKMENLdz09
END:VEVENT
BEGIN:VEVENT
DTSTART;TZID=UTC:20300408T210000
DTEND;TZID=UTC:20300408T220000
DTSTAMP:20260421T235707
CREATED:20250611T222659Z
LAST-MODIFIED:20250613T170122Z
UID:10012830-1901912400-1901916000@myrecovery.org
SUMMARY:AA - Squad 19 - Format: Daily Reflections
DESCRIPTION:  \nCLICK HERE to join the meeting!
URL:https://myrecovery.org/event/aa-squad-19-format-daily-reflections/2030-04-08/
CATEGORIES:AA,Daily Reflections
ATTACH;FMTTYPE=image/jpeg:https://myrecovery.org/wp-content/uploads/2024/02/AA-Squad-19-Format-Daily-Reflections.jpg
LOCATION:https://zoom.us/j/448997822?pwd=RHpBelFXdXpWMEZUY2VKMXhKMENLdz09
END:VEVENT
BEGIN:VEVENT
DTSTART;TZID=UTC:20300415T210000
DTEND;TZID=UTC:20300415T220000
DTSTAMP:20260421T235707
CREATED:20250611T222659Z
LAST-MODIFIED:20250613T170122Z
UID:10012831-1902517200-1902520800@myrecovery.org
SUMMARY:AA - Squad 19 - Format: Daily Reflections
DESCRIPTION:  \nCLICK HERE to join the meeting!
URL:https://myrecovery.org/event/aa-squad-19-format-daily-reflections/2030-04-15/
CATEGORIES:AA,Daily Reflections
ATTACH;FMTTYPE=image/jpeg:https://myrecovery.org/wp-content/uploads/2024/02/AA-Squad-19-Format-Daily-Reflections.jpg
LOCATION:https://zoom.us/j/448997822?pwd=RHpBelFXdXpWMEZUY2VKMXhKMENLdz09
END:VEVENT
BEGIN:VEVENT
DTSTART;TZID=UTC:20300422T210000
DTEND;TZID=UTC:20300422T220000
DTSTAMP:20260421T235707
CREATED:20250611T222659Z
LAST-MODIFIED:20250613T170122Z
UID:10012832-1903122000-1903125600@myrecovery.org
SUMMARY:AA - Squad 19 - Format: Daily Reflections
DESCRIPTION:  \nCLICK HERE to join the meeting!
URL:https://myrecovery.org/event/aa-squad-19-format-daily-reflections/2030-04-22/
CATEGORIES:AA,Daily Reflections
ATTACH;FMTTYPE=image/jpeg:https://myrecovery.org/wp-content/uploads/2024/02/AA-Squad-19-Format-Daily-Reflections.jpg
LOCATION:https://zoom.us/j/448997822?pwd=RHpBelFXdXpWMEZUY2VKMXhKMENLdz09
END:VEVENT
BEGIN:VEVENT
DTSTART;TZID=UTC:20300429T210000
DTEND;TZID=UTC:20300429T220000
DTSTAMP:20260421T235707
CREATED:20250611T222659Z
LAST-MODIFIED:20250613T170122Z
UID:10012833-1903726800-1903730400@myrecovery.org
SUMMARY:AA - Squad 19 - Format: Daily Reflections
DESCRIPTION:  \nCLICK HERE to join the meeting!
URL:https://myrecovery.org/event/aa-squad-19-format-daily-reflections/2030-04-29/
CATEGORIES:AA,Daily Reflections
ATTACH;FMTTYPE=image/jpeg:https://myrecovery.org/wp-content/uploads/2024/02/AA-Squad-19-Format-Daily-Reflections.jpg
LOCATION:https://zoom.us/j/448997822?pwd=RHpBelFXdXpWMEZUY2VKMXhKMENLdz09
END:VEVENT
BEGIN:VEVENT
DTSTART;TZID=UTC:20300506T210000
DTEND;TZID=UTC:20300506T220000
DTSTAMP:20260421T235707
CREATED:20250611T222659Z
LAST-MODIFIED:20250613T170122Z
UID:10012834-1904331600-1904335200@myrecovery.org
SUMMARY:AA - Squad 19 - Format: Daily Reflections
DESCRIPTION:  \nCLICK HERE to join the meeting!
URL:https://myrecovery.org/event/aa-squad-19-format-daily-reflections/2030-05-06/
CATEGORIES:AA,Daily Reflections
ATTACH;FMTTYPE=image/jpeg:https://myrecovery.org/wp-content/uploads/2024/02/AA-Squad-19-Format-Daily-Reflections.jpg
LOCATION:https://zoom.us/j/448997822?pwd=RHpBelFXdXpWMEZUY2VKMXhKMENLdz09
END:VEVENT
BEGIN:VEVENT
DTSTART;TZID=UTC:20300513T210000
DTEND;TZID=UTC:20300513T220000
DTSTAMP:20260421T235707
CREATED:20250611T222659Z
LAST-MODIFIED:20250613T170122Z
UID:10012835-1904936400-1904940000@myrecovery.org
SUMMARY:AA - Squad 19 - Format: Daily Reflections
DESCRIPTION:  \nCLICK HERE to join the meeting!
URL:https://myrecovery.org/event/aa-squad-19-format-daily-reflections/2030-05-13/
CATEGORIES:AA,Daily Reflections
ATTACH;FMTTYPE=image/jpeg:https://myrecovery.org/wp-content/uploads/2024/02/AA-Squad-19-Format-Daily-Reflections.jpg
LOCATION:https://zoom.us/j/448997822?pwd=RHpBelFXdXpWMEZUY2VKMXhKMENLdz09
END:VEVENT
BEGIN:VEVENT
DTSTART;TZID=UTC:20300520T210000
DTEND;TZID=UTC:20300520T220000
DTSTAMP:20260421T235707
CREATED:20250611T222659Z
LAST-MODIFIED:20250613T170122Z
UID:10012836-1905541200-1905544800@myrecovery.org
SUMMARY:AA - Squad 19 - Format: Daily Reflections
DESCRIPTION:  \nCLICK HERE to join the meeting!
URL:https://myrecovery.org/event/aa-squad-19-format-daily-reflections/2030-05-20/
CATEGORIES:AA,Daily Reflections
ATTACH;FMTTYPE=image/jpeg:https://myrecovery.org/wp-content/uploads/2024/02/AA-Squad-19-Format-Daily-Reflections.jpg
LOCATION:https://zoom.us/j/448997822?pwd=RHpBelFXdXpWMEZUY2VKMXhKMENLdz09
END:VEVENT
BEGIN:VEVENT
DTSTART;TZID=UTC:20300527T210000
DTEND;TZID=UTC:20300527T220000
DTSTAMP:20260421T235707
CREATED:20250611T222659Z
LAST-MODIFIED:20250613T170122Z
UID:10012837-1906146000-1906149600@myrecovery.org
SUMMARY:AA - Squad 19 - Format: Daily Reflections
DESCRIPTION:  \nCLICK HERE to join the meeting!
URL:https://myrecovery.org/event/aa-squad-19-format-daily-reflections/2030-05-27/
CATEGORIES:AA,Daily Reflections
ATTACH;FMTTYPE=image/jpeg:https://myrecovery.org/wp-content/uploads/2024/02/AA-Squad-19-Format-Daily-Reflections.jpg
LOCATION:https://zoom.us/j/448997822?pwd=RHpBelFXdXpWMEZUY2VKMXhKMENLdz09
END:VEVENT
BEGIN:VEVENT
DTSTART;TZID=UTC:20300603T210000
DTEND;TZID=UTC:20300603T220000
DTSTAMP:20260421T235707
CREATED:20250611T222659Z
LAST-MODIFIED:20250613T170122Z
UID:10012838-1906750800-1906754400@myrecovery.org
SUMMARY:AA - Squad 19 - Format: Daily Reflections
DESCRIPTION:  \nCLICK HERE to join the meeting!
URL:https://myrecovery.org/event/aa-squad-19-format-daily-reflections/2030-06-03/
CATEGORIES:AA,Daily Reflections
ATTACH;FMTTYPE=image/jpeg:https://myrecovery.org/wp-content/uploads/2024/02/AA-Squad-19-Format-Daily-Reflections.jpg
LOCATION:https://zoom.us/j/448997822?pwd=RHpBelFXdXpWMEZUY2VKMXhKMENLdz09
END:VEVENT
BEGIN:VEVENT
DTSTART;TZID=UTC:20300610T210000
DTEND;TZID=UTC:20300610T220000
DTSTAMP:20260421T235707
CREATED:20250611T222659Z
LAST-MODIFIED:20250613T170122Z
UID:10012839-1907355600-1907359200@myrecovery.org
SUMMARY:AA - Squad 19 - Format: Daily Reflections
DESCRIPTION:  \nCLICK HERE to join the meeting!
URL:https://myrecovery.org/event/aa-squad-19-format-daily-reflections/2030-06-10/
CATEGORIES:AA,Daily Reflections
ATTACH;FMTTYPE=image/jpeg:https://myrecovery.org/wp-content/uploads/2024/02/AA-Squad-19-Format-Daily-Reflections.jpg
LOCATION:https://zoom.us/j/448997822?pwd=RHpBelFXdXpWMEZUY2VKMXhKMENLdz09
END:VEVENT
END:VCALENDAR