BEGIN:VCALENDAR
VERSION:2.0
PRODID:-//My Recovery - ECPv6.15.17//NONSGML v1.0//EN
CALSCALE:GREGORIAN
METHOD:PUBLISH
X-WR-CALNAME:My Recovery
X-ORIGINAL-URL:https://myrecovery.org
X-WR-CALDESC:Events for My Recovery
REFRESH-INTERVAL;VALUE=DURATION:PT1H
X-Robots-Tag:noindex
X-PUBLISHED-TTL:PT1H
BEGIN:VTIMEZONE
TZID:UTC
BEGIN:STANDARD
TZOFFSETFROM:+0000
TZOFFSETTO:+0000
TZNAME:UTC
DTSTART:20280101T000000
END:STANDARD
END:VTIMEZONE
BEGIN:VEVENT
DTSTART;TZID=UTC:20290709T210000
DTEND;TZID=UTC:20290709T220000
DTSTAMP:20260421T204359
CREATED:20250611T222659Z
LAST-MODIFIED:20250613T170122Z
UID:10012791-1878325200-1878328800@myrecovery.org
SUMMARY:AA - Squad 19 - Format: Daily Reflections
DESCRIPTION:  \nCLICK HERE to join the meeting!
URL:https://myrecovery.org/event/aa-squad-19-format-daily-reflections/2029-07-09/
CATEGORIES:AA,Daily Reflections
ATTACH;FMTTYPE=image/jpeg:https://myrecovery.org/wp-content/uploads/2024/02/AA-Squad-19-Format-Daily-Reflections.jpg
LOCATION:https://zoom.us/j/448997822?pwd=RHpBelFXdXpWMEZUY2VKMXhKMENLdz09
END:VEVENT
BEGIN:VEVENT
DTSTART;TZID=UTC:20290716T210000
DTEND;TZID=UTC:20290716T220000
DTSTAMP:20260421T204359
CREATED:20250611T222659Z
LAST-MODIFIED:20250613T170122Z
UID:10012792-1878930000-1878933600@myrecovery.org
SUMMARY:AA - Squad 19 - Format: Daily Reflections
DESCRIPTION:  \nCLICK HERE to join the meeting!
URL:https://myrecovery.org/event/aa-squad-19-format-daily-reflections/2029-07-16/
CATEGORIES:AA,Daily Reflections
ATTACH;FMTTYPE=image/jpeg:https://myrecovery.org/wp-content/uploads/2024/02/AA-Squad-19-Format-Daily-Reflections.jpg
LOCATION:https://zoom.us/j/448997822?pwd=RHpBelFXdXpWMEZUY2VKMXhKMENLdz09
END:VEVENT
BEGIN:VEVENT
DTSTART;TZID=UTC:20290723T210000
DTEND;TZID=UTC:20290723T220000
DTSTAMP:20260421T204359
CREATED:20250611T222659Z
LAST-MODIFIED:20250613T170122Z
UID:10012793-1879534800-1879538400@myrecovery.org
SUMMARY:AA - Squad 19 - Format: Daily Reflections
DESCRIPTION:  \nCLICK HERE to join the meeting!
URL:https://myrecovery.org/event/aa-squad-19-format-daily-reflections/2029-07-23/
CATEGORIES:AA,Daily Reflections
ATTACH;FMTTYPE=image/jpeg:https://myrecovery.org/wp-content/uploads/2024/02/AA-Squad-19-Format-Daily-Reflections.jpg
LOCATION:https://zoom.us/j/448997822?pwd=RHpBelFXdXpWMEZUY2VKMXhKMENLdz09
END:VEVENT
BEGIN:VEVENT
DTSTART;TZID=UTC:20290730T210000
DTEND;TZID=UTC:20290730T220000
DTSTAMP:20260421T204359
CREATED:20250611T222659Z
LAST-MODIFIED:20250613T170122Z
UID:10012794-1880139600-1880143200@myrecovery.org
SUMMARY:AA - Squad 19 - Format: Daily Reflections
DESCRIPTION:  \nCLICK HERE to join the meeting!
URL:https://myrecovery.org/event/aa-squad-19-format-daily-reflections/2029-07-30/
CATEGORIES:AA,Daily Reflections
ATTACH;FMTTYPE=image/jpeg:https://myrecovery.org/wp-content/uploads/2024/02/AA-Squad-19-Format-Daily-Reflections.jpg
LOCATION:https://zoom.us/j/448997822?pwd=RHpBelFXdXpWMEZUY2VKMXhKMENLdz09
END:VEVENT
BEGIN:VEVENT
DTSTART;TZID=UTC:20290806T210000
DTEND;TZID=UTC:20290806T220000
DTSTAMP:20260421T204359
CREATED:20250611T222659Z
LAST-MODIFIED:20250613T170122Z
UID:10012795-1880744400-1880748000@myrecovery.org
SUMMARY:AA - Squad 19 - Format: Daily Reflections
DESCRIPTION:  \nCLICK HERE to join the meeting!
URL:https://myrecovery.org/event/aa-squad-19-format-daily-reflections/2029-08-06/
CATEGORIES:AA,Daily Reflections
ATTACH;FMTTYPE=image/jpeg:https://myrecovery.org/wp-content/uploads/2024/02/AA-Squad-19-Format-Daily-Reflections.jpg
LOCATION:https://zoom.us/j/448997822?pwd=RHpBelFXdXpWMEZUY2VKMXhKMENLdz09
END:VEVENT
BEGIN:VEVENT
DTSTART;TZID=UTC:20290813T210000
DTEND;TZID=UTC:20290813T220000
DTSTAMP:20260421T204359
CREATED:20250611T222659Z
LAST-MODIFIED:20250613T170122Z
UID:10012796-1881349200-1881352800@myrecovery.org
SUMMARY:AA - Squad 19 - Format: Daily Reflections
DESCRIPTION:  \nCLICK HERE to join the meeting!
URL:https://myrecovery.org/event/aa-squad-19-format-daily-reflections/2029-08-13/
CATEGORIES:AA,Daily Reflections
ATTACH;FMTTYPE=image/jpeg:https://myrecovery.org/wp-content/uploads/2024/02/AA-Squad-19-Format-Daily-Reflections.jpg
LOCATION:https://zoom.us/j/448997822?pwd=RHpBelFXdXpWMEZUY2VKMXhKMENLdz09
END:VEVENT
BEGIN:VEVENT
DTSTART;TZID=UTC:20290820T210000
DTEND;TZID=UTC:20290820T220000
DTSTAMP:20260421T204359
CREATED:20250611T222659Z
LAST-MODIFIED:20250613T170122Z
UID:10012797-1881954000-1881957600@myrecovery.org
SUMMARY:AA - Squad 19 - Format: Daily Reflections
DESCRIPTION:  \nCLICK HERE to join the meeting!
URL:https://myrecovery.org/event/aa-squad-19-format-daily-reflections/2029-08-20/
CATEGORIES:AA,Daily Reflections
ATTACH;FMTTYPE=image/jpeg:https://myrecovery.org/wp-content/uploads/2024/02/AA-Squad-19-Format-Daily-Reflections.jpg
LOCATION:https://zoom.us/j/448997822?pwd=RHpBelFXdXpWMEZUY2VKMXhKMENLdz09
END:VEVENT
BEGIN:VEVENT
DTSTART;TZID=UTC:20290827T210000
DTEND;TZID=UTC:20290827T220000
DTSTAMP:20260421T204359
CREATED:20250611T222659Z
LAST-MODIFIED:20250613T170122Z
UID:10012798-1882558800-1882562400@myrecovery.org
SUMMARY:AA - Squad 19 - Format: Daily Reflections
DESCRIPTION:  \nCLICK HERE to join the meeting!
URL:https://myrecovery.org/event/aa-squad-19-format-daily-reflections/2029-08-27/
CATEGORIES:AA,Daily Reflections
ATTACH;FMTTYPE=image/jpeg:https://myrecovery.org/wp-content/uploads/2024/02/AA-Squad-19-Format-Daily-Reflections.jpg
LOCATION:https://zoom.us/j/448997822?pwd=RHpBelFXdXpWMEZUY2VKMXhKMENLdz09
END:VEVENT
BEGIN:VEVENT
DTSTART;TZID=UTC:20290903T210000
DTEND;TZID=UTC:20290903T220000
DTSTAMP:20260421T204359
CREATED:20250611T222659Z
LAST-MODIFIED:20250613T170122Z
UID:10012799-1883163600-1883167200@myrecovery.org
SUMMARY:AA - Squad 19 - Format: Daily Reflections
DESCRIPTION:  \nCLICK HERE to join the meeting!
URL:https://myrecovery.org/event/aa-squad-19-format-daily-reflections/2029-09-03/
CATEGORIES:AA,Daily Reflections
ATTACH;FMTTYPE=image/jpeg:https://myrecovery.org/wp-content/uploads/2024/02/AA-Squad-19-Format-Daily-Reflections.jpg
LOCATION:https://zoom.us/j/448997822?pwd=RHpBelFXdXpWMEZUY2VKMXhKMENLdz09
END:VEVENT
BEGIN:VEVENT
DTSTART;TZID=UTC:20290910T210000
DTEND;TZID=UTC:20290910T220000
DTSTAMP:20260421T204359
CREATED:20250611T222659Z
LAST-MODIFIED:20250613T170122Z
UID:10012800-1883768400-1883772000@myrecovery.org
SUMMARY:AA - Squad 19 - Format: Daily Reflections
DESCRIPTION:  \nCLICK HERE to join the meeting!
URL:https://myrecovery.org/event/aa-squad-19-format-daily-reflections/2029-09-10/
CATEGORIES:AA,Daily Reflections
ATTACH;FMTTYPE=image/jpeg:https://myrecovery.org/wp-content/uploads/2024/02/AA-Squad-19-Format-Daily-Reflections.jpg
LOCATION:https://zoom.us/j/448997822?pwd=RHpBelFXdXpWMEZUY2VKMXhKMENLdz09
END:VEVENT
BEGIN:VEVENT
DTSTART;TZID=UTC:20290917T210000
DTEND;TZID=UTC:20290917T220000
DTSTAMP:20260421T204359
CREATED:20250611T222659Z
LAST-MODIFIED:20250613T170122Z
UID:10012801-1884373200-1884376800@myrecovery.org
SUMMARY:AA - Squad 19 - Format: Daily Reflections
DESCRIPTION:  \nCLICK HERE to join the meeting!
URL:https://myrecovery.org/event/aa-squad-19-format-daily-reflections/2029-09-17/
CATEGORIES:AA,Daily Reflections
ATTACH;FMTTYPE=image/jpeg:https://myrecovery.org/wp-content/uploads/2024/02/AA-Squad-19-Format-Daily-Reflections.jpg
LOCATION:https://zoom.us/j/448997822?pwd=RHpBelFXdXpWMEZUY2VKMXhKMENLdz09
END:VEVENT
BEGIN:VEVENT
DTSTART;TZID=UTC:20290924T210000
DTEND;TZID=UTC:20290924T220000
DTSTAMP:20260421T204359
CREATED:20250611T222659Z
LAST-MODIFIED:20250613T170122Z
UID:10012802-1884978000-1884981600@myrecovery.org
SUMMARY:AA - Squad 19 - Format: Daily Reflections
DESCRIPTION:  \nCLICK HERE to join the meeting!
URL:https://myrecovery.org/event/aa-squad-19-format-daily-reflections/2029-09-24/
CATEGORIES:AA,Daily Reflections
ATTACH;FMTTYPE=image/jpeg:https://myrecovery.org/wp-content/uploads/2024/02/AA-Squad-19-Format-Daily-Reflections.jpg
LOCATION:https://zoom.us/j/448997822?pwd=RHpBelFXdXpWMEZUY2VKMXhKMENLdz09
END:VEVENT
BEGIN:VEVENT
DTSTART;TZID=UTC:20291001T210000
DTEND;TZID=UTC:20291001T220000
DTSTAMP:20260421T204359
CREATED:20250611T222659Z
LAST-MODIFIED:20250613T170122Z
UID:10012803-1885582800-1885586400@myrecovery.org
SUMMARY:AA - Squad 19 - Format: Daily Reflections
DESCRIPTION:  \nCLICK HERE to join the meeting!
URL:https://myrecovery.org/event/aa-squad-19-format-daily-reflections/2029-10-01/
CATEGORIES:AA,Daily Reflections
ATTACH;FMTTYPE=image/jpeg:https://myrecovery.org/wp-content/uploads/2024/02/AA-Squad-19-Format-Daily-Reflections.jpg
LOCATION:https://zoom.us/j/448997822?pwd=RHpBelFXdXpWMEZUY2VKMXhKMENLdz09
END:VEVENT
BEGIN:VEVENT
DTSTART;TZID=UTC:20291008T210000
DTEND;TZID=UTC:20291008T220000
DTSTAMP:20260421T204359
CREATED:20250611T222659Z
LAST-MODIFIED:20250613T170122Z
UID:10012804-1886187600-1886191200@myrecovery.org
SUMMARY:AA - Squad 19 - Format: Daily Reflections
DESCRIPTION:  \nCLICK HERE to join the meeting!
URL:https://myrecovery.org/event/aa-squad-19-format-daily-reflections/2029-10-08/
CATEGORIES:AA,Daily Reflections
ATTACH;FMTTYPE=image/jpeg:https://myrecovery.org/wp-content/uploads/2024/02/AA-Squad-19-Format-Daily-Reflections.jpg
LOCATION:https://zoom.us/j/448997822?pwd=RHpBelFXdXpWMEZUY2VKMXhKMENLdz09
END:VEVENT
BEGIN:VEVENT
DTSTART;TZID=UTC:20291015T210000
DTEND;TZID=UTC:20291015T220000
DTSTAMP:20260421T204359
CREATED:20250611T222659Z
LAST-MODIFIED:20250613T170122Z
UID:10012805-1886792400-1886796000@myrecovery.org
SUMMARY:AA - Squad 19 - Format: Daily Reflections
DESCRIPTION:  \nCLICK HERE to join the meeting!
URL:https://myrecovery.org/event/aa-squad-19-format-daily-reflections/2029-10-15/
CATEGORIES:AA,Daily Reflections
ATTACH;FMTTYPE=image/jpeg:https://myrecovery.org/wp-content/uploads/2024/02/AA-Squad-19-Format-Daily-Reflections.jpg
LOCATION:https://zoom.us/j/448997822?pwd=RHpBelFXdXpWMEZUY2VKMXhKMENLdz09
END:VEVENT
BEGIN:VEVENT
DTSTART;TZID=UTC:20291022T210000
DTEND;TZID=UTC:20291022T220000
DTSTAMP:20260421T204359
CREATED:20250611T222659Z
LAST-MODIFIED:20250613T170122Z
UID:10012806-1887397200-1887400800@myrecovery.org
SUMMARY:AA - Squad 19 - Format: Daily Reflections
DESCRIPTION:  \nCLICK HERE to join the meeting!
URL:https://myrecovery.org/event/aa-squad-19-format-daily-reflections/2029-10-22/
CATEGORIES:AA,Daily Reflections
ATTACH;FMTTYPE=image/jpeg:https://myrecovery.org/wp-content/uploads/2024/02/AA-Squad-19-Format-Daily-Reflections.jpg
LOCATION:https://zoom.us/j/448997822?pwd=RHpBelFXdXpWMEZUY2VKMXhKMENLdz09
END:VEVENT
BEGIN:VEVENT
DTSTART;TZID=UTC:20291029T210000
DTEND;TZID=UTC:20291029T220000
DTSTAMP:20260421T204359
CREATED:20250611T222659Z
LAST-MODIFIED:20250613T170122Z
UID:10012807-1888002000-1888005600@myrecovery.org
SUMMARY:AA - Squad 19 - Format: Daily Reflections
DESCRIPTION:  \nCLICK HERE to join the meeting!
URL:https://myrecovery.org/event/aa-squad-19-format-daily-reflections/2029-10-29/
CATEGORIES:AA,Daily Reflections
ATTACH;FMTTYPE=image/jpeg:https://myrecovery.org/wp-content/uploads/2024/02/AA-Squad-19-Format-Daily-Reflections.jpg
LOCATION:https://zoom.us/j/448997822?pwd=RHpBelFXdXpWMEZUY2VKMXhKMENLdz09
END:VEVENT
BEGIN:VEVENT
DTSTART;TZID=UTC:20291105T210000
DTEND;TZID=UTC:20291105T220000
DTSTAMP:20260421T204359
CREATED:20250611T222659Z
LAST-MODIFIED:20250613T170122Z
UID:10012808-1888606800-1888610400@myrecovery.org
SUMMARY:AA - Squad 19 - Format: Daily Reflections
DESCRIPTION:  \nCLICK HERE to join the meeting!
URL:https://myrecovery.org/event/aa-squad-19-format-daily-reflections/2029-11-05/
CATEGORIES:AA,Daily Reflections
ATTACH;FMTTYPE=image/jpeg:https://myrecovery.org/wp-content/uploads/2024/02/AA-Squad-19-Format-Daily-Reflections.jpg
LOCATION:https://zoom.us/j/448997822?pwd=RHpBelFXdXpWMEZUY2VKMXhKMENLdz09
END:VEVENT
BEGIN:VEVENT
DTSTART;TZID=UTC:20291112T210000
DTEND;TZID=UTC:20291112T220000
DTSTAMP:20260421T204359
CREATED:20250611T222659Z
LAST-MODIFIED:20250613T170122Z
UID:10012809-1889211600-1889215200@myrecovery.org
SUMMARY:AA - Squad 19 - Format: Daily Reflections
DESCRIPTION:  \nCLICK HERE to join the meeting!
URL:https://myrecovery.org/event/aa-squad-19-format-daily-reflections/2029-11-12/
CATEGORIES:AA,Daily Reflections
ATTACH;FMTTYPE=image/jpeg:https://myrecovery.org/wp-content/uploads/2024/02/AA-Squad-19-Format-Daily-Reflections.jpg
LOCATION:https://zoom.us/j/448997822?pwd=RHpBelFXdXpWMEZUY2VKMXhKMENLdz09
END:VEVENT
BEGIN:VEVENT
DTSTART;TZID=UTC:20291119T210000
DTEND;TZID=UTC:20291119T220000
DTSTAMP:20260421T204359
CREATED:20250611T222659Z
LAST-MODIFIED:20250613T170122Z
UID:10012810-1889816400-1889820000@myrecovery.org
SUMMARY:AA - Squad 19 - Format: Daily Reflections
DESCRIPTION:  \nCLICK HERE to join the meeting!
URL:https://myrecovery.org/event/aa-squad-19-format-daily-reflections/2029-11-19/
CATEGORIES:AA,Daily Reflections
ATTACH;FMTTYPE=image/jpeg:https://myrecovery.org/wp-content/uploads/2024/02/AA-Squad-19-Format-Daily-Reflections.jpg
LOCATION:https://zoom.us/j/448997822?pwd=RHpBelFXdXpWMEZUY2VKMXhKMENLdz09
END:VEVENT
BEGIN:VEVENT
DTSTART;TZID=UTC:20291126T210000
DTEND;TZID=UTC:20291126T220000
DTSTAMP:20260421T204359
CREATED:20250611T222659Z
LAST-MODIFIED:20250613T170122Z
UID:10012811-1890421200-1890424800@myrecovery.org
SUMMARY:AA - Squad 19 - Format: Daily Reflections
DESCRIPTION:  \nCLICK HERE to join the meeting!
URL:https://myrecovery.org/event/aa-squad-19-format-daily-reflections/2029-11-26/
CATEGORIES:AA,Daily Reflections
ATTACH;FMTTYPE=image/jpeg:https://myrecovery.org/wp-content/uploads/2024/02/AA-Squad-19-Format-Daily-Reflections.jpg
LOCATION:https://zoom.us/j/448997822?pwd=RHpBelFXdXpWMEZUY2VKMXhKMENLdz09
END:VEVENT
BEGIN:VEVENT
DTSTART;TZID=UTC:20291203T210000
DTEND;TZID=UTC:20291203T220000
DTSTAMP:20260421T204359
CREATED:20250611T222659Z
LAST-MODIFIED:20250613T170122Z
UID:10012812-1891026000-1891029600@myrecovery.org
SUMMARY:AA - Squad 19 - Format: Daily Reflections
DESCRIPTION:  \nCLICK HERE to join the meeting!
URL:https://myrecovery.org/event/aa-squad-19-format-daily-reflections/2029-12-03/
CATEGORIES:AA,Daily Reflections
ATTACH;FMTTYPE=image/jpeg:https://myrecovery.org/wp-content/uploads/2024/02/AA-Squad-19-Format-Daily-Reflections.jpg
LOCATION:https://zoom.us/j/448997822?pwd=RHpBelFXdXpWMEZUY2VKMXhKMENLdz09
END:VEVENT
BEGIN:VEVENT
DTSTART;TZID=UTC:20291210T210000
DTEND;TZID=UTC:20291210T220000
DTSTAMP:20260421T204359
CREATED:20250611T222659Z
LAST-MODIFIED:20250613T170122Z
UID:10012813-1891630800-1891634400@myrecovery.org
SUMMARY:AA - Squad 19 - Format: Daily Reflections
DESCRIPTION:  \nCLICK HERE to join the meeting!
URL:https://myrecovery.org/event/aa-squad-19-format-daily-reflections/2029-12-10/
CATEGORIES:AA,Daily Reflections
ATTACH;FMTTYPE=image/jpeg:https://myrecovery.org/wp-content/uploads/2024/02/AA-Squad-19-Format-Daily-Reflections.jpg
LOCATION:https://zoom.us/j/448997822?pwd=RHpBelFXdXpWMEZUY2VKMXhKMENLdz09
END:VEVENT
BEGIN:VEVENT
DTSTART;TZID=UTC:20291217T210000
DTEND;TZID=UTC:20291217T220000
DTSTAMP:20260421T204359
CREATED:20250611T222659Z
LAST-MODIFIED:20250613T170122Z
UID:10012814-1892235600-1892239200@myrecovery.org
SUMMARY:AA - Squad 19 - Format: Daily Reflections
DESCRIPTION:  \nCLICK HERE to join the meeting!
URL:https://myrecovery.org/event/aa-squad-19-format-daily-reflections/2029-12-17/
CATEGORIES:AA,Daily Reflections
ATTACH;FMTTYPE=image/jpeg:https://myrecovery.org/wp-content/uploads/2024/02/AA-Squad-19-Format-Daily-Reflections.jpg
LOCATION:https://zoom.us/j/448997822?pwd=RHpBelFXdXpWMEZUY2VKMXhKMENLdz09
END:VEVENT
BEGIN:VEVENT
DTSTART;TZID=UTC:20291224T210000
DTEND;TZID=UTC:20291224T220000
DTSTAMP:20260421T204359
CREATED:20250611T222659Z
LAST-MODIFIED:20250613T170122Z
UID:10012815-1892840400-1892844000@myrecovery.org
SUMMARY:AA - Squad 19 - Format: Daily Reflections
DESCRIPTION:  \nCLICK HERE to join the meeting!
URL:https://myrecovery.org/event/aa-squad-19-format-daily-reflections/2029-12-24/
CATEGORIES:AA,Daily Reflections
ATTACH;FMTTYPE=image/jpeg:https://myrecovery.org/wp-content/uploads/2024/02/AA-Squad-19-Format-Daily-Reflections.jpg
LOCATION:https://zoom.us/j/448997822?pwd=RHpBelFXdXpWMEZUY2VKMXhKMENLdz09
END:VEVENT
BEGIN:VEVENT
DTSTART;TZID=UTC:20291231T210000
DTEND;TZID=UTC:20291231T220000
DTSTAMP:20260421T204359
CREATED:20250611T222659Z
LAST-MODIFIED:20250613T170122Z
UID:10012816-1893445200-1893448800@myrecovery.org
SUMMARY:AA - Squad 19 - Format: Daily Reflections
DESCRIPTION:  \nCLICK HERE to join the meeting!
URL:https://myrecovery.org/event/aa-squad-19-format-daily-reflections/2029-12-31/
CATEGORIES:AA,Daily Reflections
ATTACH;FMTTYPE=image/jpeg:https://myrecovery.org/wp-content/uploads/2024/02/AA-Squad-19-Format-Daily-Reflections.jpg
LOCATION:https://zoom.us/j/448997822?pwd=RHpBelFXdXpWMEZUY2VKMXhKMENLdz09
END:VEVENT
BEGIN:VEVENT
DTSTART;TZID=UTC:20300107T210000
DTEND;TZID=UTC:20300107T220000
DTSTAMP:20260421T204359
CREATED:20250611T222659Z
LAST-MODIFIED:20250613T170122Z
UID:10012817-1894050000-1894053600@myrecovery.org
SUMMARY:AA - Squad 19 - Format: Daily Reflections
DESCRIPTION:  \nCLICK HERE to join the meeting!
URL:https://myrecovery.org/event/aa-squad-19-format-daily-reflections/2030-01-07/
CATEGORIES:AA,Daily Reflections
ATTACH;FMTTYPE=image/jpeg:https://myrecovery.org/wp-content/uploads/2024/02/AA-Squad-19-Format-Daily-Reflections.jpg
LOCATION:https://zoom.us/j/448997822?pwd=RHpBelFXdXpWMEZUY2VKMXhKMENLdz09
END:VEVENT
BEGIN:VEVENT
DTSTART;TZID=UTC:20300114T210000
DTEND;TZID=UTC:20300114T220000
DTSTAMP:20260421T204359
CREATED:20250611T222659Z
LAST-MODIFIED:20250613T170122Z
UID:10012818-1894654800-1894658400@myrecovery.org
SUMMARY:AA - Squad 19 - Format: Daily Reflections
DESCRIPTION:  \nCLICK HERE to join the meeting!
URL:https://myrecovery.org/event/aa-squad-19-format-daily-reflections/2030-01-14/
CATEGORIES:AA,Daily Reflections
ATTACH;FMTTYPE=image/jpeg:https://myrecovery.org/wp-content/uploads/2024/02/AA-Squad-19-Format-Daily-Reflections.jpg
LOCATION:https://zoom.us/j/448997822?pwd=RHpBelFXdXpWMEZUY2VKMXhKMENLdz09
END:VEVENT
BEGIN:VEVENT
DTSTART;TZID=UTC:20300121T210000
DTEND;TZID=UTC:20300121T220000
DTSTAMP:20260421T204359
CREATED:20250611T222659Z
LAST-MODIFIED:20250613T170122Z
UID:10012819-1895259600-1895263200@myrecovery.org
SUMMARY:AA - Squad 19 - Format: Daily Reflections
DESCRIPTION:  \nCLICK HERE to join the meeting!
URL:https://myrecovery.org/event/aa-squad-19-format-daily-reflections/2030-01-21/
CATEGORIES:AA,Daily Reflections
ATTACH;FMTTYPE=image/jpeg:https://myrecovery.org/wp-content/uploads/2024/02/AA-Squad-19-Format-Daily-Reflections.jpg
LOCATION:https://zoom.us/j/448997822?pwd=RHpBelFXdXpWMEZUY2VKMXhKMENLdz09
END:VEVENT
BEGIN:VEVENT
DTSTART;TZID=UTC:20300128T210000
DTEND;TZID=UTC:20300128T220000
DTSTAMP:20260421T204359
CREATED:20250611T222659Z
LAST-MODIFIED:20250613T170122Z
UID:10012820-1895864400-1895868000@myrecovery.org
SUMMARY:AA - Squad 19 - Format: Daily Reflections
DESCRIPTION:  \nCLICK HERE to join the meeting!
URL:https://myrecovery.org/event/aa-squad-19-format-daily-reflections/2030-01-28/
CATEGORIES:AA,Daily Reflections
ATTACH;FMTTYPE=image/jpeg:https://myrecovery.org/wp-content/uploads/2024/02/AA-Squad-19-Format-Daily-Reflections.jpg
LOCATION:https://zoom.us/j/448997822?pwd=RHpBelFXdXpWMEZUY2VKMXhKMENLdz09
END:VEVENT
END:VCALENDAR