BEGIN:VCALENDAR
VERSION:2.0
PRODID:-//My Recovery - ECPv6.15.17//NONSGML v1.0//EN
CALSCALE:GREGORIAN
METHOD:PUBLISH
X-WR-CALNAME:My Recovery
X-ORIGINAL-URL:https://myrecovery.org
X-WR-CALDESC:Events for My Recovery
REFRESH-INTERVAL;VALUE=DURATION:PT1H
X-Robots-Tag:noindex
X-PUBLISHED-TTL:PT1H
BEGIN:VTIMEZONE
TZID:UTC
BEGIN:STANDARD
TZOFFSETFROM:+0000
TZOFFSETTO:+0000
TZNAME:UTC
DTSTART:20280101T000000
END:STANDARD
END:VTIMEZONE
BEGIN:VEVENT
DTSTART;TZID=UTC:20290122T210000
DTEND;TZID=UTC:20290122T220000
DTSTAMP:20260421T171912
CREATED:20250611T222659Z
LAST-MODIFIED:20250613T170122Z
UID:10012767-1863810000-1863813600@myrecovery.org
SUMMARY:AA - Squad 19 - Format: Daily Reflections
DESCRIPTION:  \nCLICK HERE to join the meeting!
URL:https://myrecovery.org/event/aa-squad-19-format-daily-reflections/2029-01-22/
CATEGORIES:AA,Daily Reflections
ATTACH;FMTTYPE=image/jpeg:https://myrecovery.org/wp-content/uploads/2024/02/AA-Squad-19-Format-Daily-Reflections.jpg
LOCATION:https://zoom.us/j/448997822?pwd=RHpBelFXdXpWMEZUY2VKMXhKMENLdz09
END:VEVENT
BEGIN:VEVENT
DTSTART;TZID=UTC:20290129T210000
DTEND;TZID=UTC:20290129T220000
DTSTAMP:20260421T171912
CREATED:20250611T222659Z
LAST-MODIFIED:20250613T170122Z
UID:10012768-1864414800-1864418400@myrecovery.org
SUMMARY:AA - Squad 19 - Format: Daily Reflections
DESCRIPTION:  \nCLICK HERE to join the meeting!
URL:https://myrecovery.org/event/aa-squad-19-format-daily-reflections/2029-01-29/
CATEGORIES:AA,Daily Reflections
ATTACH;FMTTYPE=image/jpeg:https://myrecovery.org/wp-content/uploads/2024/02/AA-Squad-19-Format-Daily-Reflections.jpg
LOCATION:https://zoom.us/j/448997822?pwd=RHpBelFXdXpWMEZUY2VKMXhKMENLdz09
END:VEVENT
BEGIN:VEVENT
DTSTART;TZID=UTC:20290205T210000
DTEND;TZID=UTC:20290205T220000
DTSTAMP:20260421T171912
CREATED:20250611T222659Z
LAST-MODIFIED:20250613T170122Z
UID:10012769-1865019600-1865023200@myrecovery.org
SUMMARY:AA - Squad 19 - Format: Daily Reflections
DESCRIPTION:  \nCLICK HERE to join the meeting!
URL:https://myrecovery.org/event/aa-squad-19-format-daily-reflections/2029-02-05/
CATEGORIES:AA,Daily Reflections
ATTACH;FMTTYPE=image/jpeg:https://myrecovery.org/wp-content/uploads/2024/02/AA-Squad-19-Format-Daily-Reflections.jpg
LOCATION:https://zoom.us/j/448997822?pwd=RHpBelFXdXpWMEZUY2VKMXhKMENLdz09
END:VEVENT
BEGIN:VEVENT
DTSTART;TZID=UTC:20290212T210000
DTEND;TZID=UTC:20290212T220000
DTSTAMP:20260421T171912
CREATED:20250611T222659Z
LAST-MODIFIED:20250613T170122Z
UID:10012770-1865624400-1865628000@myrecovery.org
SUMMARY:AA - Squad 19 - Format: Daily Reflections
DESCRIPTION:  \nCLICK HERE to join the meeting!
URL:https://myrecovery.org/event/aa-squad-19-format-daily-reflections/2029-02-12/
CATEGORIES:AA,Daily Reflections
ATTACH;FMTTYPE=image/jpeg:https://myrecovery.org/wp-content/uploads/2024/02/AA-Squad-19-Format-Daily-Reflections.jpg
LOCATION:https://zoom.us/j/448997822?pwd=RHpBelFXdXpWMEZUY2VKMXhKMENLdz09
END:VEVENT
BEGIN:VEVENT
DTSTART;TZID=UTC:20290219T210000
DTEND;TZID=UTC:20290219T220000
DTSTAMP:20260421T171912
CREATED:20250611T222659Z
LAST-MODIFIED:20250613T170122Z
UID:10012771-1866229200-1866232800@myrecovery.org
SUMMARY:AA - Squad 19 - Format: Daily Reflections
DESCRIPTION:  \nCLICK HERE to join the meeting!
URL:https://myrecovery.org/event/aa-squad-19-format-daily-reflections/2029-02-19/
CATEGORIES:AA,Daily Reflections
ATTACH;FMTTYPE=image/jpeg:https://myrecovery.org/wp-content/uploads/2024/02/AA-Squad-19-Format-Daily-Reflections.jpg
LOCATION:https://zoom.us/j/448997822?pwd=RHpBelFXdXpWMEZUY2VKMXhKMENLdz09
END:VEVENT
BEGIN:VEVENT
DTSTART;TZID=UTC:20290226T210000
DTEND;TZID=UTC:20290226T220000
DTSTAMP:20260421T171912
CREATED:20250611T222659Z
LAST-MODIFIED:20250613T170122Z
UID:10012772-1866834000-1866837600@myrecovery.org
SUMMARY:AA - Squad 19 - Format: Daily Reflections
DESCRIPTION:  \nCLICK HERE to join the meeting!
URL:https://myrecovery.org/event/aa-squad-19-format-daily-reflections/2029-02-26/
CATEGORIES:AA,Daily Reflections
ATTACH;FMTTYPE=image/jpeg:https://myrecovery.org/wp-content/uploads/2024/02/AA-Squad-19-Format-Daily-Reflections.jpg
LOCATION:https://zoom.us/j/448997822?pwd=RHpBelFXdXpWMEZUY2VKMXhKMENLdz09
END:VEVENT
BEGIN:VEVENT
DTSTART;TZID=UTC:20290305T210000
DTEND;TZID=UTC:20290305T220000
DTSTAMP:20260421T171912
CREATED:20250611T222659Z
LAST-MODIFIED:20250613T170122Z
UID:10012773-1867438800-1867442400@myrecovery.org
SUMMARY:AA - Squad 19 - Format: Daily Reflections
DESCRIPTION:  \nCLICK HERE to join the meeting!
URL:https://myrecovery.org/event/aa-squad-19-format-daily-reflections/2029-03-05/
CATEGORIES:AA,Daily Reflections
ATTACH;FMTTYPE=image/jpeg:https://myrecovery.org/wp-content/uploads/2024/02/AA-Squad-19-Format-Daily-Reflections.jpg
LOCATION:https://zoom.us/j/448997822?pwd=RHpBelFXdXpWMEZUY2VKMXhKMENLdz09
END:VEVENT
BEGIN:VEVENT
DTSTART;TZID=UTC:20290312T210000
DTEND;TZID=UTC:20290312T220000
DTSTAMP:20260421T171912
CREATED:20250611T222659Z
LAST-MODIFIED:20250613T170122Z
UID:10012774-1868043600-1868047200@myrecovery.org
SUMMARY:AA - Squad 19 - Format: Daily Reflections
DESCRIPTION:  \nCLICK HERE to join the meeting!
URL:https://myrecovery.org/event/aa-squad-19-format-daily-reflections/2029-03-12/
CATEGORIES:AA,Daily Reflections
ATTACH;FMTTYPE=image/jpeg:https://myrecovery.org/wp-content/uploads/2024/02/AA-Squad-19-Format-Daily-Reflections.jpg
LOCATION:https://zoom.us/j/448997822?pwd=RHpBelFXdXpWMEZUY2VKMXhKMENLdz09
END:VEVENT
BEGIN:VEVENT
DTSTART;TZID=UTC:20290319T210000
DTEND;TZID=UTC:20290319T220000
DTSTAMP:20260421T171912
CREATED:20250611T222659Z
LAST-MODIFIED:20250613T170122Z
UID:10012775-1868648400-1868652000@myrecovery.org
SUMMARY:AA - Squad 19 - Format: Daily Reflections
DESCRIPTION:  \nCLICK HERE to join the meeting!
URL:https://myrecovery.org/event/aa-squad-19-format-daily-reflections/2029-03-19/
CATEGORIES:AA,Daily Reflections
ATTACH;FMTTYPE=image/jpeg:https://myrecovery.org/wp-content/uploads/2024/02/AA-Squad-19-Format-Daily-Reflections.jpg
LOCATION:https://zoom.us/j/448997822?pwd=RHpBelFXdXpWMEZUY2VKMXhKMENLdz09
END:VEVENT
BEGIN:VEVENT
DTSTART;TZID=UTC:20290326T210000
DTEND;TZID=UTC:20290326T220000
DTSTAMP:20260421T171912
CREATED:20250611T222659Z
LAST-MODIFIED:20250613T170122Z
UID:10012776-1869253200-1869256800@myrecovery.org
SUMMARY:AA - Squad 19 - Format: Daily Reflections
DESCRIPTION:  \nCLICK HERE to join the meeting!
URL:https://myrecovery.org/event/aa-squad-19-format-daily-reflections/2029-03-26/
CATEGORIES:AA,Daily Reflections
ATTACH;FMTTYPE=image/jpeg:https://myrecovery.org/wp-content/uploads/2024/02/AA-Squad-19-Format-Daily-Reflections.jpg
LOCATION:https://zoom.us/j/448997822?pwd=RHpBelFXdXpWMEZUY2VKMXhKMENLdz09
END:VEVENT
BEGIN:VEVENT
DTSTART;TZID=UTC:20290402T210000
DTEND;TZID=UTC:20290402T220000
DTSTAMP:20260421T171912
CREATED:20250611T222659Z
LAST-MODIFIED:20250613T170122Z
UID:10012777-1869858000-1869861600@myrecovery.org
SUMMARY:AA - Squad 19 - Format: Daily Reflections
DESCRIPTION:  \nCLICK HERE to join the meeting!
URL:https://myrecovery.org/event/aa-squad-19-format-daily-reflections/2029-04-02/
CATEGORIES:AA,Daily Reflections
ATTACH;FMTTYPE=image/jpeg:https://myrecovery.org/wp-content/uploads/2024/02/AA-Squad-19-Format-Daily-Reflections.jpg
LOCATION:https://zoom.us/j/448997822?pwd=RHpBelFXdXpWMEZUY2VKMXhKMENLdz09
END:VEVENT
BEGIN:VEVENT
DTSTART;TZID=UTC:20290409T210000
DTEND;TZID=UTC:20290409T220000
DTSTAMP:20260421T171912
CREATED:20250611T222659Z
LAST-MODIFIED:20250613T170122Z
UID:10012778-1870462800-1870466400@myrecovery.org
SUMMARY:AA - Squad 19 - Format: Daily Reflections
DESCRIPTION:  \nCLICK HERE to join the meeting!
URL:https://myrecovery.org/event/aa-squad-19-format-daily-reflections/2029-04-09/
CATEGORIES:AA,Daily Reflections
ATTACH;FMTTYPE=image/jpeg:https://myrecovery.org/wp-content/uploads/2024/02/AA-Squad-19-Format-Daily-Reflections.jpg
LOCATION:https://zoom.us/j/448997822?pwd=RHpBelFXdXpWMEZUY2VKMXhKMENLdz09
END:VEVENT
BEGIN:VEVENT
DTSTART;TZID=UTC:20290416T210000
DTEND;TZID=UTC:20290416T220000
DTSTAMP:20260421T171912
CREATED:20250611T222659Z
LAST-MODIFIED:20250613T170122Z
UID:10012779-1871067600-1871071200@myrecovery.org
SUMMARY:AA - Squad 19 - Format: Daily Reflections
DESCRIPTION:  \nCLICK HERE to join the meeting!
URL:https://myrecovery.org/event/aa-squad-19-format-daily-reflections/2029-04-16/
CATEGORIES:AA,Daily Reflections
ATTACH;FMTTYPE=image/jpeg:https://myrecovery.org/wp-content/uploads/2024/02/AA-Squad-19-Format-Daily-Reflections.jpg
LOCATION:https://zoom.us/j/448997822?pwd=RHpBelFXdXpWMEZUY2VKMXhKMENLdz09
END:VEVENT
BEGIN:VEVENT
DTSTART;TZID=UTC:20290423T210000
DTEND;TZID=UTC:20290423T220000
DTSTAMP:20260421T171912
CREATED:20250611T222659Z
LAST-MODIFIED:20250613T170122Z
UID:10012780-1871672400-1871676000@myrecovery.org
SUMMARY:AA - Squad 19 - Format: Daily Reflections
DESCRIPTION:  \nCLICK HERE to join the meeting!
URL:https://myrecovery.org/event/aa-squad-19-format-daily-reflections/2029-04-23/
CATEGORIES:AA,Daily Reflections
ATTACH;FMTTYPE=image/jpeg:https://myrecovery.org/wp-content/uploads/2024/02/AA-Squad-19-Format-Daily-Reflections.jpg
LOCATION:https://zoom.us/j/448997822?pwd=RHpBelFXdXpWMEZUY2VKMXhKMENLdz09
END:VEVENT
BEGIN:VEVENT
DTSTART;TZID=UTC:20290430T210000
DTEND;TZID=UTC:20290430T220000
DTSTAMP:20260421T171912
CREATED:20250611T222659Z
LAST-MODIFIED:20250613T170122Z
UID:10012781-1872277200-1872280800@myrecovery.org
SUMMARY:AA - Squad 19 - Format: Daily Reflections
DESCRIPTION:  \nCLICK HERE to join the meeting!
URL:https://myrecovery.org/event/aa-squad-19-format-daily-reflections/2029-04-30/
CATEGORIES:AA,Daily Reflections
ATTACH;FMTTYPE=image/jpeg:https://myrecovery.org/wp-content/uploads/2024/02/AA-Squad-19-Format-Daily-Reflections.jpg
LOCATION:https://zoom.us/j/448997822?pwd=RHpBelFXdXpWMEZUY2VKMXhKMENLdz09
END:VEVENT
BEGIN:VEVENT
DTSTART;TZID=UTC:20290507T210000
DTEND;TZID=UTC:20290507T220000
DTSTAMP:20260421T171912
CREATED:20250611T222659Z
LAST-MODIFIED:20250613T170122Z
UID:10012782-1872882000-1872885600@myrecovery.org
SUMMARY:AA - Squad 19 - Format: Daily Reflections
DESCRIPTION:  \nCLICK HERE to join the meeting!
URL:https://myrecovery.org/event/aa-squad-19-format-daily-reflections/2029-05-07/
CATEGORIES:AA,Daily Reflections
ATTACH;FMTTYPE=image/jpeg:https://myrecovery.org/wp-content/uploads/2024/02/AA-Squad-19-Format-Daily-Reflections.jpg
LOCATION:https://zoom.us/j/448997822?pwd=RHpBelFXdXpWMEZUY2VKMXhKMENLdz09
END:VEVENT
BEGIN:VEVENT
DTSTART;TZID=UTC:20290514T210000
DTEND;TZID=UTC:20290514T220000
DTSTAMP:20260421T171912
CREATED:20250611T222659Z
LAST-MODIFIED:20250613T170122Z
UID:10012783-1873486800-1873490400@myrecovery.org
SUMMARY:AA - Squad 19 - Format: Daily Reflections
DESCRIPTION:  \nCLICK HERE to join the meeting!
URL:https://myrecovery.org/event/aa-squad-19-format-daily-reflections/2029-05-14/
CATEGORIES:AA,Daily Reflections
ATTACH;FMTTYPE=image/jpeg:https://myrecovery.org/wp-content/uploads/2024/02/AA-Squad-19-Format-Daily-Reflections.jpg
LOCATION:https://zoom.us/j/448997822?pwd=RHpBelFXdXpWMEZUY2VKMXhKMENLdz09
END:VEVENT
BEGIN:VEVENT
DTSTART;TZID=UTC:20290521T210000
DTEND;TZID=UTC:20290521T220000
DTSTAMP:20260421T171912
CREATED:20250611T222659Z
LAST-MODIFIED:20250613T170122Z
UID:10012784-1874091600-1874095200@myrecovery.org
SUMMARY:AA - Squad 19 - Format: Daily Reflections
DESCRIPTION:  \nCLICK HERE to join the meeting!
URL:https://myrecovery.org/event/aa-squad-19-format-daily-reflections/2029-05-21/
CATEGORIES:AA,Daily Reflections
ATTACH;FMTTYPE=image/jpeg:https://myrecovery.org/wp-content/uploads/2024/02/AA-Squad-19-Format-Daily-Reflections.jpg
LOCATION:https://zoom.us/j/448997822?pwd=RHpBelFXdXpWMEZUY2VKMXhKMENLdz09
END:VEVENT
BEGIN:VEVENT
DTSTART;TZID=UTC:20290528T210000
DTEND;TZID=UTC:20290528T220000
DTSTAMP:20260421T171912
CREATED:20250611T222659Z
LAST-MODIFIED:20250613T170122Z
UID:10012785-1874696400-1874700000@myrecovery.org
SUMMARY:AA - Squad 19 - Format: Daily Reflections
DESCRIPTION:  \nCLICK HERE to join the meeting!
URL:https://myrecovery.org/event/aa-squad-19-format-daily-reflections/2029-05-28/
CATEGORIES:AA,Daily Reflections
ATTACH;FMTTYPE=image/jpeg:https://myrecovery.org/wp-content/uploads/2024/02/AA-Squad-19-Format-Daily-Reflections.jpg
LOCATION:https://zoom.us/j/448997822?pwd=RHpBelFXdXpWMEZUY2VKMXhKMENLdz09
END:VEVENT
BEGIN:VEVENT
DTSTART;TZID=UTC:20290604T210000
DTEND;TZID=UTC:20290604T220000
DTSTAMP:20260421T171912
CREATED:20250611T222659Z
LAST-MODIFIED:20250613T170122Z
UID:10012786-1875301200-1875304800@myrecovery.org
SUMMARY:AA - Squad 19 - Format: Daily Reflections
DESCRIPTION:  \nCLICK HERE to join the meeting!
URL:https://myrecovery.org/event/aa-squad-19-format-daily-reflections/2029-06-04/
CATEGORIES:AA,Daily Reflections
ATTACH;FMTTYPE=image/jpeg:https://myrecovery.org/wp-content/uploads/2024/02/AA-Squad-19-Format-Daily-Reflections.jpg
LOCATION:https://zoom.us/j/448997822?pwd=RHpBelFXdXpWMEZUY2VKMXhKMENLdz09
END:VEVENT
BEGIN:VEVENT
DTSTART;TZID=UTC:20290611T210000
DTEND;TZID=UTC:20290611T220000
DTSTAMP:20260421T171912
CREATED:20250611T222659Z
LAST-MODIFIED:20250613T170122Z
UID:10012787-1875906000-1875909600@myrecovery.org
SUMMARY:AA - Squad 19 - Format: Daily Reflections
DESCRIPTION:  \nCLICK HERE to join the meeting!
URL:https://myrecovery.org/event/aa-squad-19-format-daily-reflections/2029-06-11/
CATEGORIES:AA,Daily Reflections
ATTACH;FMTTYPE=image/jpeg:https://myrecovery.org/wp-content/uploads/2024/02/AA-Squad-19-Format-Daily-Reflections.jpg
LOCATION:https://zoom.us/j/448997822?pwd=RHpBelFXdXpWMEZUY2VKMXhKMENLdz09
END:VEVENT
BEGIN:VEVENT
DTSTART;TZID=UTC:20290618T210000
DTEND;TZID=UTC:20290618T220000
DTSTAMP:20260421T171912
CREATED:20250611T222659Z
LAST-MODIFIED:20250613T170122Z
UID:10012788-1876510800-1876514400@myrecovery.org
SUMMARY:AA - Squad 19 - Format: Daily Reflections
DESCRIPTION:  \nCLICK HERE to join the meeting!
URL:https://myrecovery.org/event/aa-squad-19-format-daily-reflections/2029-06-18/
CATEGORIES:AA,Daily Reflections
ATTACH;FMTTYPE=image/jpeg:https://myrecovery.org/wp-content/uploads/2024/02/AA-Squad-19-Format-Daily-Reflections.jpg
LOCATION:https://zoom.us/j/448997822?pwd=RHpBelFXdXpWMEZUY2VKMXhKMENLdz09
END:VEVENT
BEGIN:VEVENT
DTSTART;TZID=UTC:20290625T210000
DTEND;TZID=UTC:20290625T220000
DTSTAMP:20260421T171912
CREATED:20250611T222659Z
LAST-MODIFIED:20250613T170122Z
UID:10012789-1877115600-1877119200@myrecovery.org
SUMMARY:AA - Squad 19 - Format: Daily Reflections
DESCRIPTION:  \nCLICK HERE to join the meeting!
URL:https://myrecovery.org/event/aa-squad-19-format-daily-reflections/2029-06-25/
CATEGORIES:AA,Daily Reflections
ATTACH;FMTTYPE=image/jpeg:https://myrecovery.org/wp-content/uploads/2024/02/AA-Squad-19-Format-Daily-Reflections.jpg
LOCATION:https://zoom.us/j/448997822?pwd=RHpBelFXdXpWMEZUY2VKMXhKMENLdz09
END:VEVENT
BEGIN:VEVENT
DTSTART;TZID=UTC:20290702T210000
DTEND;TZID=UTC:20290702T220000
DTSTAMP:20260421T171913
CREATED:20250611T222659Z
LAST-MODIFIED:20250613T170122Z
UID:10012790-1877720400-1877724000@myrecovery.org
SUMMARY:AA - Squad 19 - Format: Daily Reflections
DESCRIPTION:  \nCLICK HERE to join the meeting!
URL:https://myrecovery.org/event/aa-squad-19-format-daily-reflections/2029-07-02/
CATEGORIES:AA,Daily Reflections
ATTACH;FMTTYPE=image/jpeg:https://myrecovery.org/wp-content/uploads/2024/02/AA-Squad-19-Format-Daily-Reflections.jpg
LOCATION:https://zoom.us/j/448997822?pwd=RHpBelFXdXpWMEZUY2VKMXhKMENLdz09
END:VEVENT
BEGIN:VEVENT
DTSTART;TZID=UTC:20290709T210000
DTEND;TZID=UTC:20290709T220000
DTSTAMP:20260421T171913
CREATED:20250611T222659Z
LAST-MODIFIED:20250613T170122Z
UID:10012791-1878325200-1878328800@myrecovery.org
SUMMARY:AA - Squad 19 - Format: Daily Reflections
DESCRIPTION:  \nCLICK HERE to join the meeting!
URL:https://myrecovery.org/event/aa-squad-19-format-daily-reflections/2029-07-09/
CATEGORIES:AA,Daily Reflections
ATTACH;FMTTYPE=image/jpeg:https://myrecovery.org/wp-content/uploads/2024/02/AA-Squad-19-Format-Daily-Reflections.jpg
LOCATION:https://zoom.us/j/448997822?pwd=RHpBelFXdXpWMEZUY2VKMXhKMENLdz09
END:VEVENT
BEGIN:VEVENT
DTSTART;TZID=UTC:20290716T210000
DTEND;TZID=UTC:20290716T220000
DTSTAMP:20260421T171913
CREATED:20250611T222659Z
LAST-MODIFIED:20250613T170122Z
UID:10012792-1878930000-1878933600@myrecovery.org
SUMMARY:AA - Squad 19 - Format: Daily Reflections
DESCRIPTION:  \nCLICK HERE to join the meeting!
URL:https://myrecovery.org/event/aa-squad-19-format-daily-reflections/2029-07-16/
CATEGORIES:AA,Daily Reflections
ATTACH;FMTTYPE=image/jpeg:https://myrecovery.org/wp-content/uploads/2024/02/AA-Squad-19-Format-Daily-Reflections.jpg
LOCATION:https://zoom.us/j/448997822?pwd=RHpBelFXdXpWMEZUY2VKMXhKMENLdz09
END:VEVENT
BEGIN:VEVENT
DTSTART;TZID=UTC:20290723T210000
DTEND;TZID=UTC:20290723T220000
DTSTAMP:20260421T171913
CREATED:20250611T222659Z
LAST-MODIFIED:20250613T170122Z
UID:10012793-1879534800-1879538400@myrecovery.org
SUMMARY:AA - Squad 19 - Format: Daily Reflections
DESCRIPTION:  \nCLICK HERE to join the meeting!
URL:https://myrecovery.org/event/aa-squad-19-format-daily-reflections/2029-07-23/
CATEGORIES:AA,Daily Reflections
ATTACH;FMTTYPE=image/jpeg:https://myrecovery.org/wp-content/uploads/2024/02/AA-Squad-19-Format-Daily-Reflections.jpg
LOCATION:https://zoom.us/j/448997822?pwd=RHpBelFXdXpWMEZUY2VKMXhKMENLdz09
END:VEVENT
BEGIN:VEVENT
DTSTART;TZID=UTC:20290730T210000
DTEND;TZID=UTC:20290730T220000
DTSTAMP:20260421T171913
CREATED:20250611T222659Z
LAST-MODIFIED:20250613T170122Z
UID:10012794-1880139600-1880143200@myrecovery.org
SUMMARY:AA - Squad 19 - Format: Daily Reflections
DESCRIPTION:  \nCLICK HERE to join the meeting!
URL:https://myrecovery.org/event/aa-squad-19-format-daily-reflections/2029-07-30/
CATEGORIES:AA,Daily Reflections
ATTACH;FMTTYPE=image/jpeg:https://myrecovery.org/wp-content/uploads/2024/02/AA-Squad-19-Format-Daily-Reflections.jpg
LOCATION:https://zoom.us/j/448997822?pwd=RHpBelFXdXpWMEZUY2VKMXhKMENLdz09
END:VEVENT
BEGIN:VEVENT
DTSTART;TZID=UTC:20290806T210000
DTEND;TZID=UTC:20290806T220000
DTSTAMP:20260421T171913
CREATED:20250611T222659Z
LAST-MODIFIED:20250613T170122Z
UID:10012795-1880744400-1880748000@myrecovery.org
SUMMARY:AA - Squad 19 - Format: Daily Reflections
DESCRIPTION:  \nCLICK HERE to join the meeting!
URL:https://myrecovery.org/event/aa-squad-19-format-daily-reflections/2029-08-06/
CATEGORIES:AA,Daily Reflections
ATTACH;FMTTYPE=image/jpeg:https://myrecovery.org/wp-content/uploads/2024/02/AA-Squad-19-Format-Daily-Reflections.jpg
LOCATION:https://zoom.us/j/448997822?pwd=RHpBelFXdXpWMEZUY2VKMXhKMENLdz09
END:VEVENT
BEGIN:VEVENT
DTSTART;TZID=UTC:20290813T210000
DTEND;TZID=UTC:20290813T220000
DTSTAMP:20260421T171913
CREATED:20250611T222659Z
LAST-MODIFIED:20250613T170122Z
UID:10012796-1881349200-1881352800@myrecovery.org
SUMMARY:AA - Squad 19 - Format: Daily Reflections
DESCRIPTION:  \nCLICK HERE to join the meeting!
URL:https://myrecovery.org/event/aa-squad-19-format-daily-reflections/2029-08-13/
CATEGORIES:AA,Daily Reflections
ATTACH;FMTTYPE=image/jpeg:https://myrecovery.org/wp-content/uploads/2024/02/AA-Squad-19-Format-Daily-Reflections.jpg
LOCATION:https://zoom.us/j/448997822?pwd=RHpBelFXdXpWMEZUY2VKMXhKMENLdz09
END:VEVENT
END:VCALENDAR