BEGIN:VCALENDAR
VERSION:2.0
PRODID:-//My Recovery - ECPv6.15.17//NONSGML v1.0//EN
CALSCALE:GREGORIAN
METHOD:PUBLISH
X-WR-CALNAME:My Recovery
X-ORIGINAL-URL:https://myrecovery.org
X-WR-CALDESC:Events for My Recovery
REFRESH-INTERVAL;VALUE=DURATION:PT1H
X-Robots-Tag:noindex
X-PUBLISHED-TTL:PT1H
BEGIN:VTIMEZONE
TZID:UTC
BEGIN:STANDARD
TZOFFSETFROM:+0000
TZOFFSETTO:+0000
TZNAME:UTC
DTSTART:20270101T000000
END:STANDARD
END:VTIMEZONE
BEGIN:VEVENT
DTSTART;TZID=UTC:20280807T210000
DTEND;TZID=UTC:20280807T220000
DTSTAMP:20260421T134452
CREATED:20250611T222659Z
LAST-MODIFIED:20250613T170122Z
UID:10012743-1849294800-1849298400@myrecovery.org
SUMMARY:AA - Squad 19 - Format: Daily Reflections
DESCRIPTION:  \nCLICK HERE to join the meeting!
URL:https://myrecovery.org/event/aa-squad-19-format-daily-reflections/2028-08-07/
CATEGORIES:AA,Daily Reflections
ATTACH;FMTTYPE=image/jpeg:https://myrecovery.org/wp-content/uploads/2024/02/AA-Squad-19-Format-Daily-Reflections.jpg
LOCATION:https://zoom.us/j/448997822?pwd=RHpBelFXdXpWMEZUY2VKMXhKMENLdz09
END:VEVENT
BEGIN:VEVENT
DTSTART;TZID=UTC:20280814T210000
DTEND;TZID=UTC:20280814T220000
DTSTAMP:20260421T134452
CREATED:20250611T222659Z
LAST-MODIFIED:20250613T170122Z
UID:10012744-1849899600-1849903200@myrecovery.org
SUMMARY:AA - Squad 19 - Format: Daily Reflections
DESCRIPTION:  \nCLICK HERE to join the meeting!
URL:https://myrecovery.org/event/aa-squad-19-format-daily-reflections/2028-08-14/
CATEGORIES:AA,Daily Reflections
ATTACH;FMTTYPE=image/jpeg:https://myrecovery.org/wp-content/uploads/2024/02/AA-Squad-19-Format-Daily-Reflections.jpg
LOCATION:https://zoom.us/j/448997822?pwd=RHpBelFXdXpWMEZUY2VKMXhKMENLdz09
END:VEVENT
BEGIN:VEVENT
DTSTART;TZID=UTC:20280821T210000
DTEND;TZID=UTC:20280821T220000
DTSTAMP:20260421T134452
CREATED:20250611T222659Z
LAST-MODIFIED:20250613T170122Z
UID:10012745-1850504400-1850508000@myrecovery.org
SUMMARY:AA - Squad 19 - Format: Daily Reflections
DESCRIPTION:  \nCLICK HERE to join the meeting!
URL:https://myrecovery.org/event/aa-squad-19-format-daily-reflections/2028-08-21/
CATEGORIES:AA,Daily Reflections
ATTACH;FMTTYPE=image/jpeg:https://myrecovery.org/wp-content/uploads/2024/02/AA-Squad-19-Format-Daily-Reflections.jpg
LOCATION:https://zoom.us/j/448997822?pwd=RHpBelFXdXpWMEZUY2VKMXhKMENLdz09
END:VEVENT
BEGIN:VEVENT
DTSTART;TZID=UTC:20280828T210000
DTEND;TZID=UTC:20280828T220000
DTSTAMP:20260421T134452
CREATED:20250611T222659Z
LAST-MODIFIED:20250613T170122Z
UID:10012746-1851109200-1851112800@myrecovery.org
SUMMARY:AA - Squad 19 - Format: Daily Reflections
DESCRIPTION:  \nCLICK HERE to join the meeting!
URL:https://myrecovery.org/event/aa-squad-19-format-daily-reflections/2028-08-28/
CATEGORIES:AA,Daily Reflections
ATTACH;FMTTYPE=image/jpeg:https://myrecovery.org/wp-content/uploads/2024/02/AA-Squad-19-Format-Daily-Reflections.jpg
LOCATION:https://zoom.us/j/448997822?pwd=RHpBelFXdXpWMEZUY2VKMXhKMENLdz09
END:VEVENT
BEGIN:VEVENT
DTSTART;TZID=UTC:20280904T210000
DTEND;TZID=UTC:20280904T220000
DTSTAMP:20260421T134452
CREATED:20250611T222659Z
LAST-MODIFIED:20250613T170122Z
UID:10012747-1851714000-1851717600@myrecovery.org
SUMMARY:AA - Squad 19 - Format: Daily Reflections
DESCRIPTION:  \nCLICK HERE to join the meeting!
URL:https://myrecovery.org/event/aa-squad-19-format-daily-reflections/2028-09-04/
CATEGORIES:AA,Daily Reflections
ATTACH;FMTTYPE=image/jpeg:https://myrecovery.org/wp-content/uploads/2024/02/AA-Squad-19-Format-Daily-Reflections.jpg
LOCATION:https://zoom.us/j/448997822?pwd=RHpBelFXdXpWMEZUY2VKMXhKMENLdz09
END:VEVENT
BEGIN:VEVENT
DTSTART;TZID=UTC:20280911T210000
DTEND;TZID=UTC:20280911T220000
DTSTAMP:20260421T134452
CREATED:20250611T222659Z
LAST-MODIFIED:20250613T170122Z
UID:10012748-1852318800-1852322400@myrecovery.org
SUMMARY:AA - Squad 19 - Format: Daily Reflections
DESCRIPTION:  \nCLICK HERE to join the meeting!
URL:https://myrecovery.org/event/aa-squad-19-format-daily-reflections/2028-09-11/
CATEGORIES:AA,Daily Reflections
ATTACH;FMTTYPE=image/jpeg:https://myrecovery.org/wp-content/uploads/2024/02/AA-Squad-19-Format-Daily-Reflections.jpg
LOCATION:https://zoom.us/j/448997822?pwd=RHpBelFXdXpWMEZUY2VKMXhKMENLdz09
END:VEVENT
BEGIN:VEVENT
DTSTART;TZID=UTC:20280918T210000
DTEND;TZID=UTC:20280918T220000
DTSTAMP:20260421T134452
CREATED:20250611T222659Z
LAST-MODIFIED:20250613T170122Z
UID:10012749-1852923600-1852927200@myrecovery.org
SUMMARY:AA - Squad 19 - Format: Daily Reflections
DESCRIPTION:  \nCLICK HERE to join the meeting!
URL:https://myrecovery.org/event/aa-squad-19-format-daily-reflections/2028-09-18/
CATEGORIES:AA,Daily Reflections
ATTACH;FMTTYPE=image/jpeg:https://myrecovery.org/wp-content/uploads/2024/02/AA-Squad-19-Format-Daily-Reflections.jpg
LOCATION:https://zoom.us/j/448997822?pwd=RHpBelFXdXpWMEZUY2VKMXhKMENLdz09
END:VEVENT
BEGIN:VEVENT
DTSTART;TZID=UTC:20280925T210000
DTEND;TZID=UTC:20280925T220000
DTSTAMP:20260421T134452
CREATED:20250611T222659Z
LAST-MODIFIED:20250613T170122Z
UID:10012750-1853528400-1853532000@myrecovery.org
SUMMARY:AA - Squad 19 - Format: Daily Reflections
DESCRIPTION:  \nCLICK HERE to join the meeting!
URL:https://myrecovery.org/event/aa-squad-19-format-daily-reflections/2028-09-25/
CATEGORIES:AA,Daily Reflections
ATTACH;FMTTYPE=image/jpeg:https://myrecovery.org/wp-content/uploads/2024/02/AA-Squad-19-Format-Daily-Reflections.jpg
LOCATION:https://zoom.us/j/448997822?pwd=RHpBelFXdXpWMEZUY2VKMXhKMENLdz09
END:VEVENT
BEGIN:VEVENT
DTSTART;TZID=UTC:20281002T210000
DTEND;TZID=UTC:20281002T220000
DTSTAMP:20260421T134452
CREATED:20250611T222659Z
LAST-MODIFIED:20250613T170122Z
UID:10012751-1854133200-1854136800@myrecovery.org
SUMMARY:AA - Squad 19 - Format: Daily Reflections
DESCRIPTION:  \nCLICK HERE to join the meeting!
URL:https://myrecovery.org/event/aa-squad-19-format-daily-reflections/2028-10-02/
CATEGORIES:AA,Daily Reflections
ATTACH;FMTTYPE=image/jpeg:https://myrecovery.org/wp-content/uploads/2024/02/AA-Squad-19-Format-Daily-Reflections.jpg
LOCATION:https://zoom.us/j/448997822?pwd=RHpBelFXdXpWMEZUY2VKMXhKMENLdz09
END:VEVENT
BEGIN:VEVENT
DTSTART;TZID=UTC:20281009T210000
DTEND;TZID=UTC:20281009T220000
DTSTAMP:20260421T134452
CREATED:20250611T222659Z
LAST-MODIFIED:20250613T170122Z
UID:10012752-1854738000-1854741600@myrecovery.org
SUMMARY:AA - Squad 19 - Format: Daily Reflections
DESCRIPTION:  \nCLICK HERE to join the meeting!
URL:https://myrecovery.org/event/aa-squad-19-format-daily-reflections/2028-10-09/
CATEGORIES:AA,Daily Reflections
ATTACH;FMTTYPE=image/jpeg:https://myrecovery.org/wp-content/uploads/2024/02/AA-Squad-19-Format-Daily-Reflections.jpg
LOCATION:https://zoom.us/j/448997822?pwd=RHpBelFXdXpWMEZUY2VKMXhKMENLdz09
END:VEVENT
BEGIN:VEVENT
DTSTART;TZID=UTC:20281016T210000
DTEND;TZID=UTC:20281016T220000
DTSTAMP:20260421T134452
CREATED:20250611T222659Z
LAST-MODIFIED:20250613T170122Z
UID:10012753-1855342800-1855346400@myrecovery.org
SUMMARY:AA - Squad 19 - Format: Daily Reflections
DESCRIPTION:  \nCLICK HERE to join the meeting!
URL:https://myrecovery.org/event/aa-squad-19-format-daily-reflections/2028-10-16/
CATEGORIES:AA,Daily Reflections
ATTACH;FMTTYPE=image/jpeg:https://myrecovery.org/wp-content/uploads/2024/02/AA-Squad-19-Format-Daily-Reflections.jpg
LOCATION:https://zoom.us/j/448997822?pwd=RHpBelFXdXpWMEZUY2VKMXhKMENLdz09
END:VEVENT
BEGIN:VEVENT
DTSTART;TZID=UTC:20281023T210000
DTEND;TZID=UTC:20281023T220000
DTSTAMP:20260421T134452
CREATED:20250611T222659Z
LAST-MODIFIED:20250613T170122Z
UID:10012754-1855947600-1855951200@myrecovery.org
SUMMARY:AA - Squad 19 - Format: Daily Reflections
DESCRIPTION:  \nCLICK HERE to join the meeting!
URL:https://myrecovery.org/event/aa-squad-19-format-daily-reflections/2028-10-23/
CATEGORIES:AA,Daily Reflections
ATTACH;FMTTYPE=image/jpeg:https://myrecovery.org/wp-content/uploads/2024/02/AA-Squad-19-Format-Daily-Reflections.jpg
LOCATION:https://zoom.us/j/448997822?pwd=RHpBelFXdXpWMEZUY2VKMXhKMENLdz09
END:VEVENT
BEGIN:VEVENT
DTSTART;TZID=UTC:20281030T210000
DTEND;TZID=UTC:20281030T220000
DTSTAMP:20260421T134452
CREATED:20250611T222659Z
LAST-MODIFIED:20250613T170122Z
UID:10012755-1856552400-1856556000@myrecovery.org
SUMMARY:AA - Squad 19 - Format: Daily Reflections
DESCRIPTION:  \nCLICK HERE to join the meeting!
URL:https://myrecovery.org/event/aa-squad-19-format-daily-reflections/2028-10-30/
CATEGORIES:AA,Daily Reflections
ATTACH;FMTTYPE=image/jpeg:https://myrecovery.org/wp-content/uploads/2024/02/AA-Squad-19-Format-Daily-Reflections.jpg
LOCATION:https://zoom.us/j/448997822?pwd=RHpBelFXdXpWMEZUY2VKMXhKMENLdz09
END:VEVENT
BEGIN:VEVENT
DTSTART;TZID=UTC:20281106T210000
DTEND;TZID=UTC:20281106T220000
DTSTAMP:20260421T134452
CREATED:20250611T222659Z
LAST-MODIFIED:20250613T170122Z
UID:10012756-1857157200-1857160800@myrecovery.org
SUMMARY:AA - Squad 19 - Format: Daily Reflections
DESCRIPTION:  \nCLICK HERE to join the meeting!
URL:https://myrecovery.org/event/aa-squad-19-format-daily-reflections/2028-11-06/
CATEGORIES:AA,Daily Reflections
ATTACH;FMTTYPE=image/jpeg:https://myrecovery.org/wp-content/uploads/2024/02/AA-Squad-19-Format-Daily-Reflections.jpg
LOCATION:https://zoom.us/j/448997822?pwd=RHpBelFXdXpWMEZUY2VKMXhKMENLdz09
END:VEVENT
BEGIN:VEVENT
DTSTART;TZID=UTC:20281113T210000
DTEND;TZID=UTC:20281113T220000
DTSTAMP:20260421T134452
CREATED:20250611T222659Z
LAST-MODIFIED:20250613T170122Z
UID:10012757-1857762000-1857765600@myrecovery.org
SUMMARY:AA - Squad 19 - Format: Daily Reflections
DESCRIPTION:  \nCLICK HERE to join the meeting!
URL:https://myrecovery.org/event/aa-squad-19-format-daily-reflections/2028-11-13/
CATEGORIES:AA,Daily Reflections
ATTACH;FMTTYPE=image/jpeg:https://myrecovery.org/wp-content/uploads/2024/02/AA-Squad-19-Format-Daily-Reflections.jpg
LOCATION:https://zoom.us/j/448997822?pwd=RHpBelFXdXpWMEZUY2VKMXhKMENLdz09
END:VEVENT
BEGIN:VEVENT
DTSTART;TZID=UTC:20281120T210000
DTEND;TZID=UTC:20281120T220000
DTSTAMP:20260421T134452
CREATED:20250611T222659Z
LAST-MODIFIED:20250613T170122Z
UID:10012758-1858366800-1858370400@myrecovery.org
SUMMARY:AA - Squad 19 - Format: Daily Reflections
DESCRIPTION:  \nCLICK HERE to join the meeting!
URL:https://myrecovery.org/event/aa-squad-19-format-daily-reflections/2028-11-20/
CATEGORIES:AA,Daily Reflections
ATTACH;FMTTYPE=image/jpeg:https://myrecovery.org/wp-content/uploads/2024/02/AA-Squad-19-Format-Daily-Reflections.jpg
LOCATION:https://zoom.us/j/448997822?pwd=RHpBelFXdXpWMEZUY2VKMXhKMENLdz09
END:VEVENT
BEGIN:VEVENT
DTSTART;TZID=UTC:20281127T210000
DTEND;TZID=UTC:20281127T220000
DTSTAMP:20260421T134452
CREATED:20250611T222659Z
LAST-MODIFIED:20250613T170122Z
UID:10012759-1858971600-1858975200@myrecovery.org
SUMMARY:AA - Squad 19 - Format: Daily Reflections
DESCRIPTION:  \nCLICK HERE to join the meeting!
URL:https://myrecovery.org/event/aa-squad-19-format-daily-reflections/2028-11-27/
CATEGORIES:AA,Daily Reflections
ATTACH;FMTTYPE=image/jpeg:https://myrecovery.org/wp-content/uploads/2024/02/AA-Squad-19-Format-Daily-Reflections.jpg
LOCATION:https://zoom.us/j/448997822?pwd=RHpBelFXdXpWMEZUY2VKMXhKMENLdz09
END:VEVENT
BEGIN:VEVENT
DTSTART;TZID=UTC:20281204T210000
DTEND;TZID=UTC:20281204T220000
DTSTAMP:20260421T134452
CREATED:20250611T222659Z
LAST-MODIFIED:20250613T170122Z
UID:10012760-1859576400-1859580000@myrecovery.org
SUMMARY:AA - Squad 19 - Format: Daily Reflections
DESCRIPTION:  \nCLICK HERE to join the meeting!
URL:https://myrecovery.org/event/aa-squad-19-format-daily-reflections/2028-12-04/
CATEGORIES:AA,Daily Reflections
ATTACH;FMTTYPE=image/jpeg:https://myrecovery.org/wp-content/uploads/2024/02/AA-Squad-19-Format-Daily-Reflections.jpg
LOCATION:https://zoom.us/j/448997822?pwd=RHpBelFXdXpWMEZUY2VKMXhKMENLdz09
END:VEVENT
BEGIN:VEVENT
DTSTART;TZID=UTC:20281211T210000
DTEND;TZID=UTC:20281211T220000
DTSTAMP:20260421T134452
CREATED:20250611T222659Z
LAST-MODIFIED:20250613T170122Z
UID:10012761-1860181200-1860184800@myrecovery.org
SUMMARY:AA - Squad 19 - Format: Daily Reflections
DESCRIPTION:  \nCLICK HERE to join the meeting!
URL:https://myrecovery.org/event/aa-squad-19-format-daily-reflections/2028-12-11/
CATEGORIES:AA,Daily Reflections
ATTACH;FMTTYPE=image/jpeg:https://myrecovery.org/wp-content/uploads/2024/02/AA-Squad-19-Format-Daily-Reflections.jpg
LOCATION:https://zoom.us/j/448997822?pwd=RHpBelFXdXpWMEZUY2VKMXhKMENLdz09
END:VEVENT
BEGIN:VEVENT
DTSTART;TZID=UTC:20281218T210000
DTEND;TZID=UTC:20281218T220000
DTSTAMP:20260421T134452
CREATED:20250611T222659Z
LAST-MODIFIED:20250613T170122Z
UID:10012762-1860786000-1860789600@myrecovery.org
SUMMARY:AA - Squad 19 - Format: Daily Reflections
DESCRIPTION:  \nCLICK HERE to join the meeting!
URL:https://myrecovery.org/event/aa-squad-19-format-daily-reflections/2028-12-18/
CATEGORIES:AA,Daily Reflections
ATTACH;FMTTYPE=image/jpeg:https://myrecovery.org/wp-content/uploads/2024/02/AA-Squad-19-Format-Daily-Reflections.jpg
LOCATION:https://zoom.us/j/448997822?pwd=RHpBelFXdXpWMEZUY2VKMXhKMENLdz09
END:VEVENT
BEGIN:VEVENT
DTSTART;TZID=UTC:20281225T210000
DTEND;TZID=UTC:20281225T220000
DTSTAMP:20260421T134452
CREATED:20250611T222659Z
LAST-MODIFIED:20250613T170122Z
UID:10012763-1861390800-1861394400@myrecovery.org
SUMMARY:AA - Squad 19 - Format: Daily Reflections
DESCRIPTION:  \nCLICK HERE to join the meeting!
URL:https://myrecovery.org/event/aa-squad-19-format-daily-reflections/2028-12-25/
CATEGORIES:AA,Daily Reflections
ATTACH;FMTTYPE=image/jpeg:https://myrecovery.org/wp-content/uploads/2024/02/AA-Squad-19-Format-Daily-Reflections.jpg
LOCATION:https://zoom.us/j/448997822?pwd=RHpBelFXdXpWMEZUY2VKMXhKMENLdz09
END:VEVENT
BEGIN:VEVENT
DTSTART;TZID=UTC:20290101T210000
DTEND;TZID=UTC:20290101T220000
DTSTAMP:20260421T134452
CREATED:20250611T222659Z
LAST-MODIFIED:20250613T170122Z
UID:10012764-1861995600-1861999200@myrecovery.org
SUMMARY:AA - Squad 19 - Format: Daily Reflections
DESCRIPTION:  \nCLICK HERE to join the meeting!
URL:https://myrecovery.org/event/aa-squad-19-format-daily-reflections/2029-01-01/
CATEGORIES:AA,Daily Reflections
ATTACH;FMTTYPE=image/jpeg:https://myrecovery.org/wp-content/uploads/2024/02/AA-Squad-19-Format-Daily-Reflections.jpg
LOCATION:https://zoom.us/j/448997822?pwd=RHpBelFXdXpWMEZUY2VKMXhKMENLdz09
END:VEVENT
BEGIN:VEVENT
DTSTART;TZID=UTC:20290108T210000
DTEND;TZID=UTC:20290108T220000
DTSTAMP:20260421T134452
CREATED:20250611T222659Z
LAST-MODIFIED:20250613T170122Z
UID:10012765-1862600400-1862604000@myrecovery.org
SUMMARY:AA - Squad 19 - Format: Daily Reflections
DESCRIPTION:  \nCLICK HERE to join the meeting!
URL:https://myrecovery.org/event/aa-squad-19-format-daily-reflections/2029-01-08/
CATEGORIES:AA,Daily Reflections
ATTACH;FMTTYPE=image/jpeg:https://myrecovery.org/wp-content/uploads/2024/02/AA-Squad-19-Format-Daily-Reflections.jpg
LOCATION:https://zoom.us/j/448997822?pwd=RHpBelFXdXpWMEZUY2VKMXhKMENLdz09
END:VEVENT
BEGIN:VEVENT
DTSTART;TZID=UTC:20290115T210000
DTEND;TZID=UTC:20290115T220000
DTSTAMP:20260421T134452
CREATED:20250611T222659Z
LAST-MODIFIED:20250613T170122Z
UID:10012766-1863205200-1863208800@myrecovery.org
SUMMARY:AA - Squad 19 - Format: Daily Reflections
DESCRIPTION:  \nCLICK HERE to join the meeting!
URL:https://myrecovery.org/event/aa-squad-19-format-daily-reflections/2029-01-15/
CATEGORIES:AA,Daily Reflections
ATTACH;FMTTYPE=image/jpeg:https://myrecovery.org/wp-content/uploads/2024/02/AA-Squad-19-Format-Daily-Reflections.jpg
LOCATION:https://zoom.us/j/448997822?pwd=RHpBelFXdXpWMEZUY2VKMXhKMENLdz09
END:VEVENT
BEGIN:VEVENT
DTSTART;TZID=UTC:20290122T210000
DTEND;TZID=UTC:20290122T220000
DTSTAMP:20260421T134452
CREATED:20250611T222659Z
LAST-MODIFIED:20250613T170122Z
UID:10012767-1863810000-1863813600@myrecovery.org
SUMMARY:AA - Squad 19 - Format: Daily Reflections
DESCRIPTION:  \nCLICK HERE to join the meeting!
URL:https://myrecovery.org/event/aa-squad-19-format-daily-reflections/2029-01-22/
CATEGORIES:AA,Daily Reflections
ATTACH;FMTTYPE=image/jpeg:https://myrecovery.org/wp-content/uploads/2024/02/AA-Squad-19-Format-Daily-Reflections.jpg
LOCATION:https://zoom.us/j/448997822?pwd=RHpBelFXdXpWMEZUY2VKMXhKMENLdz09
END:VEVENT
BEGIN:VEVENT
DTSTART;TZID=UTC:20290129T210000
DTEND;TZID=UTC:20290129T220000
DTSTAMP:20260421T134453
CREATED:20250611T222659Z
LAST-MODIFIED:20250613T170122Z
UID:10012768-1864414800-1864418400@myrecovery.org
SUMMARY:AA - Squad 19 - Format: Daily Reflections
DESCRIPTION:  \nCLICK HERE to join the meeting!
URL:https://myrecovery.org/event/aa-squad-19-format-daily-reflections/2029-01-29/
CATEGORIES:AA,Daily Reflections
ATTACH;FMTTYPE=image/jpeg:https://myrecovery.org/wp-content/uploads/2024/02/AA-Squad-19-Format-Daily-Reflections.jpg
LOCATION:https://zoom.us/j/448997822?pwd=RHpBelFXdXpWMEZUY2VKMXhKMENLdz09
END:VEVENT
BEGIN:VEVENT
DTSTART;TZID=UTC:20290205T210000
DTEND;TZID=UTC:20290205T220000
DTSTAMP:20260421T134453
CREATED:20250611T222659Z
LAST-MODIFIED:20250613T170122Z
UID:10012769-1865019600-1865023200@myrecovery.org
SUMMARY:AA - Squad 19 - Format: Daily Reflections
DESCRIPTION:  \nCLICK HERE to join the meeting!
URL:https://myrecovery.org/event/aa-squad-19-format-daily-reflections/2029-02-05/
CATEGORIES:AA,Daily Reflections
ATTACH;FMTTYPE=image/jpeg:https://myrecovery.org/wp-content/uploads/2024/02/AA-Squad-19-Format-Daily-Reflections.jpg
LOCATION:https://zoom.us/j/448997822?pwd=RHpBelFXdXpWMEZUY2VKMXhKMENLdz09
END:VEVENT
BEGIN:VEVENT
DTSTART;TZID=UTC:20290212T210000
DTEND;TZID=UTC:20290212T220000
DTSTAMP:20260421T134453
CREATED:20250611T222659Z
LAST-MODIFIED:20250613T170122Z
UID:10012770-1865624400-1865628000@myrecovery.org
SUMMARY:AA - Squad 19 - Format: Daily Reflections
DESCRIPTION:  \nCLICK HERE to join the meeting!
URL:https://myrecovery.org/event/aa-squad-19-format-daily-reflections/2029-02-12/
CATEGORIES:AA,Daily Reflections
ATTACH;FMTTYPE=image/jpeg:https://myrecovery.org/wp-content/uploads/2024/02/AA-Squad-19-Format-Daily-Reflections.jpg
LOCATION:https://zoom.us/j/448997822?pwd=RHpBelFXdXpWMEZUY2VKMXhKMENLdz09
END:VEVENT
BEGIN:VEVENT
DTSTART;TZID=UTC:20290219T210000
DTEND;TZID=UTC:20290219T220000
DTSTAMP:20260421T134453
CREATED:20250611T222659Z
LAST-MODIFIED:20250613T170122Z
UID:10012771-1866229200-1866232800@myrecovery.org
SUMMARY:AA - Squad 19 - Format: Daily Reflections
DESCRIPTION:  \nCLICK HERE to join the meeting!
URL:https://myrecovery.org/event/aa-squad-19-format-daily-reflections/2029-02-19/
CATEGORIES:AA,Daily Reflections
ATTACH;FMTTYPE=image/jpeg:https://myrecovery.org/wp-content/uploads/2024/02/AA-Squad-19-Format-Daily-Reflections.jpg
LOCATION:https://zoom.us/j/448997822?pwd=RHpBelFXdXpWMEZUY2VKMXhKMENLdz09
END:VEVENT
BEGIN:VEVENT
DTSTART;TZID=UTC:20290226T210000
DTEND;TZID=UTC:20290226T220000
DTSTAMP:20260421T134453
CREATED:20250611T222659Z
LAST-MODIFIED:20250613T170122Z
UID:10012772-1866834000-1866837600@myrecovery.org
SUMMARY:AA - Squad 19 - Format: Daily Reflections
DESCRIPTION:  \nCLICK HERE to join the meeting!
URL:https://myrecovery.org/event/aa-squad-19-format-daily-reflections/2029-02-26/
CATEGORIES:AA,Daily Reflections
ATTACH;FMTTYPE=image/jpeg:https://myrecovery.org/wp-content/uploads/2024/02/AA-Squad-19-Format-Daily-Reflections.jpg
LOCATION:https://zoom.us/j/448997822?pwd=RHpBelFXdXpWMEZUY2VKMXhKMENLdz09
END:VEVENT
END:VCALENDAR