BEGIN:VCALENDAR
VERSION:2.0
PRODID:-//My Recovery - ECPv6.15.17//NONSGML v1.0//EN
CALSCALE:GREGORIAN
METHOD:PUBLISH
X-ORIGINAL-URL:https://myrecovery.org
X-WR-CALDESC:Events for My Recovery
REFRESH-INTERVAL;VALUE=DURATION:PT1H
X-Robots-Tag:noindex
X-PUBLISHED-TTL:PT1H
BEGIN:VTIMEZONE
TZID:UTC
BEGIN:STANDARD
TZOFFSETFROM:+0000
TZOFFSETTO:+0000
TZNAME:UTC
DTSTART:20240101T000000
END:STANDARD
END:VTIMEZONE
BEGIN:VEVENT
DTSTART;TZID=UTC:20251223T190000
DTEND;TZID=UTC:20251223T200000
DTSTAMP:20260421T171852
CREATED:20250611T222644Z
LAST-MODIFIED:20250613T170428Z
UID:10014566-1766516400-1766520000@myrecovery.org
SUMMARY:DAA - Climb the Mountain - Format: Big Book Discussion
DESCRIPTION:Big Book or Discussion: Recovery meetings center around Big Book topics or pages selected by the Trusted Servant. The Trusted Servant speaks about the Big Book topic or pages selected and opens the meeting up for discussion for all attendees. \nCLICK HERE to join the meeting!
URL:https://myrecovery.org/event/daa-climb-the-mountain-format-big-book-discussion/2025-12-23/
CATEGORIES:AA,Big Book,DAA
ATTACH;FMTTYPE=image/jpeg:https://myrecovery.org/wp-content/uploads/2024/02/DAA-Climb-the-Mountain-Format-Big-Book-Discussion-1.jpg
LOCATION:https://zoom.us/j/431251368?pwd=dmxVTXQ5Y3JNY0h3K1JPdkZyV1ljQT09
END:VEVENT
BEGIN:VEVENT
DTSTART;TZID=UTC:20251230T190000
DTEND;TZID=UTC:20251230T200000
DTSTAMP:20260421T171852
CREATED:20250611T222644Z
LAST-MODIFIED:20250613T170428Z
UID:10014567-1767121200-1767124800@myrecovery.org
SUMMARY:DAA - Climb the Mountain - Format: Big Book Discussion
DESCRIPTION:Big Book or Discussion: Recovery meetings center around Big Book topics or pages selected by the Trusted Servant. The Trusted Servant speaks about the Big Book topic or pages selected and opens the meeting up for discussion for all attendees. \nCLICK HERE to join the meeting!
URL:https://myrecovery.org/event/daa-climb-the-mountain-format-big-book-discussion/2025-12-30/
CATEGORIES:AA,Big Book,DAA
ATTACH;FMTTYPE=image/jpeg:https://myrecovery.org/wp-content/uploads/2024/02/DAA-Climb-the-Mountain-Format-Big-Book-Discussion-1.jpg
LOCATION:https://zoom.us/j/431251368?pwd=dmxVTXQ5Y3JNY0h3K1JPdkZyV1ljQT09
END:VEVENT
BEGIN:VEVENT
DTSTART;TZID=UTC:20260106T190000
DTEND;TZID=UTC:20260106T200000
DTSTAMP:20260421T171852
CREATED:20250611T222644Z
LAST-MODIFIED:20250613T170428Z
UID:10014568-1767726000-1767729600@myrecovery.org
SUMMARY:DAA - Climb the Mountain - Format: Big Book Discussion
DESCRIPTION:Big Book or Discussion: Recovery meetings center around Big Book topics or pages selected by the Trusted Servant. The Trusted Servant speaks about the Big Book topic or pages selected and opens the meeting up for discussion for all attendees. \nCLICK HERE to join the meeting!
URL:https://myrecovery.org/event/daa-climb-the-mountain-format-big-book-discussion/2026-01-06/
CATEGORIES:AA,Big Book,DAA
ATTACH;FMTTYPE=image/jpeg:https://myrecovery.org/wp-content/uploads/2024/02/DAA-Climb-the-Mountain-Format-Big-Book-Discussion-1.jpg
LOCATION:https://zoom.us/j/431251368?pwd=dmxVTXQ5Y3JNY0h3K1JPdkZyV1ljQT09
END:VEVENT
BEGIN:VEVENT
DTSTART;TZID=UTC:20260113T190000
DTEND;TZID=UTC:20260113T200000
DTSTAMP:20260421T171852
CREATED:20250611T222644Z
LAST-MODIFIED:20250613T170428Z
UID:10014569-1768330800-1768334400@myrecovery.org
SUMMARY:DAA - Climb the Mountain - Format: Big Book Discussion
DESCRIPTION:Big Book or Discussion: Recovery meetings center around Big Book topics or pages selected by the Trusted Servant. The Trusted Servant speaks about the Big Book topic or pages selected and opens the meeting up for discussion for all attendees. \nCLICK HERE to join the meeting!
URL:https://myrecovery.org/event/daa-climb-the-mountain-format-big-book-discussion/2026-01-13/
CATEGORIES:AA,Big Book,DAA
ATTACH;FMTTYPE=image/jpeg:https://myrecovery.org/wp-content/uploads/2024/02/DAA-Climb-the-Mountain-Format-Big-Book-Discussion-1.jpg
LOCATION:https://zoom.us/j/431251368?pwd=dmxVTXQ5Y3JNY0h3K1JPdkZyV1ljQT09
END:VEVENT
BEGIN:VEVENT
DTSTART;TZID=UTC:20260120T190000
DTEND;TZID=UTC:20260120T200000
DTSTAMP:20260421T171852
CREATED:20250611T222644Z
LAST-MODIFIED:20250613T170428Z
UID:10014570-1768935600-1768939200@myrecovery.org
SUMMARY:DAA - Climb the Mountain - Format: Big Book Discussion
DESCRIPTION:Big Book or Discussion: Recovery meetings center around Big Book topics or pages selected by the Trusted Servant. The Trusted Servant speaks about the Big Book topic or pages selected and opens the meeting up for discussion for all attendees. \nCLICK HERE to join the meeting!
URL:https://myrecovery.org/event/daa-climb-the-mountain-format-big-book-discussion/2026-01-20/
CATEGORIES:AA,Big Book,DAA
ATTACH;FMTTYPE=image/jpeg:https://myrecovery.org/wp-content/uploads/2024/02/DAA-Climb-the-Mountain-Format-Big-Book-Discussion-1.jpg
LOCATION:https://zoom.us/j/431251368?pwd=dmxVTXQ5Y3JNY0h3K1JPdkZyV1ljQT09
END:VEVENT
BEGIN:VEVENT
DTSTART;TZID=UTC:20260127T190000
DTEND;TZID=UTC:20260127T200000
DTSTAMP:20260421T171852
CREATED:20250611T222644Z
LAST-MODIFIED:20250613T170428Z
UID:10014571-1769540400-1769544000@myrecovery.org
SUMMARY:DAA - Climb the Mountain - Format: Big Book Discussion
DESCRIPTION:Big Book or Discussion: Recovery meetings center around Big Book topics or pages selected by the Trusted Servant. The Trusted Servant speaks about the Big Book topic or pages selected and opens the meeting up for discussion for all attendees. \nCLICK HERE to join the meeting!
URL:https://myrecovery.org/event/daa-climb-the-mountain-format-big-book-discussion/2026-01-27/
CATEGORIES:AA,Big Book,DAA
ATTACH;FMTTYPE=image/jpeg:https://myrecovery.org/wp-content/uploads/2024/02/DAA-Climb-the-Mountain-Format-Big-Book-Discussion-1.jpg
LOCATION:https://zoom.us/j/431251368?pwd=dmxVTXQ5Y3JNY0h3K1JPdkZyV1ljQT09
END:VEVENT
BEGIN:VEVENT
DTSTART;TZID=UTC:20260203T190000
DTEND;TZID=UTC:20260203T200000
DTSTAMP:20260421T171852
CREATED:20250611T222644Z
LAST-MODIFIED:20250613T170428Z
UID:10014572-1770145200-1770148800@myrecovery.org
SUMMARY:DAA - Climb the Mountain - Format: Big Book Discussion
DESCRIPTION:Big Book or Discussion: Recovery meetings center around Big Book topics or pages selected by the Trusted Servant. The Trusted Servant speaks about the Big Book topic or pages selected and opens the meeting up for discussion for all attendees. \nCLICK HERE to join the meeting!
URL:https://myrecovery.org/event/daa-climb-the-mountain-format-big-book-discussion/2026-02-03/
CATEGORIES:AA,Big Book,DAA
ATTACH;FMTTYPE=image/jpeg:https://myrecovery.org/wp-content/uploads/2024/02/DAA-Climb-the-Mountain-Format-Big-Book-Discussion-1.jpg
LOCATION:https://zoom.us/j/431251368?pwd=dmxVTXQ5Y3JNY0h3K1JPdkZyV1ljQT09
END:VEVENT
BEGIN:VEVENT
DTSTART;TZID=UTC:20260210T190000
DTEND;TZID=UTC:20260210T200000
DTSTAMP:20260421T171852
CREATED:20250611T222644Z
LAST-MODIFIED:20250613T170428Z
UID:10014573-1770750000-1770753600@myrecovery.org
SUMMARY:DAA - Climb the Mountain - Format: Big Book Discussion
DESCRIPTION:Big Book or Discussion: Recovery meetings center around Big Book topics or pages selected by the Trusted Servant. The Trusted Servant speaks about the Big Book topic or pages selected and opens the meeting up for discussion for all attendees. \nCLICK HERE to join the meeting!
URL:https://myrecovery.org/event/daa-climb-the-mountain-format-big-book-discussion/2026-02-10/
CATEGORIES:AA,Big Book,DAA
ATTACH;FMTTYPE=image/jpeg:https://myrecovery.org/wp-content/uploads/2024/02/DAA-Climb-the-Mountain-Format-Big-Book-Discussion-1.jpg
LOCATION:https://zoom.us/j/431251368?pwd=dmxVTXQ5Y3JNY0h3K1JPdkZyV1ljQT09
END:VEVENT
BEGIN:VEVENT
DTSTART;TZID=UTC:20260217T190000
DTEND;TZID=UTC:20260217T200000
DTSTAMP:20260421T171852
CREATED:20250611T222644Z
LAST-MODIFIED:20250613T170428Z
UID:10014574-1771354800-1771358400@myrecovery.org
SUMMARY:DAA - Climb the Mountain - Format: Big Book Discussion
DESCRIPTION:Big Book or Discussion: Recovery meetings center around Big Book topics or pages selected by the Trusted Servant. The Trusted Servant speaks about the Big Book topic or pages selected and opens the meeting up for discussion for all attendees. \nCLICK HERE to join the meeting!
URL:https://myrecovery.org/event/daa-climb-the-mountain-format-big-book-discussion/2026-02-17/
CATEGORIES:AA,Big Book,DAA
ATTACH;FMTTYPE=image/jpeg:https://myrecovery.org/wp-content/uploads/2024/02/DAA-Climb-the-Mountain-Format-Big-Book-Discussion-1.jpg
LOCATION:https://zoom.us/j/431251368?pwd=dmxVTXQ5Y3JNY0h3K1JPdkZyV1ljQT09
END:VEVENT
BEGIN:VEVENT
DTSTART;TZID=UTC:20260224T190000
DTEND;TZID=UTC:20260224T200000
DTSTAMP:20260421T171852
CREATED:20250611T222644Z
LAST-MODIFIED:20250613T170428Z
UID:10014575-1771959600-1771963200@myrecovery.org
SUMMARY:DAA - Climb the Mountain - Format: Big Book Discussion
DESCRIPTION:Big Book or Discussion: Recovery meetings center around Big Book topics or pages selected by the Trusted Servant. The Trusted Servant speaks about the Big Book topic or pages selected and opens the meeting up for discussion for all attendees. \nCLICK HERE to join the meeting!
URL:https://myrecovery.org/event/daa-climb-the-mountain-format-big-book-discussion/2026-02-24/
CATEGORIES:AA,Big Book,DAA
ATTACH;FMTTYPE=image/jpeg:https://myrecovery.org/wp-content/uploads/2024/02/DAA-Climb-the-Mountain-Format-Big-Book-Discussion-1.jpg
LOCATION:https://zoom.us/j/431251368?pwd=dmxVTXQ5Y3JNY0h3K1JPdkZyV1ljQT09
END:VEVENT
BEGIN:VEVENT
DTSTART;TZID=UTC:20260303T190000
DTEND;TZID=UTC:20260303T200000
DTSTAMP:20260421T171852
CREATED:20250611T222644Z
LAST-MODIFIED:20250613T170428Z
UID:10014576-1772564400-1772568000@myrecovery.org
SUMMARY:DAA - Climb the Mountain - Format: Big Book Discussion
DESCRIPTION:Big Book or Discussion: Recovery meetings center around Big Book topics or pages selected by the Trusted Servant. The Trusted Servant speaks about the Big Book topic or pages selected and opens the meeting up for discussion for all attendees. \nCLICK HERE to join the meeting!
URL:https://myrecovery.org/event/daa-climb-the-mountain-format-big-book-discussion/2026-03-03/
CATEGORIES:AA,Big Book,DAA
ATTACH;FMTTYPE=image/jpeg:https://myrecovery.org/wp-content/uploads/2024/02/DAA-Climb-the-Mountain-Format-Big-Book-Discussion-1.jpg
LOCATION:https://zoom.us/j/431251368?pwd=dmxVTXQ5Y3JNY0h3K1JPdkZyV1ljQT09
END:VEVENT
BEGIN:VEVENT
DTSTART;TZID=UTC:20260310T190000
DTEND;TZID=UTC:20260310T200000
DTSTAMP:20260421T171852
CREATED:20250611T222644Z
LAST-MODIFIED:20250613T170428Z
UID:10014577-1773169200-1773172800@myrecovery.org
SUMMARY:DAA - Climb the Mountain - Format: Big Book Discussion
DESCRIPTION:Big Book or Discussion: Recovery meetings center around Big Book topics or pages selected by the Trusted Servant. The Trusted Servant speaks about the Big Book topic or pages selected and opens the meeting up for discussion for all attendees. \nCLICK HERE to join the meeting!
URL:https://myrecovery.org/event/daa-climb-the-mountain-format-big-book-discussion/2026-03-10/
CATEGORIES:AA,Big Book,DAA
ATTACH;FMTTYPE=image/jpeg:https://myrecovery.org/wp-content/uploads/2024/02/DAA-Climb-the-Mountain-Format-Big-Book-Discussion-1.jpg
LOCATION:https://zoom.us/j/431251368?pwd=dmxVTXQ5Y3JNY0h3K1JPdkZyV1ljQT09
END:VEVENT
BEGIN:VEVENT
DTSTART;TZID=UTC:20260317T190000
DTEND;TZID=UTC:20260317T200000
DTSTAMP:20260421T171852
CREATED:20250611T222644Z
LAST-MODIFIED:20250613T170428Z
UID:10014578-1773774000-1773777600@myrecovery.org
SUMMARY:DAA - Climb the Mountain - Format: Big Book Discussion
DESCRIPTION:Big Book or Discussion: Recovery meetings center around Big Book topics or pages selected by the Trusted Servant. The Trusted Servant speaks about the Big Book topic or pages selected and opens the meeting up for discussion for all attendees. \nCLICK HERE to join the meeting!
URL:https://myrecovery.org/event/daa-climb-the-mountain-format-big-book-discussion/2026-03-17/
CATEGORIES:AA,Big Book,DAA
ATTACH;FMTTYPE=image/jpeg:https://myrecovery.org/wp-content/uploads/2024/02/DAA-Climb-the-Mountain-Format-Big-Book-Discussion-1.jpg
LOCATION:https://zoom.us/j/431251368?pwd=dmxVTXQ5Y3JNY0h3K1JPdkZyV1ljQT09
END:VEVENT
BEGIN:VEVENT
DTSTART;TZID=UTC:20260324T190000
DTEND;TZID=UTC:20260324T200000
DTSTAMP:20260421T171852
CREATED:20250611T222644Z
LAST-MODIFIED:20250613T170428Z
UID:10014579-1774378800-1774382400@myrecovery.org
SUMMARY:DAA - Climb the Mountain - Format: Big Book Discussion
DESCRIPTION:Big Book or Discussion: Recovery meetings center around Big Book topics or pages selected by the Trusted Servant. The Trusted Servant speaks about the Big Book topic or pages selected and opens the meeting up for discussion for all attendees. \nCLICK HERE to join the meeting!
URL:https://myrecovery.org/event/daa-climb-the-mountain-format-big-book-discussion/2026-03-24/
CATEGORIES:AA,Big Book,DAA
ATTACH;FMTTYPE=image/jpeg:https://myrecovery.org/wp-content/uploads/2024/02/DAA-Climb-the-Mountain-Format-Big-Book-Discussion-1.jpg
LOCATION:https://zoom.us/j/431251368?pwd=dmxVTXQ5Y3JNY0h3K1JPdkZyV1ljQT09
END:VEVENT
BEGIN:VEVENT
DTSTART;TZID=UTC:20260331T190000
DTEND;TZID=UTC:20260331T200000
DTSTAMP:20260421T171852
CREATED:20250611T222644Z
LAST-MODIFIED:20250613T170428Z
UID:10014580-1774983600-1774987200@myrecovery.org
SUMMARY:DAA - Climb the Mountain - Format: Big Book Discussion
DESCRIPTION:Big Book or Discussion: Recovery meetings center around Big Book topics or pages selected by the Trusted Servant. The Trusted Servant speaks about the Big Book topic or pages selected and opens the meeting up for discussion for all attendees. \nCLICK HERE to join the meeting!
URL:https://myrecovery.org/event/daa-climb-the-mountain-format-big-book-discussion/2026-03-31/
CATEGORIES:AA,Big Book,DAA
ATTACH;FMTTYPE=image/jpeg:https://myrecovery.org/wp-content/uploads/2024/02/DAA-Climb-the-Mountain-Format-Big-Book-Discussion-1.jpg
LOCATION:https://zoom.us/j/431251368?pwd=dmxVTXQ5Y3JNY0h3K1JPdkZyV1ljQT09
END:VEVENT
BEGIN:VEVENT
DTSTART;TZID=UTC:20260407T190000
DTEND;TZID=UTC:20260407T200000
DTSTAMP:20260421T171852
CREATED:20250611T222644Z
LAST-MODIFIED:20250613T170428Z
UID:10014581-1775588400-1775592000@myrecovery.org
SUMMARY:DAA - Climb the Mountain - Format: Big Book Discussion
DESCRIPTION:Big Book or Discussion: Recovery meetings center around Big Book topics or pages selected by the Trusted Servant. The Trusted Servant speaks about the Big Book topic or pages selected and opens the meeting up for discussion for all attendees. \nCLICK HERE to join the meeting!
URL:https://myrecovery.org/event/daa-climb-the-mountain-format-big-book-discussion/2026-04-07/
CATEGORIES:AA,Big Book,DAA
ATTACH;FMTTYPE=image/jpeg:https://myrecovery.org/wp-content/uploads/2024/02/DAA-Climb-the-Mountain-Format-Big-Book-Discussion-1.jpg
LOCATION:https://zoom.us/j/431251368?pwd=dmxVTXQ5Y3JNY0h3K1JPdkZyV1ljQT09
END:VEVENT
BEGIN:VEVENT
DTSTART;TZID=UTC:20260414T190000
DTEND;TZID=UTC:20260414T200000
DTSTAMP:20260421T171852
CREATED:20250611T222644Z
LAST-MODIFIED:20250613T170428Z
UID:10014582-1776193200-1776196800@myrecovery.org
SUMMARY:DAA - Climb the Mountain - Format: Big Book Discussion
DESCRIPTION:Big Book or Discussion: Recovery meetings center around Big Book topics or pages selected by the Trusted Servant. The Trusted Servant speaks about the Big Book topic or pages selected and opens the meeting up for discussion for all attendees. \nCLICK HERE to join the meeting!
URL:https://myrecovery.org/event/daa-climb-the-mountain-format-big-book-discussion/2026-04-14/
CATEGORIES:AA,Big Book,DAA
ATTACH;FMTTYPE=image/jpeg:https://myrecovery.org/wp-content/uploads/2024/02/DAA-Climb-the-Mountain-Format-Big-Book-Discussion-1.jpg
LOCATION:https://zoom.us/j/431251368?pwd=dmxVTXQ5Y3JNY0h3K1JPdkZyV1ljQT09
END:VEVENT
BEGIN:VEVENT
DTSTART;TZID=UTC:20260421T190000
DTEND;TZID=UTC:20260421T200000
DTSTAMP:20260421T171852
CREATED:20250611T222644Z
LAST-MODIFIED:20250613T170428Z
UID:10014583-1776798000-1776801600@myrecovery.org
SUMMARY:DAA - Climb the Mountain - Format: Big Book Discussion
DESCRIPTION:Big Book or Discussion: Recovery meetings center around Big Book topics or pages selected by the Trusted Servant. The Trusted Servant speaks about the Big Book topic or pages selected and opens the meeting up for discussion for all attendees. \nCLICK HERE to join the meeting!
URL:https://myrecovery.org/event/daa-climb-the-mountain-format-big-book-discussion/2026-04-21/
CATEGORIES:AA,Big Book,DAA
ATTACH;FMTTYPE=image/jpeg:https://myrecovery.org/wp-content/uploads/2024/02/DAA-Climb-the-Mountain-Format-Big-Book-Discussion-1.jpg
LOCATION:https://zoom.us/j/431251368?pwd=dmxVTXQ5Y3JNY0h3K1JPdkZyV1ljQT09
END:VEVENT
BEGIN:VEVENT
DTSTART;TZID=UTC:20260428T190000
DTEND;TZID=UTC:20260428T200000
DTSTAMP:20260421T171852
CREATED:20250611T222644Z
LAST-MODIFIED:20250613T170428Z
UID:10014584-1777402800-1777406400@myrecovery.org
SUMMARY:DAA - Climb the Mountain - Format: Big Book Discussion
DESCRIPTION:Big Book or Discussion: Recovery meetings center around Big Book topics or pages selected by the Trusted Servant. The Trusted Servant speaks about the Big Book topic or pages selected and opens the meeting up for discussion for all attendees. \nCLICK HERE to join the meeting!
URL:https://myrecovery.org/event/daa-climb-the-mountain-format-big-book-discussion/2026-04-28/
CATEGORIES:AA,Big Book,DAA
ATTACH;FMTTYPE=image/jpeg:https://myrecovery.org/wp-content/uploads/2024/02/DAA-Climb-the-Mountain-Format-Big-Book-Discussion-1.jpg
LOCATION:https://zoom.us/j/431251368?pwd=dmxVTXQ5Y3JNY0h3K1JPdkZyV1ljQT09
END:VEVENT
BEGIN:VEVENT
DTSTART;TZID=UTC:20260505T190000
DTEND;TZID=UTC:20260505T200000
DTSTAMP:20260421T171852
CREATED:20250611T222644Z
LAST-MODIFIED:20250613T170428Z
UID:10014585-1778007600-1778011200@myrecovery.org
SUMMARY:DAA - Climb the Mountain - Format: Big Book Discussion
DESCRIPTION:Big Book or Discussion: Recovery meetings center around Big Book topics or pages selected by the Trusted Servant. The Trusted Servant speaks about the Big Book topic or pages selected and opens the meeting up for discussion for all attendees. \nCLICK HERE to join the meeting!
URL:https://myrecovery.org/event/daa-climb-the-mountain-format-big-book-discussion/2026-05-05/
CATEGORIES:AA,Big Book,DAA
ATTACH;FMTTYPE=image/jpeg:https://myrecovery.org/wp-content/uploads/2024/02/DAA-Climb-the-Mountain-Format-Big-Book-Discussion-1.jpg
LOCATION:https://zoom.us/j/431251368?pwd=dmxVTXQ5Y3JNY0h3K1JPdkZyV1ljQT09
END:VEVENT
BEGIN:VEVENT
DTSTART;TZID=UTC:20260512T190000
DTEND;TZID=UTC:20260512T200000
DTSTAMP:20260421T171852
CREATED:20250611T222644Z
LAST-MODIFIED:20250613T170428Z
UID:10014586-1778612400-1778616000@myrecovery.org
SUMMARY:DAA - Climb the Mountain - Format: Big Book Discussion
DESCRIPTION:Big Book or Discussion: Recovery meetings center around Big Book topics or pages selected by the Trusted Servant. The Trusted Servant speaks about the Big Book topic or pages selected and opens the meeting up for discussion for all attendees. \nCLICK HERE to join the meeting!
URL:https://myrecovery.org/event/daa-climb-the-mountain-format-big-book-discussion/2026-05-12/
CATEGORIES:AA,Big Book,DAA
ATTACH;FMTTYPE=image/jpeg:https://myrecovery.org/wp-content/uploads/2024/02/DAA-Climb-the-Mountain-Format-Big-Book-Discussion-1.jpg
LOCATION:https://zoom.us/j/431251368?pwd=dmxVTXQ5Y3JNY0h3K1JPdkZyV1ljQT09
END:VEVENT
BEGIN:VEVENT
DTSTART;TZID=UTC:20260519T190000
DTEND;TZID=UTC:20260519T200000
DTSTAMP:20260421T171852
CREATED:20250611T222644Z
LAST-MODIFIED:20250613T170428Z
UID:10014587-1779217200-1779220800@myrecovery.org
SUMMARY:DAA - Climb the Mountain - Format: Big Book Discussion
DESCRIPTION:Big Book or Discussion: Recovery meetings center around Big Book topics or pages selected by the Trusted Servant. The Trusted Servant speaks about the Big Book topic or pages selected and opens the meeting up for discussion for all attendees. \nCLICK HERE to join the meeting!
URL:https://myrecovery.org/event/daa-climb-the-mountain-format-big-book-discussion/2026-05-19/
CATEGORIES:AA,Big Book,DAA
ATTACH;FMTTYPE=image/jpeg:https://myrecovery.org/wp-content/uploads/2024/02/DAA-Climb-the-Mountain-Format-Big-Book-Discussion-1.jpg
LOCATION:https://zoom.us/j/431251368?pwd=dmxVTXQ5Y3JNY0h3K1JPdkZyV1ljQT09
END:VEVENT
BEGIN:VEVENT
DTSTART;TZID=UTC:20260526T190000
DTEND;TZID=UTC:20260526T200000
DTSTAMP:20260421T171852
CREATED:20250611T222644Z
LAST-MODIFIED:20250613T170428Z
UID:10014588-1779822000-1779825600@myrecovery.org
SUMMARY:DAA - Climb the Mountain - Format: Big Book Discussion
DESCRIPTION:Big Book or Discussion: Recovery meetings center around Big Book topics or pages selected by the Trusted Servant. The Trusted Servant speaks about the Big Book topic or pages selected and opens the meeting up for discussion for all attendees. \nCLICK HERE to join the meeting!
URL:https://myrecovery.org/event/daa-climb-the-mountain-format-big-book-discussion/2026-05-26/
CATEGORIES:AA,Big Book,DAA
ATTACH;FMTTYPE=image/jpeg:https://myrecovery.org/wp-content/uploads/2024/02/DAA-Climb-the-Mountain-Format-Big-Book-Discussion-1.jpg
LOCATION:https://zoom.us/j/431251368?pwd=dmxVTXQ5Y3JNY0h3K1JPdkZyV1ljQT09
END:VEVENT
BEGIN:VEVENT
DTSTART;TZID=UTC:20260602T190000
DTEND;TZID=UTC:20260602T200000
DTSTAMP:20260421T171852
CREATED:20250611T222644Z
LAST-MODIFIED:20250613T170428Z
UID:10014589-1780426800-1780430400@myrecovery.org
SUMMARY:DAA - Climb the Mountain - Format: Big Book Discussion
DESCRIPTION:Big Book or Discussion: Recovery meetings center around Big Book topics or pages selected by the Trusted Servant. The Trusted Servant speaks about the Big Book topic or pages selected and opens the meeting up for discussion for all attendees. \nCLICK HERE to join the meeting!
URL:https://myrecovery.org/event/daa-climb-the-mountain-format-big-book-discussion/2026-06-02/
CATEGORIES:AA,Big Book,DAA
ATTACH;FMTTYPE=image/jpeg:https://myrecovery.org/wp-content/uploads/2024/02/DAA-Climb-the-Mountain-Format-Big-Book-Discussion-1.jpg
LOCATION:https://zoom.us/j/431251368?pwd=dmxVTXQ5Y3JNY0h3K1JPdkZyV1ljQT09
END:VEVENT
BEGIN:VEVENT
DTSTART;TZID=UTC:20260609T190000
DTEND;TZID=UTC:20260609T200000
DTSTAMP:20260421T171852
CREATED:20250611T222644Z
LAST-MODIFIED:20250613T170428Z
UID:10014590-1781031600-1781035200@myrecovery.org
SUMMARY:DAA - Climb the Mountain - Format: Big Book Discussion
DESCRIPTION:Big Book or Discussion: Recovery meetings center around Big Book topics or pages selected by the Trusted Servant. The Trusted Servant speaks about the Big Book topic or pages selected and opens the meeting up for discussion for all attendees. \nCLICK HERE to join the meeting!
URL:https://myrecovery.org/event/daa-climb-the-mountain-format-big-book-discussion/2026-06-09/
CATEGORIES:AA,Big Book,DAA
ATTACH;FMTTYPE=image/jpeg:https://myrecovery.org/wp-content/uploads/2024/02/DAA-Climb-the-Mountain-Format-Big-Book-Discussion-1.jpg
LOCATION:https://zoom.us/j/431251368?pwd=dmxVTXQ5Y3JNY0h3K1JPdkZyV1ljQT09
END:VEVENT
BEGIN:VEVENT
DTSTART;TZID=UTC:20260616T190000
DTEND;TZID=UTC:20260616T200000
DTSTAMP:20260421T171852
CREATED:20250611T222644Z
LAST-MODIFIED:20250613T170428Z
UID:10014591-1781636400-1781640000@myrecovery.org
SUMMARY:DAA - Climb the Mountain - Format: Big Book Discussion
DESCRIPTION:Big Book or Discussion: Recovery meetings center around Big Book topics or pages selected by the Trusted Servant. The Trusted Servant speaks about the Big Book topic or pages selected and opens the meeting up for discussion for all attendees. \nCLICK HERE to join the meeting!
URL:https://myrecovery.org/event/daa-climb-the-mountain-format-big-book-discussion/2026-06-16/
CATEGORIES:AA,Big Book,DAA
ATTACH;FMTTYPE=image/jpeg:https://myrecovery.org/wp-content/uploads/2024/02/DAA-Climb-the-Mountain-Format-Big-Book-Discussion-1.jpg
LOCATION:https://zoom.us/j/431251368?pwd=dmxVTXQ5Y3JNY0h3K1JPdkZyV1ljQT09
END:VEVENT
BEGIN:VEVENT
DTSTART;TZID=UTC:20260623T190000
DTEND;TZID=UTC:20260623T200000
DTSTAMP:20260421T171852
CREATED:20250611T222644Z
LAST-MODIFIED:20250613T170428Z
UID:10014592-1782241200-1782244800@myrecovery.org
SUMMARY:DAA - Climb the Mountain - Format: Big Book Discussion
DESCRIPTION:Big Book or Discussion: Recovery meetings center around Big Book topics or pages selected by the Trusted Servant. The Trusted Servant speaks about the Big Book topic or pages selected and opens the meeting up for discussion for all attendees. \nCLICK HERE to join the meeting!
URL:https://myrecovery.org/event/daa-climb-the-mountain-format-big-book-discussion/2026-06-23/
CATEGORIES:AA,Big Book,DAA
ATTACH;FMTTYPE=image/jpeg:https://myrecovery.org/wp-content/uploads/2024/02/DAA-Climb-the-Mountain-Format-Big-Book-Discussion-1.jpg
LOCATION:https://zoom.us/j/431251368?pwd=dmxVTXQ5Y3JNY0h3K1JPdkZyV1ljQT09
END:VEVENT
BEGIN:VEVENT
DTSTART;TZID=UTC:20260630T190000
DTEND;TZID=UTC:20260630T200000
DTSTAMP:20260421T171852
CREATED:20250611T222644Z
LAST-MODIFIED:20250613T170428Z
UID:10014593-1782846000-1782849600@myrecovery.org
SUMMARY:DAA - Climb the Mountain - Format: Big Book Discussion
DESCRIPTION:Big Book or Discussion: Recovery meetings center around Big Book topics or pages selected by the Trusted Servant. The Trusted Servant speaks about the Big Book topic or pages selected and opens the meeting up for discussion for all attendees. \nCLICK HERE to join the meeting!
URL:https://myrecovery.org/event/daa-climb-the-mountain-format-big-book-discussion/2026-06-30/
CATEGORIES:AA,Big Book,DAA
ATTACH;FMTTYPE=image/jpeg:https://myrecovery.org/wp-content/uploads/2024/02/DAA-Climb-the-Mountain-Format-Big-Book-Discussion-1.jpg
LOCATION:https://zoom.us/j/431251368?pwd=dmxVTXQ5Y3JNY0h3K1JPdkZyV1ljQT09
END:VEVENT
BEGIN:VEVENT
DTSTART;TZID=UTC:20260707T190000
DTEND;TZID=UTC:20260707T200000
DTSTAMP:20260421T171852
CREATED:20250611T222644Z
LAST-MODIFIED:20250613T170428Z
UID:10014594-1783450800-1783454400@myrecovery.org
SUMMARY:DAA - Climb the Mountain - Format: Big Book Discussion
DESCRIPTION:Big Book or Discussion: Recovery meetings center around Big Book topics or pages selected by the Trusted Servant. The Trusted Servant speaks about the Big Book topic or pages selected and opens the meeting up for discussion for all attendees. \nCLICK HERE to join the meeting!
URL:https://myrecovery.org/event/daa-climb-the-mountain-format-big-book-discussion/2026-07-07/
CATEGORIES:AA,Big Book,DAA
ATTACH;FMTTYPE=image/jpeg:https://myrecovery.org/wp-content/uploads/2024/02/DAA-Climb-the-Mountain-Format-Big-Book-Discussion-1.jpg
LOCATION:https://zoom.us/j/431251368?pwd=dmxVTXQ5Y3JNY0h3K1JPdkZyV1ljQT09
END:VEVENT
BEGIN:VEVENT
DTSTART;TZID=UTC:20260714T190000
DTEND;TZID=UTC:20260714T200000
DTSTAMP:20260421T171852
CREATED:20250611T222644Z
LAST-MODIFIED:20250613T170428Z
UID:10014595-1784055600-1784059200@myrecovery.org
SUMMARY:DAA - Climb the Mountain - Format: Big Book Discussion
DESCRIPTION:Big Book or Discussion: Recovery meetings center around Big Book topics or pages selected by the Trusted Servant. The Trusted Servant speaks about the Big Book topic or pages selected and opens the meeting up for discussion for all attendees. \nCLICK HERE to join the meeting!
URL:https://myrecovery.org/event/daa-climb-the-mountain-format-big-book-discussion/2026-07-14/
CATEGORIES:AA,Big Book,DAA
ATTACH;FMTTYPE=image/jpeg:https://myrecovery.org/wp-content/uploads/2024/02/DAA-Climb-the-Mountain-Format-Big-Book-Discussion-1.jpg
LOCATION:https://zoom.us/j/431251368?pwd=dmxVTXQ5Y3JNY0h3K1JPdkZyV1ljQT09
END:VEVENT
END:VCALENDAR