BEGIN:VCALENDAR
VERSION:2.0
PRODID:-//My Recovery - ECPv6.15.17//NONSGML v1.0//EN
CALSCALE:GREGORIAN
METHOD:PUBLISH
X-WR-CALNAME:My Recovery
X-ORIGINAL-URL:https://myrecovery.org
X-WR-CALDESC:Events for My Recovery
REFRESH-INTERVAL;VALUE=DURATION:PT1H
X-Robots-Tag:noindex
X-PUBLISHED-TTL:PT1H
BEGIN:VTIMEZONE
TZID:UTC
BEGIN:STANDARD
TZOFFSETFROM:+0000
TZOFFSETTO:+0000
TZNAME:UTC
DTSTART:20270101T000000
END:STANDARD
END:VTIMEZONE
BEGIN:VEVENT
DTSTART;TZID=UTC:20280319T200000
DTEND;TZID=UTC:20280319T210000
DTSTAMP:20260421T045126
CREATED:20250611T222346Z
LAST-MODIFIED:20250708T160447Z
UID:10016892-1837108800-1837112400@myrecovery.org
SUMMARY:AA - 265 - Format: As Bill See's It
DESCRIPTION:As Bill See’s It: Recovery meetings focus on topics contained in the book “As Bill Sees It.”  The Trusted Servant selects and reads a page from the book and speaks about the topic and opens the meeting up for discussion for all attendees. \nCLICK HERE to join the meeting!
URL:https://myrecovery.org/event/aa-265-format-as-bill-sees-it/2028-03-19/
CATEGORIES:AA,As Bill See's It
ATTACH;FMTTYPE=image/jpeg:https://myrecovery.org/wp-content/uploads/2024/02/AA-265-Format-As-Bill-Sees-It.jpg
LOCATION:https://zoom.us/j/96438156982?pwd=UGlNUWZQWnlqLzJ5YUdEcDhQa2hvZz09
END:VEVENT
BEGIN:VEVENT
DTSTART;TZID=UTC:20280326T200000
DTEND;TZID=UTC:20280326T210000
DTSTAMP:20260421T045126
CREATED:20250611T222346Z
LAST-MODIFIED:20250708T160447Z
UID:10016893-1837713600-1837717200@myrecovery.org
SUMMARY:AA - 265 - Format: As Bill See's It
DESCRIPTION:As Bill See’s It: Recovery meetings focus on topics contained in the book “As Bill Sees It.”  The Trusted Servant selects and reads a page from the book and speaks about the topic and opens the meeting up for discussion for all attendees. \nCLICK HERE to join the meeting!
URL:https://myrecovery.org/event/aa-265-format-as-bill-sees-it/2028-03-26/
CATEGORIES:AA,As Bill See's It
ATTACH;FMTTYPE=image/jpeg:https://myrecovery.org/wp-content/uploads/2024/02/AA-265-Format-As-Bill-Sees-It.jpg
LOCATION:https://zoom.us/j/96438156982?pwd=UGlNUWZQWnlqLzJ5YUdEcDhQa2hvZz09
END:VEVENT
BEGIN:VEVENT
DTSTART;TZID=UTC:20280402T200000
DTEND;TZID=UTC:20280402T210000
DTSTAMP:20260421T045126
CREATED:20250611T222346Z
LAST-MODIFIED:20250708T160447Z
UID:10016894-1838318400-1838322000@myrecovery.org
SUMMARY:AA - 265 - Format: As Bill See's It
DESCRIPTION:As Bill See’s It: Recovery meetings focus on topics contained in the book “As Bill Sees It.”  The Trusted Servant selects and reads a page from the book and speaks about the topic and opens the meeting up for discussion for all attendees. \nCLICK HERE to join the meeting!
URL:https://myrecovery.org/event/aa-265-format-as-bill-sees-it/2028-04-02/
CATEGORIES:AA,As Bill See's It
ATTACH;FMTTYPE=image/jpeg:https://myrecovery.org/wp-content/uploads/2024/02/AA-265-Format-As-Bill-Sees-It.jpg
LOCATION:https://zoom.us/j/96438156982?pwd=UGlNUWZQWnlqLzJ5YUdEcDhQa2hvZz09
END:VEVENT
BEGIN:VEVENT
DTSTART;TZID=UTC:20280409T200000
DTEND;TZID=UTC:20280409T210000
DTSTAMP:20260421T045126
CREATED:20250611T222346Z
LAST-MODIFIED:20250708T160447Z
UID:10016895-1838923200-1838926800@myrecovery.org
SUMMARY:AA - 265 - Format: As Bill See's It
DESCRIPTION:As Bill See’s It: Recovery meetings focus on topics contained in the book “As Bill Sees It.”  The Trusted Servant selects and reads a page from the book and speaks about the topic and opens the meeting up for discussion for all attendees. \nCLICK HERE to join the meeting!
URL:https://myrecovery.org/event/aa-265-format-as-bill-sees-it/2028-04-09/
CATEGORIES:AA,As Bill See's It
ATTACH;FMTTYPE=image/jpeg:https://myrecovery.org/wp-content/uploads/2024/02/AA-265-Format-As-Bill-Sees-It.jpg
LOCATION:https://zoom.us/j/96438156982?pwd=UGlNUWZQWnlqLzJ5YUdEcDhQa2hvZz09
END:VEVENT
BEGIN:VEVENT
DTSTART;TZID=UTC:20280416T200000
DTEND;TZID=UTC:20280416T210000
DTSTAMP:20260421T045126
CREATED:20250611T222346Z
LAST-MODIFIED:20250708T160447Z
UID:10016896-1839528000-1839531600@myrecovery.org
SUMMARY:AA - 265 - Format: As Bill See's It
DESCRIPTION:As Bill See’s It: Recovery meetings focus on topics contained in the book “As Bill Sees It.”  The Trusted Servant selects and reads a page from the book and speaks about the topic and opens the meeting up for discussion for all attendees. \nCLICK HERE to join the meeting!
URL:https://myrecovery.org/event/aa-265-format-as-bill-sees-it/2028-04-16/
CATEGORIES:AA,As Bill See's It
ATTACH;FMTTYPE=image/jpeg:https://myrecovery.org/wp-content/uploads/2024/02/AA-265-Format-As-Bill-Sees-It.jpg
LOCATION:https://zoom.us/j/96438156982?pwd=UGlNUWZQWnlqLzJ5YUdEcDhQa2hvZz09
END:VEVENT
BEGIN:VEVENT
DTSTART;TZID=UTC:20280423T200000
DTEND;TZID=UTC:20280423T210000
DTSTAMP:20260421T045126
CREATED:20250611T222346Z
LAST-MODIFIED:20250708T160447Z
UID:10016897-1840132800-1840136400@myrecovery.org
SUMMARY:AA - 265 - Format: As Bill See's It
DESCRIPTION:As Bill See’s It: Recovery meetings focus on topics contained in the book “As Bill Sees It.”  The Trusted Servant selects and reads a page from the book and speaks about the topic and opens the meeting up for discussion for all attendees. \nCLICK HERE to join the meeting!
URL:https://myrecovery.org/event/aa-265-format-as-bill-sees-it/2028-04-23/
CATEGORIES:AA,As Bill See's It
ATTACH;FMTTYPE=image/jpeg:https://myrecovery.org/wp-content/uploads/2024/02/AA-265-Format-As-Bill-Sees-It.jpg
LOCATION:https://zoom.us/j/96438156982?pwd=UGlNUWZQWnlqLzJ5YUdEcDhQa2hvZz09
END:VEVENT
BEGIN:VEVENT
DTSTART;TZID=UTC:20280430T200000
DTEND;TZID=UTC:20280430T210000
DTSTAMP:20260421T045126
CREATED:20250611T222346Z
LAST-MODIFIED:20250708T160447Z
UID:10016898-1840737600-1840741200@myrecovery.org
SUMMARY:AA - 265 - Format: As Bill See's It
DESCRIPTION:As Bill See’s It: Recovery meetings focus on topics contained in the book “As Bill Sees It.”  The Trusted Servant selects and reads a page from the book and speaks about the topic and opens the meeting up for discussion for all attendees. \nCLICK HERE to join the meeting!
URL:https://myrecovery.org/event/aa-265-format-as-bill-sees-it/2028-04-30/
CATEGORIES:AA,As Bill See's It
ATTACH;FMTTYPE=image/jpeg:https://myrecovery.org/wp-content/uploads/2024/02/AA-265-Format-As-Bill-Sees-It.jpg
LOCATION:https://zoom.us/j/96438156982?pwd=UGlNUWZQWnlqLzJ5YUdEcDhQa2hvZz09
END:VEVENT
BEGIN:VEVENT
DTSTART;TZID=UTC:20280507T200000
DTEND;TZID=UTC:20280507T210000
DTSTAMP:20260421T045126
CREATED:20250611T222346Z
LAST-MODIFIED:20250708T160447Z
UID:10016899-1841342400-1841346000@myrecovery.org
SUMMARY:AA - 265 - Format: As Bill See's It
DESCRIPTION:As Bill See’s It: Recovery meetings focus on topics contained in the book “As Bill Sees It.”  The Trusted Servant selects and reads a page from the book and speaks about the topic and opens the meeting up for discussion for all attendees. \nCLICK HERE to join the meeting!
URL:https://myrecovery.org/event/aa-265-format-as-bill-sees-it/2028-05-07/
CATEGORIES:AA,As Bill See's It
ATTACH;FMTTYPE=image/jpeg:https://myrecovery.org/wp-content/uploads/2024/02/AA-265-Format-As-Bill-Sees-It.jpg
LOCATION:https://zoom.us/j/96438156982?pwd=UGlNUWZQWnlqLzJ5YUdEcDhQa2hvZz09
END:VEVENT
BEGIN:VEVENT
DTSTART;TZID=UTC:20280514T200000
DTEND;TZID=UTC:20280514T210000
DTSTAMP:20260421T045126
CREATED:20250611T222346Z
LAST-MODIFIED:20250708T160447Z
UID:10016900-1841947200-1841950800@myrecovery.org
SUMMARY:AA - 265 - Format: As Bill See's It
DESCRIPTION:As Bill See’s It: Recovery meetings focus on topics contained in the book “As Bill Sees It.”  The Trusted Servant selects and reads a page from the book and speaks about the topic and opens the meeting up for discussion for all attendees. \nCLICK HERE to join the meeting!
URL:https://myrecovery.org/event/aa-265-format-as-bill-sees-it/2028-05-14/
CATEGORIES:AA,As Bill See's It
ATTACH;FMTTYPE=image/jpeg:https://myrecovery.org/wp-content/uploads/2024/02/AA-265-Format-As-Bill-Sees-It.jpg
LOCATION:https://zoom.us/j/96438156982?pwd=UGlNUWZQWnlqLzJ5YUdEcDhQa2hvZz09
END:VEVENT
BEGIN:VEVENT
DTSTART;TZID=UTC:20280521T200000
DTEND;TZID=UTC:20280521T210000
DTSTAMP:20260421T045126
CREATED:20250611T222346Z
LAST-MODIFIED:20250708T160447Z
UID:10016901-1842552000-1842555600@myrecovery.org
SUMMARY:AA - 265 - Format: As Bill See's It
DESCRIPTION:As Bill See’s It: Recovery meetings focus on topics contained in the book “As Bill Sees It.”  The Trusted Servant selects and reads a page from the book and speaks about the topic and opens the meeting up for discussion for all attendees. \nCLICK HERE to join the meeting!
URL:https://myrecovery.org/event/aa-265-format-as-bill-sees-it/2028-05-21/
CATEGORIES:AA,As Bill See's It
ATTACH;FMTTYPE=image/jpeg:https://myrecovery.org/wp-content/uploads/2024/02/AA-265-Format-As-Bill-Sees-It.jpg
LOCATION:https://zoom.us/j/96438156982?pwd=UGlNUWZQWnlqLzJ5YUdEcDhQa2hvZz09
END:VEVENT
BEGIN:VEVENT
DTSTART;TZID=UTC:20280528T200000
DTEND;TZID=UTC:20280528T210000
DTSTAMP:20260421T045126
CREATED:20250611T222346Z
LAST-MODIFIED:20250708T160447Z
UID:10016902-1843156800-1843160400@myrecovery.org
SUMMARY:AA - 265 - Format: As Bill See's It
DESCRIPTION:As Bill See’s It: Recovery meetings focus on topics contained in the book “As Bill Sees It.”  The Trusted Servant selects and reads a page from the book and speaks about the topic and opens the meeting up for discussion for all attendees. \nCLICK HERE to join the meeting!
URL:https://myrecovery.org/event/aa-265-format-as-bill-sees-it/2028-05-28/
CATEGORIES:AA,As Bill See's It
ATTACH;FMTTYPE=image/jpeg:https://myrecovery.org/wp-content/uploads/2024/02/AA-265-Format-As-Bill-Sees-It.jpg
LOCATION:https://zoom.us/j/96438156982?pwd=UGlNUWZQWnlqLzJ5YUdEcDhQa2hvZz09
END:VEVENT
BEGIN:VEVENT
DTSTART;TZID=UTC:20280604T200000
DTEND;TZID=UTC:20280604T210000
DTSTAMP:20260421T045126
CREATED:20250611T222346Z
LAST-MODIFIED:20250708T160447Z
UID:10016903-1843761600-1843765200@myrecovery.org
SUMMARY:AA - 265 - Format: As Bill See's It
DESCRIPTION:As Bill See’s It: Recovery meetings focus on topics contained in the book “As Bill Sees It.”  The Trusted Servant selects and reads a page from the book and speaks about the topic and opens the meeting up for discussion for all attendees. \nCLICK HERE to join the meeting!
URL:https://myrecovery.org/event/aa-265-format-as-bill-sees-it/2028-06-04/
CATEGORIES:AA,As Bill See's It
ATTACH;FMTTYPE=image/jpeg:https://myrecovery.org/wp-content/uploads/2024/02/AA-265-Format-As-Bill-Sees-It.jpg
LOCATION:https://zoom.us/j/96438156982?pwd=UGlNUWZQWnlqLzJ5YUdEcDhQa2hvZz09
END:VEVENT
BEGIN:VEVENT
DTSTART;TZID=UTC:20280611T200000
DTEND;TZID=UTC:20280611T210000
DTSTAMP:20260421T045126
CREATED:20250611T222346Z
LAST-MODIFIED:20250708T160447Z
UID:10016904-1844366400-1844370000@myrecovery.org
SUMMARY:AA - 265 - Format: As Bill See's It
DESCRIPTION:As Bill See’s It: Recovery meetings focus on topics contained in the book “As Bill Sees It.”  The Trusted Servant selects and reads a page from the book and speaks about the topic and opens the meeting up for discussion for all attendees. \nCLICK HERE to join the meeting!
URL:https://myrecovery.org/event/aa-265-format-as-bill-sees-it/2028-06-11/
CATEGORIES:AA,As Bill See's It
ATTACH;FMTTYPE=image/jpeg:https://myrecovery.org/wp-content/uploads/2024/02/AA-265-Format-As-Bill-Sees-It.jpg
LOCATION:https://zoom.us/j/96438156982?pwd=UGlNUWZQWnlqLzJ5YUdEcDhQa2hvZz09
END:VEVENT
BEGIN:VEVENT
DTSTART;TZID=UTC:20280618T200000
DTEND;TZID=UTC:20280618T210000
DTSTAMP:20260421T045126
CREATED:20250611T222346Z
LAST-MODIFIED:20250708T160447Z
UID:10016905-1844971200-1844974800@myrecovery.org
SUMMARY:AA - 265 - Format: As Bill See's It
DESCRIPTION:As Bill See’s It: Recovery meetings focus on topics contained in the book “As Bill Sees It.”  The Trusted Servant selects and reads a page from the book and speaks about the topic and opens the meeting up for discussion for all attendees. \nCLICK HERE to join the meeting!
URL:https://myrecovery.org/event/aa-265-format-as-bill-sees-it/2028-06-18/
CATEGORIES:AA,As Bill See's It
ATTACH;FMTTYPE=image/jpeg:https://myrecovery.org/wp-content/uploads/2024/02/AA-265-Format-As-Bill-Sees-It.jpg
LOCATION:https://zoom.us/j/96438156982?pwd=UGlNUWZQWnlqLzJ5YUdEcDhQa2hvZz09
END:VEVENT
BEGIN:VEVENT
DTSTART;TZID=UTC:20280625T200000
DTEND;TZID=UTC:20280625T210000
DTSTAMP:20260421T045126
CREATED:20250611T222346Z
LAST-MODIFIED:20250708T160447Z
UID:10016906-1845576000-1845579600@myrecovery.org
SUMMARY:AA - 265 - Format: As Bill See's It
DESCRIPTION:As Bill See’s It: Recovery meetings focus on topics contained in the book “As Bill Sees It.”  The Trusted Servant selects and reads a page from the book and speaks about the topic and opens the meeting up for discussion for all attendees. \nCLICK HERE to join the meeting!
URL:https://myrecovery.org/event/aa-265-format-as-bill-sees-it/2028-06-25/
CATEGORIES:AA,As Bill See's It
ATTACH;FMTTYPE=image/jpeg:https://myrecovery.org/wp-content/uploads/2024/02/AA-265-Format-As-Bill-Sees-It.jpg
LOCATION:https://zoom.us/j/96438156982?pwd=UGlNUWZQWnlqLzJ5YUdEcDhQa2hvZz09
END:VEVENT
BEGIN:VEVENT
DTSTART;TZID=UTC:20280702T200000
DTEND;TZID=UTC:20280702T210000
DTSTAMP:20260421T045126
CREATED:20250611T222346Z
LAST-MODIFIED:20250708T160447Z
UID:10016907-1846180800-1846184400@myrecovery.org
SUMMARY:AA - 265 - Format: As Bill See's It
DESCRIPTION:As Bill See’s It: Recovery meetings focus on topics contained in the book “As Bill Sees It.”  The Trusted Servant selects and reads a page from the book and speaks about the topic and opens the meeting up for discussion for all attendees. \nCLICK HERE to join the meeting!
URL:https://myrecovery.org/event/aa-265-format-as-bill-sees-it/2028-07-02/
CATEGORIES:AA,As Bill See's It
ATTACH;FMTTYPE=image/jpeg:https://myrecovery.org/wp-content/uploads/2024/02/AA-265-Format-As-Bill-Sees-It.jpg
LOCATION:https://zoom.us/j/96438156982?pwd=UGlNUWZQWnlqLzJ5YUdEcDhQa2hvZz09
END:VEVENT
BEGIN:VEVENT
DTSTART;TZID=UTC:20280709T200000
DTEND;TZID=UTC:20280709T210000
DTSTAMP:20260421T045126
CREATED:20250611T222346Z
LAST-MODIFIED:20250708T160447Z
UID:10016908-1846785600-1846789200@myrecovery.org
SUMMARY:AA - 265 - Format: As Bill See's It
DESCRIPTION:As Bill See’s It: Recovery meetings focus on topics contained in the book “As Bill Sees It.”  The Trusted Servant selects and reads a page from the book and speaks about the topic and opens the meeting up for discussion for all attendees. \nCLICK HERE to join the meeting!
URL:https://myrecovery.org/event/aa-265-format-as-bill-sees-it/2028-07-09/
CATEGORIES:AA,As Bill See's It
ATTACH;FMTTYPE=image/jpeg:https://myrecovery.org/wp-content/uploads/2024/02/AA-265-Format-As-Bill-Sees-It.jpg
LOCATION:https://zoom.us/j/96438156982?pwd=UGlNUWZQWnlqLzJ5YUdEcDhQa2hvZz09
END:VEVENT
BEGIN:VEVENT
DTSTART;TZID=UTC:20280716T200000
DTEND;TZID=UTC:20280716T210000
DTSTAMP:20260421T045126
CREATED:20250611T222346Z
LAST-MODIFIED:20250708T160447Z
UID:10016909-1847390400-1847394000@myrecovery.org
SUMMARY:AA - 265 - Format: As Bill See's It
DESCRIPTION:As Bill See’s It: Recovery meetings focus on topics contained in the book “As Bill Sees It.”  The Trusted Servant selects and reads a page from the book and speaks about the topic and opens the meeting up for discussion for all attendees. \nCLICK HERE to join the meeting!
URL:https://myrecovery.org/event/aa-265-format-as-bill-sees-it/2028-07-16/
CATEGORIES:AA,As Bill See's It
ATTACH;FMTTYPE=image/jpeg:https://myrecovery.org/wp-content/uploads/2024/02/AA-265-Format-As-Bill-Sees-It.jpg
LOCATION:https://zoom.us/j/96438156982?pwd=UGlNUWZQWnlqLzJ5YUdEcDhQa2hvZz09
END:VEVENT
BEGIN:VEVENT
DTSTART;TZID=UTC:20280723T200000
DTEND;TZID=UTC:20280723T210000
DTSTAMP:20260421T045126
CREATED:20250611T222346Z
LAST-MODIFIED:20250708T160447Z
UID:10016910-1847995200-1847998800@myrecovery.org
SUMMARY:AA - 265 - Format: As Bill See's It
DESCRIPTION:As Bill See’s It: Recovery meetings focus on topics contained in the book “As Bill Sees It.”  The Trusted Servant selects and reads a page from the book and speaks about the topic and opens the meeting up for discussion for all attendees. \nCLICK HERE to join the meeting!
URL:https://myrecovery.org/event/aa-265-format-as-bill-sees-it/2028-07-23/
CATEGORIES:AA,As Bill See's It
ATTACH;FMTTYPE=image/jpeg:https://myrecovery.org/wp-content/uploads/2024/02/AA-265-Format-As-Bill-Sees-It.jpg
LOCATION:https://zoom.us/j/96438156982?pwd=UGlNUWZQWnlqLzJ5YUdEcDhQa2hvZz09
END:VEVENT
BEGIN:VEVENT
DTSTART;TZID=UTC:20280730T200000
DTEND;TZID=UTC:20280730T210000
DTSTAMP:20260421T045126
CREATED:20250611T222346Z
LAST-MODIFIED:20250708T160447Z
UID:10016911-1848600000-1848603600@myrecovery.org
SUMMARY:AA - 265 - Format: As Bill See's It
DESCRIPTION:As Bill See’s It: Recovery meetings focus on topics contained in the book “As Bill Sees It.”  The Trusted Servant selects and reads a page from the book and speaks about the topic and opens the meeting up for discussion for all attendees. \nCLICK HERE to join the meeting!
URL:https://myrecovery.org/event/aa-265-format-as-bill-sees-it/2028-07-30/
CATEGORIES:AA,As Bill See's It
ATTACH;FMTTYPE=image/jpeg:https://myrecovery.org/wp-content/uploads/2024/02/AA-265-Format-As-Bill-Sees-It.jpg
LOCATION:https://zoom.us/j/96438156982?pwd=UGlNUWZQWnlqLzJ5YUdEcDhQa2hvZz09
END:VEVENT
BEGIN:VEVENT
DTSTART;TZID=UTC:20280806T200000
DTEND;TZID=UTC:20280806T210000
DTSTAMP:20260421T045126
CREATED:20250611T222346Z
LAST-MODIFIED:20250708T160447Z
UID:10016912-1849204800-1849208400@myrecovery.org
SUMMARY:AA - 265 - Format: As Bill See's It
DESCRIPTION:As Bill See’s It: Recovery meetings focus on topics contained in the book “As Bill Sees It.”  The Trusted Servant selects and reads a page from the book and speaks about the topic and opens the meeting up for discussion for all attendees. \nCLICK HERE to join the meeting!
URL:https://myrecovery.org/event/aa-265-format-as-bill-sees-it/2028-08-06/
CATEGORIES:AA,As Bill See's It
ATTACH;FMTTYPE=image/jpeg:https://myrecovery.org/wp-content/uploads/2024/02/AA-265-Format-As-Bill-Sees-It.jpg
LOCATION:https://zoom.us/j/96438156982?pwd=UGlNUWZQWnlqLzJ5YUdEcDhQa2hvZz09
END:VEVENT
BEGIN:VEVENT
DTSTART;TZID=UTC:20280813T200000
DTEND;TZID=UTC:20280813T210000
DTSTAMP:20260421T045126
CREATED:20250611T222346Z
LAST-MODIFIED:20250708T160447Z
UID:10016913-1849809600-1849813200@myrecovery.org
SUMMARY:AA - 265 - Format: As Bill See's It
DESCRIPTION:As Bill See’s It: Recovery meetings focus on topics contained in the book “As Bill Sees It.”  The Trusted Servant selects and reads a page from the book and speaks about the topic and opens the meeting up for discussion for all attendees. \nCLICK HERE to join the meeting!
URL:https://myrecovery.org/event/aa-265-format-as-bill-sees-it/2028-08-13/
CATEGORIES:AA,As Bill See's It
ATTACH;FMTTYPE=image/jpeg:https://myrecovery.org/wp-content/uploads/2024/02/AA-265-Format-As-Bill-Sees-It.jpg
LOCATION:https://zoom.us/j/96438156982?pwd=UGlNUWZQWnlqLzJ5YUdEcDhQa2hvZz09
END:VEVENT
BEGIN:VEVENT
DTSTART;TZID=UTC:20280820T200000
DTEND;TZID=UTC:20280820T210000
DTSTAMP:20260421T045126
CREATED:20250611T222346Z
LAST-MODIFIED:20250708T160447Z
UID:10016914-1850414400-1850418000@myrecovery.org
SUMMARY:AA - 265 - Format: As Bill See's It
DESCRIPTION:As Bill See’s It: Recovery meetings focus on topics contained in the book “As Bill Sees It.”  The Trusted Servant selects and reads a page from the book and speaks about the topic and opens the meeting up for discussion for all attendees. \nCLICK HERE to join the meeting!
URL:https://myrecovery.org/event/aa-265-format-as-bill-sees-it/2028-08-20/
CATEGORIES:AA,As Bill See's It
ATTACH;FMTTYPE=image/jpeg:https://myrecovery.org/wp-content/uploads/2024/02/AA-265-Format-As-Bill-Sees-It.jpg
LOCATION:https://zoom.us/j/96438156982?pwd=UGlNUWZQWnlqLzJ5YUdEcDhQa2hvZz09
END:VEVENT
BEGIN:VEVENT
DTSTART;TZID=UTC:20280827T200000
DTEND;TZID=UTC:20280827T210000
DTSTAMP:20260421T045126
CREATED:20250611T222346Z
LAST-MODIFIED:20250708T160447Z
UID:10016915-1851019200-1851022800@myrecovery.org
SUMMARY:AA - 265 - Format: As Bill See's It
DESCRIPTION:As Bill See’s It: Recovery meetings focus on topics contained in the book “As Bill Sees It.”  The Trusted Servant selects and reads a page from the book and speaks about the topic and opens the meeting up for discussion for all attendees. \nCLICK HERE to join the meeting!
URL:https://myrecovery.org/event/aa-265-format-as-bill-sees-it/2028-08-27/
CATEGORIES:AA,As Bill See's It
ATTACH;FMTTYPE=image/jpeg:https://myrecovery.org/wp-content/uploads/2024/02/AA-265-Format-As-Bill-Sees-It.jpg
LOCATION:https://zoom.us/j/96438156982?pwd=UGlNUWZQWnlqLzJ5YUdEcDhQa2hvZz09
END:VEVENT
BEGIN:VEVENT
DTSTART;TZID=UTC:20280903T200000
DTEND;TZID=UTC:20280903T210000
DTSTAMP:20260421T045126
CREATED:20250611T222346Z
LAST-MODIFIED:20250708T160447Z
UID:10016916-1851624000-1851627600@myrecovery.org
SUMMARY:AA - 265 - Format: As Bill See's It
DESCRIPTION:As Bill See’s It: Recovery meetings focus on topics contained in the book “As Bill Sees It.”  The Trusted Servant selects and reads a page from the book and speaks about the topic and opens the meeting up for discussion for all attendees. \nCLICK HERE to join the meeting!
URL:https://myrecovery.org/event/aa-265-format-as-bill-sees-it/2028-09-03/
CATEGORIES:AA,As Bill See's It
ATTACH;FMTTYPE=image/jpeg:https://myrecovery.org/wp-content/uploads/2024/02/AA-265-Format-As-Bill-Sees-It.jpg
LOCATION:https://zoom.us/j/96438156982?pwd=UGlNUWZQWnlqLzJ5YUdEcDhQa2hvZz09
END:VEVENT
BEGIN:VEVENT
DTSTART;TZID=UTC:20280910T200000
DTEND;TZID=UTC:20280910T210000
DTSTAMP:20260421T045126
CREATED:20250611T222346Z
LAST-MODIFIED:20250708T160447Z
UID:10016917-1852228800-1852232400@myrecovery.org
SUMMARY:AA - 265 - Format: As Bill See's It
DESCRIPTION:As Bill See’s It: Recovery meetings focus on topics contained in the book “As Bill Sees It.”  The Trusted Servant selects and reads a page from the book and speaks about the topic and opens the meeting up for discussion for all attendees. \nCLICK HERE to join the meeting!
URL:https://myrecovery.org/event/aa-265-format-as-bill-sees-it/2028-09-10/
CATEGORIES:AA,As Bill See's It
ATTACH;FMTTYPE=image/jpeg:https://myrecovery.org/wp-content/uploads/2024/02/AA-265-Format-As-Bill-Sees-It.jpg
LOCATION:https://zoom.us/j/96438156982?pwd=UGlNUWZQWnlqLzJ5YUdEcDhQa2hvZz09
END:VEVENT
BEGIN:VEVENT
DTSTART;TZID=UTC:20280917T200000
DTEND;TZID=UTC:20280917T210000
DTSTAMP:20260421T045126
CREATED:20250611T222346Z
LAST-MODIFIED:20250708T160447Z
UID:10016918-1852833600-1852837200@myrecovery.org
SUMMARY:AA - 265 - Format: As Bill See's It
DESCRIPTION:As Bill See’s It: Recovery meetings focus on topics contained in the book “As Bill Sees It.”  The Trusted Servant selects and reads a page from the book and speaks about the topic and opens the meeting up for discussion for all attendees. \nCLICK HERE to join the meeting!
URL:https://myrecovery.org/event/aa-265-format-as-bill-sees-it/2028-09-17/
CATEGORIES:AA,As Bill See's It
ATTACH;FMTTYPE=image/jpeg:https://myrecovery.org/wp-content/uploads/2024/02/AA-265-Format-As-Bill-Sees-It.jpg
LOCATION:https://zoom.us/j/96438156982?pwd=UGlNUWZQWnlqLzJ5YUdEcDhQa2hvZz09
END:VEVENT
BEGIN:VEVENT
DTSTART;TZID=UTC:20280924T200000
DTEND;TZID=UTC:20280924T210000
DTSTAMP:20260421T045126
CREATED:20250611T222346Z
LAST-MODIFIED:20250708T160447Z
UID:10016919-1853438400-1853442000@myrecovery.org
SUMMARY:AA - 265 - Format: As Bill See's It
DESCRIPTION:As Bill See’s It: Recovery meetings focus on topics contained in the book “As Bill Sees It.”  The Trusted Servant selects and reads a page from the book and speaks about the topic and opens the meeting up for discussion for all attendees. \nCLICK HERE to join the meeting!
URL:https://myrecovery.org/event/aa-265-format-as-bill-sees-it/2028-09-24/
CATEGORIES:AA,As Bill See's It
ATTACH;FMTTYPE=image/jpeg:https://myrecovery.org/wp-content/uploads/2024/02/AA-265-Format-As-Bill-Sees-It.jpg
LOCATION:https://zoom.us/j/96438156982?pwd=UGlNUWZQWnlqLzJ5YUdEcDhQa2hvZz09
END:VEVENT
BEGIN:VEVENT
DTSTART;TZID=UTC:20281001T200000
DTEND;TZID=UTC:20281001T210000
DTSTAMP:20260421T045126
CREATED:20250611T222346Z
LAST-MODIFIED:20250708T160447Z
UID:10016920-1854043200-1854046800@myrecovery.org
SUMMARY:AA - 265 - Format: As Bill See's It
DESCRIPTION:As Bill See’s It: Recovery meetings focus on topics contained in the book “As Bill Sees It.”  The Trusted Servant selects and reads a page from the book and speaks about the topic and opens the meeting up for discussion for all attendees. \nCLICK HERE to join the meeting!
URL:https://myrecovery.org/event/aa-265-format-as-bill-sees-it/2028-10-01/
CATEGORIES:AA,As Bill See's It
ATTACH;FMTTYPE=image/jpeg:https://myrecovery.org/wp-content/uploads/2024/02/AA-265-Format-As-Bill-Sees-It.jpg
LOCATION:https://zoom.us/j/96438156982?pwd=UGlNUWZQWnlqLzJ5YUdEcDhQa2hvZz09
END:VEVENT
BEGIN:VEVENT
DTSTART;TZID=UTC:20281008T200000
DTEND;TZID=UTC:20281008T210000
DTSTAMP:20260421T045126
CREATED:20250611T222346Z
LAST-MODIFIED:20250708T160447Z
UID:10016921-1854648000-1854651600@myrecovery.org
SUMMARY:AA - 265 - Format: As Bill See's It
DESCRIPTION:As Bill See’s It: Recovery meetings focus on topics contained in the book “As Bill Sees It.”  The Trusted Servant selects and reads a page from the book and speaks about the topic and opens the meeting up for discussion for all attendees. \nCLICK HERE to join the meeting!
URL:https://myrecovery.org/event/aa-265-format-as-bill-sees-it/2028-10-08/
CATEGORIES:AA,As Bill See's It
ATTACH;FMTTYPE=image/jpeg:https://myrecovery.org/wp-content/uploads/2024/02/AA-265-Format-As-Bill-Sees-It.jpg
LOCATION:https://zoom.us/j/96438156982?pwd=UGlNUWZQWnlqLzJ5YUdEcDhQa2hvZz09
END:VEVENT
END:VCALENDAR