BEGIN:VCALENDAR
VERSION:2.0
PRODID:-//My Recovery - ECPv6.15.17//NONSGML v1.0//EN
CALSCALE:GREGORIAN
METHOD:PUBLISH
X-WR-CALNAME:My Recovery
X-ORIGINAL-URL:https://myrecovery.org
X-WR-CALDESC:Events for My Recovery
REFRESH-INTERVAL;VALUE=DURATION:PT1H
X-Robots-Tag:noindex
X-PUBLISHED-TTL:PT1H
BEGIN:VTIMEZONE
TZID:UTC
BEGIN:STANDARD
TZOFFSETFROM:+0000
TZOFFSETTO:+0000
TZNAME:UTC
DTSTART:20270101T000000
END:STANDARD
END:VTIMEZONE
BEGIN:VEVENT
DTSTART;TZID=UTC:20280903T200000
DTEND;TZID=UTC:20280903T210000
DTSTAMP:20260421T061905
CREATED:20250611T222346Z
LAST-MODIFIED:20250708T160447Z
UID:10016916-1851624000-1851627600@myrecovery.org
SUMMARY:AA - 265 - Format: As Bill See's It
DESCRIPTION:As Bill See’s It: Recovery meetings focus on topics contained in the book “As Bill Sees It.”  The Trusted Servant selects and reads a page from the book and speaks about the topic and opens the meeting up for discussion for all attendees. \nCLICK HERE to join the meeting!
URL:https://myrecovery.org/event/aa-265-format-as-bill-sees-it/2028-09-03/
CATEGORIES:AA,As Bill See's It
ATTACH;FMTTYPE=image/jpeg:https://myrecovery.org/wp-content/uploads/2024/02/AA-265-Format-As-Bill-Sees-It.jpg
LOCATION:https://zoom.us/j/96438156982?pwd=UGlNUWZQWnlqLzJ5YUdEcDhQa2hvZz09
END:VEVENT
BEGIN:VEVENT
DTSTART;TZID=UTC:20280910T200000
DTEND;TZID=UTC:20280910T210000
DTSTAMP:20260421T061905
CREATED:20250611T222346Z
LAST-MODIFIED:20250708T160447Z
UID:10016917-1852228800-1852232400@myrecovery.org
SUMMARY:AA - 265 - Format: As Bill See's It
DESCRIPTION:As Bill See’s It: Recovery meetings focus on topics contained in the book “As Bill Sees It.”  The Trusted Servant selects and reads a page from the book and speaks about the topic and opens the meeting up for discussion for all attendees. \nCLICK HERE to join the meeting!
URL:https://myrecovery.org/event/aa-265-format-as-bill-sees-it/2028-09-10/
CATEGORIES:AA,As Bill See's It
ATTACH;FMTTYPE=image/jpeg:https://myrecovery.org/wp-content/uploads/2024/02/AA-265-Format-As-Bill-Sees-It.jpg
LOCATION:https://zoom.us/j/96438156982?pwd=UGlNUWZQWnlqLzJ5YUdEcDhQa2hvZz09
END:VEVENT
BEGIN:VEVENT
DTSTART;TZID=UTC:20280917T200000
DTEND;TZID=UTC:20280917T210000
DTSTAMP:20260421T061905
CREATED:20250611T222346Z
LAST-MODIFIED:20250708T160447Z
UID:10016918-1852833600-1852837200@myrecovery.org
SUMMARY:AA - 265 - Format: As Bill See's It
DESCRIPTION:As Bill See’s It: Recovery meetings focus on topics contained in the book “As Bill Sees It.”  The Trusted Servant selects and reads a page from the book and speaks about the topic and opens the meeting up for discussion for all attendees. \nCLICK HERE to join the meeting!
URL:https://myrecovery.org/event/aa-265-format-as-bill-sees-it/2028-09-17/
CATEGORIES:AA,As Bill See's It
ATTACH;FMTTYPE=image/jpeg:https://myrecovery.org/wp-content/uploads/2024/02/AA-265-Format-As-Bill-Sees-It.jpg
LOCATION:https://zoom.us/j/96438156982?pwd=UGlNUWZQWnlqLzJ5YUdEcDhQa2hvZz09
END:VEVENT
BEGIN:VEVENT
DTSTART;TZID=UTC:20280924T200000
DTEND;TZID=UTC:20280924T210000
DTSTAMP:20260421T061905
CREATED:20250611T222346Z
LAST-MODIFIED:20250708T160447Z
UID:10016919-1853438400-1853442000@myrecovery.org
SUMMARY:AA - 265 - Format: As Bill See's It
DESCRIPTION:As Bill See’s It: Recovery meetings focus on topics contained in the book “As Bill Sees It.”  The Trusted Servant selects and reads a page from the book and speaks about the topic and opens the meeting up for discussion for all attendees. \nCLICK HERE to join the meeting!
URL:https://myrecovery.org/event/aa-265-format-as-bill-sees-it/2028-09-24/
CATEGORIES:AA,As Bill See's It
ATTACH;FMTTYPE=image/jpeg:https://myrecovery.org/wp-content/uploads/2024/02/AA-265-Format-As-Bill-Sees-It.jpg
LOCATION:https://zoom.us/j/96438156982?pwd=UGlNUWZQWnlqLzJ5YUdEcDhQa2hvZz09
END:VEVENT
BEGIN:VEVENT
DTSTART;TZID=UTC:20281001T200000
DTEND;TZID=UTC:20281001T210000
DTSTAMP:20260421T061905
CREATED:20250611T222346Z
LAST-MODIFIED:20250708T160447Z
UID:10016920-1854043200-1854046800@myrecovery.org
SUMMARY:AA - 265 - Format: As Bill See's It
DESCRIPTION:As Bill See’s It: Recovery meetings focus on topics contained in the book “As Bill Sees It.”  The Trusted Servant selects and reads a page from the book and speaks about the topic and opens the meeting up for discussion for all attendees. \nCLICK HERE to join the meeting!
URL:https://myrecovery.org/event/aa-265-format-as-bill-sees-it/2028-10-01/
CATEGORIES:AA,As Bill See's It
ATTACH;FMTTYPE=image/jpeg:https://myrecovery.org/wp-content/uploads/2024/02/AA-265-Format-As-Bill-Sees-It.jpg
LOCATION:https://zoom.us/j/96438156982?pwd=UGlNUWZQWnlqLzJ5YUdEcDhQa2hvZz09
END:VEVENT
BEGIN:VEVENT
DTSTART;TZID=UTC:20281008T200000
DTEND;TZID=UTC:20281008T210000
DTSTAMP:20260421T061905
CREATED:20250611T222346Z
LAST-MODIFIED:20250708T160447Z
UID:10016921-1854648000-1854651600@myrecovery.org
SUMMARY:AA - 265 - Format: As Bill See's It
DESCRIPTION:As Bill See’s It: Recovery meetings focus on topics contained in the book “As Bill Sees It.”  The Trusted Servant selects and reads a page from the book and speaks about the topic and opens the meeting up for discussion for all attendees. \nCLICK HERE to join the meeting!
URL:https://myrecovery.org/event/aa-265-format-as-bill-sees-it/2028-10-08/
CATEGORIES:AA,As Bill See's It
ATTACH;FMTTYPE=image/jpeg:https://myrecovery.org/wp-content/uploads/2024/02/AA-265-Format-As-Bill-Sees-It.jpg
LOCATION:https://zoom.us/j/96438156982?pwd=UGlNUWZQWnlqLzJ5YUdEcDhQa2hvZz09
END:VEVENT
BEGIN:VEVENT
DTSTART;TZID=UTC:20281015T200000
DTEND;TZID=UTC:20281015T210000
DTSTAMP:20260421T061905
CREATED:20250611T222346Z
LAST-MODIFIED:20250708T160447Z
UID:10016922-1855252800-1855256400@myrecovery.org
SUMMARY:AA - 265 - Format: As Bill See's It
DESCRIPTION:As Bill See’s It: Recovery meetings focus on topics contained in the book “As Bill Sees It.”  The Trusted Servant selects and reads a page from the book and speaks about the topic and opens the meeting up for discussion for all attendees. \nCLICK HERE to join the meeting!
URL:https://myrecovery.org/event/aa-265-format-as-bill-sees-it/2028-10-15/
CATEGORIES:AA,As Bill See's It
ATTACH;FMTTYPE=image/jpeg:https://myrecovery.org/wp-content/uploads/2024/02/AA-265-Format-As-Bill-Sees-It.jpg
LOCATION:https://zoom.us/j/96438156982?pwd=UGlNUWZQWnlqLzJ5YUdEcDhQa2hvZz09
END:VEVENT
BEGIN:VEVENT
DTSTART;TZID=UTC:20281022T200000
DTEND;TZID=UTC:20281022T210000
DTSTAMP:20260421T061905
CREATED:20250611T222346Z
LAST-MODIFIED:20250708T160447Z
UID:10016923-1855857600-1855861200@myrecovery.org
SUMMARY:AA - 265 - Format: As Bill See's It
DESCRIPTION:As Bill See’s It: Recovery meetings focus on topics contained in the book “As Bill Sees It.”  The Trusted Servant selects and reads a page from the book and speaks about the topic and opens the meeting up for discussion for all attendees. \nCLICK HERE to join the meeting!
URL:https://myrecovery.org/event/aa-265-format-as-bill-sees-it/2028-10-22/
CATEGORIES:AA,As Bill See's It
ATTACH;FMTTYPE=image/jpeg:https://myrecovery.org/wp-content/uploads/2024/02/AA-265-Format-As-Bill-Sees-It.jpg
LOCATION:https://zoom.us/j/96438156982?pwd=UGlNUWZQWnlqLzJ5YUdEcDhQa2hvZz09
END:VEVENT
BEGIN:VEVENT
DTSTART;TZID=UTC:20281029T200000
DTEND;TZID=UTC:20281029T210000
DTSTAMP:20260421T061905
CREATED:20250611T222346Z
LAST-MODIFIED:20250708T160447Z
UID:10016924-1856462400-1856466000@myrecovery.org
SUMMARY:AA - 265 - Format: As Bill See's It
DESCRIPTION:As Bill See’s It: Recovery meetings focus on topics contained in the book “As Bill Sees It.”  The Trusted Servant selects and reads a page from the book and speaks about the topic and opens the meeting up for discussion for all attendees. \nCLICK HERE to join the meeting!
URL:https://myrecovery.org/event/aa-265-format-as-bill-sees-it/2028-10-29/
CATEGORIES:AA,As Bill See's It
ATTACH;FMTTYPE=image/jpeg:https://myrecovery.org/wp-content/uploads/2024/02/AA-265-Format-As-Bill-Sees-It.jpg
LOCATION:https://zoom.us/j/96438156982?pwd=UGlNUWZQWnlqLzJ5YUdEcDhQa2hvZz09
END:VEVENT
BEGIN:VEVENT
DTSTART;TZID=UTC:20281105T200000
DTEND;TZID=UTC:20281105T210000
DTSTAMP:20260421T061905
CREATED:20250611T222346Z
LAST-MODIFIED:20250708T160447Z
UID:10016925-1857067200-1857070800@myrecovery.org
SUMMARY:AA - 265 - Format: As Bill See's It
DESCRIPTION:As Bill See’s It: Recovery meetings focus on topics contained in the book “As Bill Sees It.”  The Trusted Servant selects and reads a page from the book and speaks about the topic and opens the meeting up for discussion for all attendees. \nCLICK HERE to join the meeting!
URL:https://myrecovery.org/event/aa-265-format-as-bill-sees-it/2028-11-05/
CATEGORIES:AA,As Bill See's It
ATTACH;FMTTYPE=image/jpeg:https://myrecovery.org/wp-content/uploads/2024/02/AA-265-Format-As-Bill-Sees-It.jpg
LOCATION:https://zoom.us/j/96438156982?pwd=UGlNUWZQWnlqLzJ5YUdEcDhQa2hvZz09
END:VEVENT
BEGIN:VEVENT
DTSTART;TZID=UTC:20281112T200000
DTEND;TZID=UTC:20281112T210000
DTSTAMP:20260421T061905
CREATED:20250611T222346Z
LAST-MODIFIED:20250708T160447Z
UID:10016926-1857672000-1857675600@myrecovery.org
SUMMARY:AA - 265 - Format: As Bill See's It
DESCRIPTION:As Bill See’s It: Recovery meetings focus on topics contained in the book “As Bill Sees It.”  The Trusted Servant selects and reads a page from the book and speaks about the topic and opens the meeting up for discussion for all attendees. \nCLICK HERE to join the meeting!
URL:https://myrecovery.org/event/aa-265-format-as-bill-sees-it/2028-11-12/
CATEGORIES:AA,As Bill See's It
ATTACH;FMTTYPE=image/jpeg:https://myrecovery.org/wp-content/uploads/2024/02/AA-265-Format-As-Bill-Sees-It.jpg
LOCATION:https://zoom.us/j/96438156982?pwd=UGlNUWZQWnlqLzJ5YUdEcDhQa2hvZz09
END:VEVENT
BEGIN:VEVENT
DTSTART;TZID=UTC:20281119T200000
DTEND;TZID=UTC:20281119T210000
DTSTAMP:20260421T061905
CREATED:20250611T222346Z
LAST-MODIFIED:20250708T160447Z
UID:10016927-1858276800-1858280400@myrecovery.org
SUMMARY:AA - 265 - Format: As Bill See's It
DESCRIPTION:As Bill See’s It: Recovery meetings focus on topics contained in the book “As Bill Sees It.”  The Trusted Servant selects and reads a page from the book and speaks about the topic and opens the meeting up for discussion for all attendees. \nCLICK HERE to join the meeting!
URL:https://myrecovery.org/event/aa-265-format-as-bill-sees-it/2028-11-19/
CATEGORIES:AA,As Bill See's It
ATTACH;FMTTYPE=image/jpeg:https://myrecovery.org/wp-content/uploads/2024/02/AA-265-Format-As-Bill-Sees-It.jpg
LOCATION:https://zoom.us/j/96438156982?pwd=UGlNUWZQWnlqLzJ5YUdEcDhQa2hvZz09
END:VEVENT
BEGIN:VEVENT
DTSTART;TZID=UTC:20281126T200000
DTEND;TZID=UTC:20281126T210000
DTSTAMP:20260421T061905
CREATED:20250611T222346Z
LAST-MODIFIED:20250708T160447Z
UID:10016928-1858881600-1858885200@myrecovery.org
SUMMARY:AA - 265 - Format: As Bill See's It
DESCRIPTION:As Bill See’s It: Recovery meetings focus on topics contained in the book “As Bill Sees It.”  The Trusted Servant selects and reads a page from the book and speaks about the topic and opens the meeting up for discussion for all attendees. \nCLICK HERE to join the meeting!
URL:https://myrecovery.org/event/aa-265-format-as-bill-sees-it/2028-11-26/
CATEGORIES:AA,As Bill See's It
ATTACH;FMTTYPE=image/jpeg:https://myrecovery.org/wp-content/uploads/2024/02/AA-265-Format-As-Bill-Sees-It.jpg
LOCATION:https://zoom.us/j/96438156982?pwd=UGlNUWZQWnlqLzJ5YUdEcDhQa2hvZz09
END:VEVENT
BEGIN:VEVENT
DTSTART;TZID=UTC:20281203T200000
DTEND;TZID=UTC:20281203T210000
DTSTAMP:20260421T061905
CREATED:20250611T222346Z
LAST-MODIFIED:20250708T160447Z
UID:10016929-1859486400-1859490000@myrecovery.org
SUMMARY:AA - 265 - Format: As Bill See's It
DESCRIPTION:As Bill See’s It: Recovery meetings focus on topics contained in the book “As Bill Sees It.”  The Trusted Servant selects and reads a page from the book and speaks about the topic and opens the meeting up for discussion for all attendees. \nCLICK HERE to join the meeting!
URL:https://myrecovery.org/event/aa-265-format-as-bill-sees-it/2028-12-03/
CATEGORIES:AA,As Bill See's It
ATTACH;FMTTYPE=image/jpeg:https://myrecovery.org/wp-content/uploads/2024/02/AA-265-Format-As-Bill-Sees-It.jpg
LOCATION:https://zoom.us/j/96438156982?pwd=UGlNUWZQWnlqLzJ5YUdEcDhQa2hvZz09
END:VEVENT
BEGIN:VEVENT
DTSTART;TZID=UTC:20281210T200000
DTEND;TZID=UTC:20281210T210000
DTSTAMP:20260421T061905
CREATED:20250611T222346Z
LAST-MODIFIED:20250708T160447Z
UID:10016930-1860091200-1860094800@myrecovery.org
SUMMARY:AA - 265 - Format: As Bill See's It
DESCRIPTION:As Bill See’s It: Recovery meetings focus on topics contained in the book “As Bill Sees It.”  The Trusted Servant selects and reads a page from the book and speaks about the topic and opens the meeting up for discussion for all attendees. \nCLICK HERE to join the meeting!
URL:https://myrecovery.org/event/aa-265-format-as-bill-sees-it/2028-12-10/
CATEGORIES:AA,As Bill See's It
ATTACH;FMTTYPE=image/jpeg:https://myrecovery.org/wp-content/uploads/2024/02/AA-265-Format-As-Bill-Sees-It.jpg
LOCATION:https://zoom.us/j/96438156982?pwd=UGlNUWZQWnlqLzJ5YUdEcDhQa2hvZz09
END:VEVENT
BEGIN:VEVENT
DTSTART;TZID=UTC:20281217T200000
DTEND;TZID=UTC:20281217T210000
DTSTAMP:20260421T061905
CREATED:20250611T222346Z
LAST-MODIFIED:20250708T160447Z
UID:10016931-1860696000-1860699600@myrecovery.org
SUMMARY:AA - 265 - Format: As Bill See's It
DESCRIPTION:As Bill See’s It: Recovery meetings focus on topics contained in the book “As Bill Sees It.”  The Trusted Servant selects and reads a page from the book and speaks about the topic and opens the meeting up for discussion for all attendees. \nCLICK HERE to join the meeting!
URL:https://myrecovery.org/event/aa-265-format-as-bill-sees-it/2028-12-17/
CATEGORIES:AA,As Bill See's It
ATTACH;FMTTYPE=image/jpeg:https://myrecovery.org/wp-content/uploads/2024/02/AA-265-Format-As-Bill-Sees-It.jpg
LOCATION:https://zoom.us/j/96438156982?pwd=UGlNUWZQWnlqLzJ5YUdEcDhQa2hvZz09
END:VEVENT
BEGIN:VEVENT
DTSTART;TZID=UTC:20281224T200000
DTEND;TZID=UTC:20281224T210000
DTSTAMP:20260421T061905
CREATED:20250611T222346Z
LAST-MODIFIED:20250708T160447Z
UID:10016932-1861300800-1861304400@myrecovery.org
SUMMARY:AA - 265 - Format: As Bill See's It
DESCRIPTION:As Bill See’s It: Recovery meetings focus on topics contained in the book “As Bill Sees It.”  The Trusted Servant selects and reads a page from the book and speaks about the topic and opens the meeting up for discussion for all attendees. \nCLICK HERE to join the meeting!
URL:https://myrecovery.org/event/aa-265-format-as-bill-sees-it/2028-12-24/
CATEGORIES:AA,As Bill See's It
ATTACH;FMTTYPE=image/jpeg:https://myrecovery.org/wp-content/uploads/2024/02/AA-265-Format-As-Bill-Sees-It.jpg
LOCATION:https://zoom.us/j/96438156982?pwd=UGlNUWZQWnlqLzJ5YUdEcDhQa2hvZz09
END:VEVENT
BEGIN:VEVENT
DTSTART;TZID=UTC:20281231T200000
DTEND;TZID=UTC:20281231T210000
DTSTAMP:20260421T061905
CREATED:20250611T222346Z
LAST-MODIFIED:20250708T160447Z
UID:10016933-1861905600-1861909200@myrecovery.org
SUMMARY:AA - 265 - Format: As Bill See's It
DESCRIPTION:As Bill See’s It: Recovery meetings focus on topics contained in the book “As Bill Sees It.”  The Trusted Servant selects and reads a page from the book and speaks about the topic and opens the meeting up for discussion for all attendees. \nCLICK HERE to join the meeting!
URL:https://myrecovery.org/event/aa-265-format-as-bill-sees-it/2028-12-31/
CATEGORIES:AA,As Bill See's It
ATTACH;FMTTYPE=image/jpeg:https://myrecovery.org/wp-content/uploads/2024/02/AA-265-Format-As-Bill-Sees-It.jpg
LOCATION:https://zoom.us/j/96438156982?pwd=UGlNUWZQWnlqLzJ5YUdEcDhQa2hvZz09
END:VEVENT
BEGIN:VEVENT
DTSTART;TZID=UTC:20290107T200000
DTEND;TZID=UTC:20290107T210000
DTSTAMP:20260421T061905
CREATED:20250611T222346Z
LAST-MODIFIED:20250708T160447Z
UID:10016934-1862510400-1862514000@myrecovery.org
SUMMARY:AA - 265 - Format: As Bill See's It
DESCRIPTION:As Bill See’s It: Recovery meetings focus on topics contained in the book “As Bill Sees It.”  The Trusted Servant selects and reads a page from the book and speaks about the topic and opens the meeting up for discussion for all attendees. \nCLICK HERE to join the meeting!
URL:https://myrecovery.org/event/aa-265-format-as-bill-sees-it/2029-01-07/
CATEGORIES:AA,As Bill See's It
ATTACH;FMTTYPE=image/jpeg:https://myrecovery.org/wp-content/uploads/2024/02/AA-265-Format-As-Bill-Sees-It.jpg
LOCATION:https://zoom.us/j/96438156982?pwd=UGlNUWZQWnlqLzJ5YUdEcDhQa2hvZz09
END:VEVENT
BEGIN:VEVENT
DTSTART;TZID=UTC:20290114T200000
DTEND;TZID=UTC:20290114T210000
DTSTAMP:20260421T061905
CREATED:20250611T222346Z
LAST-MODIFIED:20250708T160447Z
UID:10016935-1863115200-1863118800@myrecovery.org
SUMMARY:AA - 265 - Format: As Bill See's It
DESCRIPTION:As Bill See’s It: Recovery meetings focus on topics contained in the book “As Bill Sees It.”  The Trusted Servant selects and reads a page from the book and speaks about the topic and opens the meeting up for discussion for all attendees. \nCLICK HERE to join the meeting!
URL:https://myrecovery.org/event/aa-265-format-as-bill-sees-it/2029-01-14/
CATEGORIES:AA,As Bill See's It
ATTACH;FMTTYPE=image/jpeg:https://myrecovery.org/wp-content/uploads/2024/02/AA-265-Format-As-Bill-Sees-It.jpg
LOCATION:https://zoom.us/j/96438156982?pwd=UGlNUWZQWnlqLzJ5YUdEcDhQa2hvZz09
END:VEVENT
BEGIN:VEVENT
DTSTART;TZID=UTC:20290121T200000
DTEND;TZID=UTC:20290121T210000
DTSTAMP:20260421T061905
CREATED:20250611T222346Z
LAST-MODIFIED:20250708T160447Z
UID:10016936-1863720000-1863723600@myrecovery.org
SUMMARY:AA - 265 - Format: As Bill See's It
DESCRIPTION:As Bill See’s It: Recovery meetings focus on topics contained in the book “As Bill Sees It.”  The Trusted Servant selects and reads a page from the book and speaks about the topic and opens the meeting up for discussion for all attendees. \nCLICK HERE to join the meeting!
URL:https://myrecovery.org/event/aa-265-format-as-bill-sees-it/2029-01-21/
CATEGORIES:AA,As Bill See's It
ATTACH;FMTTYPE=image/jpeg:https://myrecovery.org/wp-content/uploads/2024/02/AA-265-Format-As-Bill-Sees-It.jpg
LOCATION:https://zoom.us/j/96438156982?pwd=UGlNUWZQWnlqLzJ5YUdEcDhQa2hvZz09
END:VEVENT
BEGIN:VEVENT
DTSTART;TZID=UTC:20290128T200000
DTEND;TZID=UTC:20290128T210000
DTSTAMP:20260421T061905
CREATED:20250611T222346Z
LAST-MODIFIED:20250708T160447Z
UID:10016937-1864324800-1864328400@myrecovery.org
SUMMARY:AA - 265 - Format: As Bill See's It
DESCRIPTION:As Bill See’s It: Recovery meetings focus on topics contained in the book “As Bill Sees It.”  The Trusted Servant selects and reads a page from the book and speaks about the topic and opens the meeting up for discussion for all attendees. \nCLICK HERE to join the meeting!
URL:https://myrecovery.org/event/aa-265-format-as-bill-sees-it/2029-01-28/
CATEGORIES:AA,As Bill See's It
ATTACH;FMTTYPE=image/jpeg:https://myrecovery.org/wp-content/uploads/2024/02/AA-265-Format-As-Bill-Sees-It.jpg
LOCATION:https://zoom.us/j/96438156982?pwd=UGlNUWZQWnlqLzJ5YUdEcDhQa2hvZz09
END:VEVENT
BEGIN:VEVENT
DTSTART;TZID=UTC:20290204T200000
DTEND;TZID=UTC:20290204T210000
DTSTAMP:20260421T061905
CREATED:20250611T222346Z
LAST-MODIFIED:20250708T160447Z
UID:10016938-1864929600-1864933200@myrecovery.org
SUMMARY:AA - 265 - Format: As Bill See's It
DESCRIPTION:As Bill See’s It: Recovery meetings focus on topics contained in the book “As Bill Sees It.”  The Trusted Servant selects and reads a page from the book and speaks about the topic and opens the meeting up for discussion for all attendees. \nCLICK HERE to join the meeting!
URL:https://myrecovery.org/event/aa-265-format-as-bill-sees-it/2029-02-04/
CATEGORIES:AA,As Bill See's It
ATTACH;FMTTYPE=image/jpeg:https://myrecovery.org/wp-content/uploads/2024/02/AA-265-Format-As-Bill-Sees-It.jpg
LOCATION:https://zoom.us/j/96438156982?pwd=UGlNUWZQWnlqLzJ5YUdEcDhQa2hvZz09
END:VEVENT
BEGIN:VEVENT
DTSTART;TZID=UTC:20290211T200000
DTEND;TZID=UTC:20290211T210000
DTSTAMP:20260421T061905
CREATED:20250611T222346Z
LAST-MODIFIED:20250708T160447Z
UID:10016939-1865534400-1865538000@myrecovery.org
SUMMARY:AA - 265 - Format: As Bill See's It
DESCRIPTION:As Bill See’s It: Recovery meetings focus on topics contained in the book “As Bill Sees It.”  The Trusted Servant selects and reads a page from the book and speaks about the topic and opens the meeting up for discussion for all attendees. \nCLICK HERE to join the meeting!
URL:https://myrecovery.org/event/aa-265-format-as-bill-sees-it/2029-02-11/
CATEGORIES:AA,As Bill See's It
ATTACH;FMTTYPE=image/jpeg:https://myrecovery.org/wp-content/uploads/2024/02/AA-265-Format-As-Bill-Sees-It.jpg
LOCATION:https://zoom.us/j/96438156982?pwd=UGlNUWZQWnlqLzJ5YUdEcDhQa2hvZz09
END:VEVENT
BEGIN:VEVENT
DTSTART;TZID=UTC:20290218T200000
DTEND;TZID=UTC:20290218T210000
DTSTAMP:20260421T061905
CREATED:20250611T222346Z
LAST-MODIFIED:20250708T160447Z
UID:10016940-1866139200-1866142800@myrecovery.org
SUMMARY:AA - 265 - Format: As Bill See's It
DESCRIPTION:As Bill See’s It: Recovery meetings focus on topics contained in the book “As Bill Sees It.”  The Trusted Servant selects and reads a page from the book and speaks about the topic and opens the meeting up for discussion for all attendees. \nCLICK HERE to join the meeting!
URL:https://myrecovery.org/event/aa-265-format-as-bill-sees-it/2029-02-18/
CATEGORIES:AA,As Bill See's It
ATTACH;FMTTYPE=image/jpeg:https://myrecovery.org/wp-content/uploads/2024/02/AA-265-Format-As-Bill-Sees-It.jpg
LOCATION:https://zoom.us/j/96438156982?pwd=UGlNUWZQWnlqLzJ5YUdEcDhQa2hvZz09
END:VEVENT
BEGIN:VEVENT
DTSTART;TZID=UTC:20290225T200000
DTEND;TZID=UTC:20290225T210000
DTSTAMP:20260421T061905
CREATED:20250611T222346Z
LAST-MODIFIED:20250708T160447Z
UID:10016941-1866744000-1866747600@myrecovery.org
SUMMARY:AA - 265 - Format: As Bill See's It
DESCRIPTION:As Bill See’s It: Recovery meetings focus on topics contained in the book “As Bill Sees It.”  The Trusted Servant selects and reads a page from the book and speaks about the topic and opens the meeting up for discussion for all attendees. \nCLICK HERE to join the meeting!
URL:https://myrecovery.org/event/aa-265-format-as-bill-sees-it/2029-02-25/
CATEGORIES:AA,As Bill See's It
ATTACH;FMTTYPE=image/jpeg:https://myrecovery.org/wp-content/uploads/2024/02/AA-265-Format-As-Bill-Sees-It.jpg
LOCATION:https://zoom.us/j/96438156982?pwd=UGlNUWZQWnlqLzJ5YUdEcDhQa2hvZz09
END:VEVENT
BEGIN:VEVENT
DTSTART;TZID=UTC:20290304T200000
DTEND;TZID=UTC:20290304T210000
DTSTAMP:20260421T061905
CREATED:20250611T222346Z
LAST-MODIFIED:20250708T160447Z
UID:10016942-1867348800-1867352400@myrecovery.org
SUMMARY:AA - 265 - Format: As Bill See's It
DESCRIPTION:As Bill See’s It: Recovery meetings focus on topics contained in the book “As Bill Sees It.”  The Trusted Servant selects and reads a page from the book and speaks about the topic and opens the meeting up for discussion for all attendees. \nCLICK HERE to join the meeting!
URL:https://myrecovery.org/event/aa-265-format-as-bill-sees-it/2029-03-04/
CATEGORIES:AA,As Bill See's It
ATTACH;FMTTYPE=image/jpeg:https://myrecovery.org/wp-content/uploads/2024/02/AA-265-Format-As-Bill-Sees-It.jpg
LOCATION:https://zoom.us/j/96438156982?pwd=UGlNUWZQWnlqLzJ5YUdEcDhQa2hvZz09
END:VEVENT
BEGIN:VEVENT
DTSTART;TZID=UTC:20290311T200000
DTEND;TZID=UTC:20290311T210000
DTSTAMP:20260421T061905
CREATED:20250611T222346Z
LAST-MODIFIED:20250708T160447Z
UID:10016943-1867953600-1867957200@myrecovery.org
SUMMARY:AA - 265 - Format: As Bill See's It
DESCRIPTION:As Bill See’s It: Recovery meetings focus on topics contained in the book “As Bill Sees It.”  The Trusted Servant selects and reads a page from the book and speaks about the topic and opens the meeting up for discussion for all attendees. \nCLICK HERE to join the meeting!
URL:https://myrecovery.org/event/aa-265-format-as-bill-sees-it/2029-03-11/
CATEGORIES:AA,As Bill See's It
ATTACH;FMTTYPE=image/jpeg:https://myrecovery.org/wp-content/uploads/2024/02/AA-265-Format-As-Bill-Sees-It.jpg
LOCATION:https://zoom.us/j/96438156982?pwd=UGlNUWZQWnlqLzJ5YUdEcDhQa2hvZz09
END:VEVENT
BEGIN:VEVENT
DTSTART;TZID=UTC:20290318T200000
DTEND;TZID=UTC:20290318T210000
DTSTAMP:20260421T061905
CREATED:20250611T222346Z
LAST-MODIFIED:20250708T160447Z
UID:10016944-1868558400-1868562000@myrecovery.org
SUMMARY:AA - 265 - Format: As Bill See's It
DESCRIPTION:As Bill See’s It: Recovery meetings focus on topics contained in the book “As Bill Sees It.”  The Trusted Servant selects and reads a page from the book and speaks about the topic and opens the meeting up for discussion for all attendees. \nCLICK HERE to join the meeting!
URL:https://myrecovery.org/event/aa-265-format-as-bill-sees-it/2029-03-18/
CATEGORIES:AA,As Bill See's It
ATTACH;FMTTYPE=image/jpeg:https://myrecovery.org/wp-content/uploads/2024/02/AA-265-Format-As-Bill-Sees-It.jpg
LOCATION:https://zoom.us/j/96438156982?pwd=UGlNUWZQWnlqLzJ5YUdEcDhQa2hvZz09
END:VEVENT
BEGIN:VEVENT
DTSTART;TZID=UTC:20290325T200000
DTEND;TZID=UTC:20290325T210000
DTSTAMP:20260421T061905
CREATED:20250611T222346Z
LAST-MODIFIED:20250708T160447Z
UID:10016945-1869163200-1869166800@myrecovery.org
SUMMARY:AA - 265 - Format: As Bill See's It
DESCRIPTION:As Bill See’s It: Recovery meetings focus on topics contained in the book “As Bill Sees It.”  The Trusted Servant selects and reads a page from the book and speaks about the topic and opens the meeting up for discussion for all attendees. \nCLICK HERE to join the meeting!
URL:https://myrecovery.org/event/aa-265-format-as-bill-sees-it/2029-03-25/
CATEGORIES:AA,As Bill See's It
ATTACH;FMTTYPE=image/jpeg:https://myrecovery.org/wp-content/uploads/2024/02/AA-265-Format-As-Bill-Sees-It.jpg
LOCATION:https://zoom.us/j/96438156982?pwd=UGlNUWZQWnlqLzJ5YUdEcDhQa2hvZz09
END:VEVENT
END:VCALENDAR