BEGIN:VCALENDAR
VERSION:2.0
PRODID:-//My Recovery - ECPv6.15.17//NONSGML v1.0//EN
CALSCALE:GREGORIAN
METHOD:PUBLISH
X-WR-CALNAME:My Recovery
X-ORIGINAL-URL:https://myrecovery.org
X-WR-CALDESC:Events for My Recovery
REFRESH-INTERVAL;VALUE=DURATION:PT1H
X-Robots-Tag:noindex
X-PUBLISHED-TTL:PT1H
BEGIN:VTIMEZONE
TZID:UTC
BEGIN:STANDARD
TZOFFSETFROM:+0000
TZOFFSETTO:+0000
TZNAME:UTC
DTSTART:20260101T000000
END:STANDARD
END:VTIMEZONE
BEGIN:VEVENT
DTSTART;TZID=UTC:20270907T100000
DTEND;TZID=UTC:20270907T230000
DTSTAMP:20260421T121042
CREATED:20250611T222118Z
LAST-MODIFIED:20250613T170147Z
UID:10012955-1820311200-1820358000@myrecovery.org
SUMMARY:AA - Elders 12x12 - Format: (50+)12x12 Discussion
DESCRIPTION:12X12: Recovery meetings center around topics pulled from A.A. conference-approved literature\, including the Big Book and the Twelve Steps and Twelve Traditions book. The Trusted Servant speaks about the topic and opens the meeting up for discussion for all attendees. \nCLICK HERE to join the meeting!
URL:https://myrecovery.org/event/aa-elders-12x12-format-5012x12-discussion/2027-09-07/
CATEGORIES:12x12,Elders
ATTACH;FMTTYPE=image/jpeg:https://myrecovery.org/wp-content/uploads/2024/09/AA-Elders-12x12-Format-5012x12-Discussion.jpg
LOCATION:https://zoom.us/j/91452702089?pwd=NmtSNjVpMWIwTHNKY2lIakUreFhRZz09
END:VEVENT
BEGIN:VEVENT
DTSTART;TZID=UTC:20270914T100000
DTEND;TZID=UTC:20270914T230000
DTSTAMP:20260421T121042
CREATED:20250611T222118Z
LAST-MODIFIED:20250613T170147Z
UID:10012956-1820916000-1820962800@myrecovery.org
SUMMARY:AA - Elders 12x12 - Format: (50+)12x12 Discussion
DESCRIPTION:12X12: Recovery meetings center around topics pulled from A.A. conference-approved literature\, including the Big Book and the Twelve Steps and Twelve Traditions book. The Trusted Servant speaks about the topic and opens the meeting up for discussion for all attendees. \nCLICK HERE to join the meeting!
URL:https://myrecovery.org/event/aa-elders-12x12-format-5012x12-discussion/2027-09-14/
CATEGORIES:12x12,Elders
ATTACH;FMTTYPE=image/jpeg:https://myrecovery.org/wp-content/uploads/2024/09/AA-Elders-12x12-Format-5012x12-Discussion.jpg
LOCATION:https://zoom.us/j/91452702089?pwd=NmtSNjVpMWIwTHNKY2lIakUreFhRZz09
END:VEVENT
BEGIN:VEVENT
DTSTART;TZID=UTC:20270921T100000
DTEND;TZID=UTC:20270921T230000
DTSTAMP:20260421T121042
CREATED:20250611T222118Z
LAST-MODIFIED:20250613T170147Z
UID:10012957-1821520800-1821567600@myrecovery.org
SUMMARY:AA - Elders 12x12 - Format: (50+)12x12 Discussion
DESCRIPTION:12X12: Recovery meetings center around topics pulled from A.A. conference-approved literature\, including the Big Book and the Twelve Steps and Twelve Traditions book. The Trusted Servant speaks about the topic and opens the meeting up for discussion for all attendees. \nCLICK HERE to join the meeting!
URL:https://myrecovery.org/event/aa-elders-12x12-format-5012x12-discussion/2027-09-21/
CATEGORIES:12x12,Elders
ATTACH;FMTTYPE=image/jpeg:https://myrecovery.org/wp-content/uploads/2024/09/AA-Elders-12x12-Format-5012x12-Discussion.jpg
LOCATION:https://zoom.us/j/91452702089?pwd=NmtSNjVpMWIwTHNKY2lIakUreFhRZz09
END:VEVENT
BEGIN:VEVENT
DTSTART;TZID=UTC:20270928T100000
DTEND;TZID=UTC:20270928T230000
DTSTAMP:20260421T121042
CREATED:20250611T222118Z
LAST-MODIFIED:20250613T170147Z
UID:10012958-1822125600-1822172400@myrecovery.org
SUMMARY:AA - Elders 12x12 - Format: (50+)12x12 Discussion
DESCRIPTION:12X12: Recovery meetings center around topics pulled from A.A. conference-approved literature\, including the Big Book and the Twelve Steps and Twelve Traditions book. The Trusted Servant speaks about the topic and opens the meeting up for discussion for all attendees. \nCLICK HERE to join the meeting!
URL:https://myrecovery.org/event/aa-elders-12x12-format-5012x12-discussion/2027-09-28/
CATEGORIES:12x12,Elders
ATTACH;FMTTYPE=image/jpeg:https://myrecovery.org/wp-content/uploads/2024/09/AA-Elders-12x12-Format-5012x12-Discussion.jpg
LOCATION:https://zoom.us/j/91452702089?pwd=NmtSNjVpMWIwTHNKY2lIakUreFhRZz09
END:VEVENT
BEGIN:VEVENT
DTSTART;TZID=UTC:20271005T100000
DTEND;TZID=UTC:20271005T230000
DTSTAMP:20260421T121042
CREATED:20250611T222118Z
LAST-MODIFIED:20250613T170147Z
UID:10012959-1822730400-1822777200@myrecovery.org
SUMMARY:AA - Elders 12x12 - Format: (50+)12x12 Discussion
DESCRIPTION:12X12: Recovery meetings center around topics pulled from A.A. conference-approved literature\, including the Big Book and the Twelve Steps and Twelve Traditions book. The Trusted Servant speaks about the topic and opens the meeting up for discussion for all attendees. \nCLICK HERE to join the meeting!
URL:https://myrecovery.org/event/aa-elders-12x12-format-5012x12-discussion/2027-10-05/
CATEGORIES:12x12,Elders
ATTACH;FMTTYPE=image/jpeg:https://myrecovery.org/wp-content/uploads/2024/09/AA-Elders-12x12-Format-5012x12-Discussion.jpg
LOCATION:https://zoom.us/j/91452702089?pwd=NmtSNjVpMWIwTHNKY2lIakUreFhRZz09
END:VEVENT
BEGIN:VEVENT
DTSTART;TZID=UTC:20271012T100000
DTEND;TZID=UTC:20271012T230000
DTSTAMP:20260421T121042
CREATED:20250611T222118Z
LAST-MODIFIED:20250613T170147Z
UID:10012960-1823335200-1823382000@myrecovery.org
SUMMARY:AA - Elders 12x12 - Format: (50+)12x12 Discussion
DESCRIPTION:12X12: Recovery meetings center around topics pulled from A.A. conference-approved literature\, including the Big Book and the Twelve Steps and Twelve Traditions book. The Trusted Servant speaks about the topic and opens the meeting up for discussion for all attendees. \nCLICK HERE to join the meeting!
URL:https://myrecovery.org/event/aa-elders-12x12-format-5012x12-discussion/2027-10-12/
CATEGORIES:12x12,Elders
ATTACH;FMTTYPE=image/jpeg:https://myrecovery.org/wp-content/uploads/2024/09/AA-Elders-12x12-Format-5012x12-Discussion.jpg
LOCATION:https://zoom.us/j/91452702089?pwd=NmtSNjVpMWIwTHNKY2lIakUreFhRZz09
END:VEVENT
BEGIN:VEVENT
DTSTART;TZID=UTC:20271019T100000
DTEND;TZID=UTC:20271019T230000
DTSTAMP:20260421T121042
CREATED:20250611T222118Z
LAST-MODIFIED:20250613T170147Z
UID:10012961-1823940000-1823986800@myrecovery.org
SUMMARY:AA - Elders 12x12 - Format: (50+)12x12 Discussion
DESCRIPTION:12X12: Recovery meetings center around topics pulled from A.A. conference-approved literature\, including the Big Book and the Twelve Steps and Twelve Traditions book. The Trusted Servant speaks about the topic and opens the meeting up for discussion for all attendees. \nCLICK HERE to join the meeting!
URL:https://myrecovery.org/event/aa-elders-12x12-format-5012x12-discussion/2027-10-19/
CATEGORIES:12x12,Elders
ATTACH;FMTTYPE=image/jpeg:https://myrecovery.org/wp-content/uploads/2024/09/AA-Elders-12x12-Format-5012x12-Discussion.jpg
LOCATION:https://zoom.us/j/91452702089?pwd=NmtSNjVpMWIwTHNKY2lIakUreFhRZz09
END:VEVENT
BEGIN:VEVENT
DTSTART;TZID=UTC:20271026T100000
DTEND;TZID=UTC:20271026T230000
DTSTAMP:20260421T121042
CREATED:20250611T222118Z
LAST-MODIFIED:20250613T170147Z
UID:10012962-1824544800-1824591600@myrecovery.org
SUMMARY:AA - Elders 12x12 - Format: (50+)12x12 Discussion
DESCRIPTION:12X12: Recovery meetings center around topics pulled from A.A. conference-approved literature\, including the Big Book and the Twelve Steps and Twelve Traditions book. The Trusted Servant speaks about the topic and opens the meeting up for discussion for all attendees. \nCLICK HERE to join the meeting!
URL:https://myrecovery.org/event/aa-elders-12x12-format-5012x12-discussion/2027-10-26/
CATEGORIES:12x12,Elders
ATTACH;FMTTYPE=image/jpeg:https://myrecovery.org/wp-content/uploads/2024/09/AA-Elders-12x12-Format-5012x12-Discussion.jpg
LOCATION:https://zoom.us/j/91452702089?pwd=NmtSNjVpMWIwTHNKY2lIakUreFhRZz09
END:VEVENT
BEGIN:VEVENT
DTSTART;TZID=UTC:20271102T100000
DTEND;TZID=UTC:20271102T230000
DTSTAMP:20260421T121042
CREATED:20250611T222118Z
LAST-MODIFIED:20250613T170147Z
UID:10012963-1825149600-1825196400@myrecovery.org
SUMMARY:AA - Elders 12x12 - Format: (50+)12x12 Discussion
DESCRIPTION:12X12: Recovery meetings center around topics pulled from A.A. conference-approved literature\, including the Big Book and the Twelve Steps and Twelve Traditions book. The Trusted Servant speaks about the topic and opens the meeting up for discussion for all attendees. \nCLICK HERE to join the meeting!
URL:https://myrecovery.org/event/aa-elders-12x12-format-5012x12-discussion/2027-11-02/
CATEGORIES:12x12,Elders
ATTACH;FMTTYPE=image/jpeg:https://myrecovery.org/wp-content/uploads/2024/09/AA-Elders-12x12-Format-5012x12-Discussion.jpg
LOCATION:https://zoom.us/j/91452702089?pwd=NmtSNjVpMWIwTHNKY2lIakUreFhRZz09
END:VEVENT
BEGIN:VEVENT
DTSTART;TZID=UTC:20271109T100000
DTEND;TZID=UTC:20271109T230000
DTSTAMP:20260421T121042
CREATED:20250611T222118Z
LAST-MODIFIED:20250613T170147Z
UID:10012964-1825754400-1825801200@myrecovery.org
SUMMARY:AA - Elders 12x12 - Format: (50+)12x12 Discussion
DESCRIPTION:12X12: Recovery meetings center around topics pulled from A.A. conference-approved literature\, including the Big Book and the Twelve Steps and Twelve Traditions book. The Trusted Servant speaks about the topic and opens the meeting up for discussion for all attendees. \nCLICK HERE to join the meeting!
URL:https://myrecovery.org/event/aa-elders-12x12-format-5012x12-discussion/2027-11-09/
CATEGORIES:12x12,Elders
ATTACH;FMTTYPE=image/jpeg:https://myrecovery.org/wp-content/uploads/2024/09/AA-Elders-12x12-Format-5012x12-Discussion.jpg
LOCATION:https://zoom.us/j/91452702089?pwd=NmtSNjVpMWIwTHNKY2lIakUreFhRZz09
END:VEVENT
BEGIN:VEVENT
DTSTART;TZID=UTC:20271116T100000
DTEND;TZID=UTC:20271116T230000
DTSTAMP:20260421T121042
CREATED:20250611T222118Z
LAST-MODIFIED:20250613T170147Z
UID:10012965-1826359200-1826406000@myrecovery.org
SUMMARY:AA - Elders 12x12 - Format: (50+)12x12 Discussion
DESCRIPTION:12X12: Recovery meetings center around topics pulled from A.A. conference-approved literature\, including the Big Book and the Twelve Steps and Twelve Traditions book. The Trusted Servant speaks about the topic and opens the meeting up for discussion for all attendees. \nCLICK HERE to join the meeting!
URL:https://myrecovery.org/event/aa-elders-12x12-format-5012x12-discussion/2027-11-16/
CATEGORIES:12x12,Elders
ATTACH;FMTTYPE=image/jpeg:https://myrecovery.org/wp-content/uploads/2024/09/AA-Elders-12x12-Format-5012x12-Discussion.jpg
LOCATION:https://zoom.us/j/91452702089?pwd=NmtSNjVpMWIwTHNKY2lIakUreFhRZz09
END:VEVENT
BEGIN:VEVENT
DTSTART;TZID=UTC:20271123T100000
DTEND;TZID=UTC:20271123T230000
DTSTAMP:20260421T121042
CREATED:20250611T222118Z
LAST-MODIFIED:20250613T170147Z
UID:10012966-1826964000-1827010800@myrecovery.org
SUMMARY:AA - Elders 12x12 - Format: (50+)12x12 Discussion
DESCRIPTION:12X12: Recovery meetings center around topics pulled from A.A. conference-approved literature\, including the Big Book and the Twelve Steps and Twelve Traditions book. The Trusted Servant speaks about the topic and opens the meeting up for discussion for all attendees. \nCLICK HERE to join the meeting!
URL:https://myrecovery.org/event/aa-elders-12x12-format-5012x12-discussion/2027-11-23/
CATEGORIES:12x12,Elders
ATTACH;FMTTYPE=image/jpeg:https://myrecovery.org/wp-content/uploads/2024/09/AA-Elders-12x12-Format-5012x12-Discussion.jpg
LOCATION:https://zoom.us/j/91452702089?pwd=NmtSNjVpMWIwTHNKY2lIakUreFhRZz09
END:VEVENT
BEGIN:VEVENT
DTSTART;TZID=UTC:20271130T100000
DTEND;TZID=UTC:20271130T230000
DTSTAMP:20260421T121042
CREATED:20250611T222118Z
LAST-MODIFIED:20250613T170147Z
UID:10012967-1827568800-1827615600@myrecovery.org
SUMMARY:AA - Elders 12x12 - Format: (50+)12x12 Discussion
DESCRIPTION:12X12: Recovery meetings center around topics pulled from A.A. conference-approved literature\, including the Big Book and the Twelve Steps and Twelve Traditions book. The Trusted Servant speaks about the topic and opens the meeting up for discussion for all attendees. \nCLICK HERE to join the meeting!
URL:https://myrecovery.org/event/aa-elders-12x12-format-5012x12-discussion/2027-11-30/
CATEGORIES:12x12,Elders
ATTACH;FMTTYPE=image/jpeg:https://myrecovery.org/wp-content/uploads/2024/09/AA-Elders-12x12-Format-5012x12-Discussion.jpg
LOCATION:https://zoom.us/j/91452702089?pwd=NmtSNjVpMWIwTHNKY2lIakUreFhRZz09
END:VEVENT
BEGIN:VEVENT
DTSTART;TZID=UTC:20271207T100000
DTEND;TZID=UTC:20271207T230000
DTSTAMP:20260421T121042
CREATED:20250611T222118Z
LAST-MODIFIED:20250613T170147Z
UID:10012968-1828173600-1828220400@myrecovery.org
SUMMARY:AA - Elders 12x12 - Format: (50+)12x12 Discussion
DESCRIPTION:12X12: Recovery meetings center around topics pulled from A.A. conference-approved literature\, including the Big Book and the Twelve Steps and Twelve Traditions book. The Trusted Servant speaks about the topic and opens the meeting up for discussion for all attendees. \nCLICK HERE to join the meeting!
URL:https://myrecovery.org/event/aa-elders-12x12-format-5012x12-discussion/2027-12-07/
CATEGORIES:12x12,Elders
ATTACH;FMTTYPE=image/jpeg:https://myrecovery.org/wp-content/uploads/2024/09/AA-Elders-12x12-Format-5012x12-Discussion.jpg
LOCATION:https://zoom.us/j/91452702089?pwd=NmtSNjVpMWIwTHNKY2lIakUreFhRZz09
END:VEVENT
BEGIN:VEVENT
DTSTART;TZID=UTC:20271214T100000
DTEND;TZID=UTC:20271214T230000
DTSTAMP:20260421T121042
CREATED:20250611T222118Z
LAST-MODIFIED:20250613T170147Z
UID:10012969-1828778400-1828825200@myrecovery.org
SUMMARY:AA - Elders 12x12 - Format: (50+)12x12 Discussion
DESCRIPTION:12X12: Recovery meetings center around topics pulled from A.A. conference-approved literature\, including the Big Book and the Twelve Steps and Twelve Traditions book. The Trusted Servant speaks about the topic and opens the meeting up for discussion for all attendees. \nCLICK HERE to join the meeting!
URL:https://myrecovery.org/event/aa-elders-12x12-format-5012x12-discussion/2027-12-14/
CATEGORIES:12x12,Elders
ATTACH;FMTTYPE=image/jpeg:https://myrecovery.org/wp-content/uploads/2024/09/AA-Elders-12x12-Format-5012x12-Discussion.jpg
LOCATION:https://zoom.us/j/91452702089?pwd=NmtSNjVpMWIwTHNKY2lIakUreFhRZz09
END:VEVENT
BEGIN:VEVENT
DTSTART;TZID=UTC:20271221T100000
DTEND;TZID=UTC:20271221T230000
DTSTAMP:20260421T121042
CREATED:20250611T222118Z
LAST-MODIFIED:20250613T170147Z
UID:10012970-1829383200-1829430000@myrecovery.org
SUMMARY:AA - Elders 12x12 - Format: (50+)12x12 Discussion
DESCRIPTION:12X12: Recovery meetings center around topics pulled from A.A. conference-approved literature\, including the Big Book and the Twelve Steps and Twelve Traditions book. The Trusted Servant speaks about the topic and opens the meeting up for discussion for all attendees. \nCLICK HERE to join the meeting!
URL:https://myrecovery.org/event/aa-elders-12x12-format-5012x12-discussion/2027-12-21/
CATEGORIES:12x12,Elders
ATTACH;FMTTYPE=image/jpeg:https://myrecovery.org/wp-content/uploads/2024/09/AA-Elders-12x12-Format-5012x12-Discussion.jpg
LOCATION:https://zoom.us/j/91452702089?pwd=NmtSNjVpMWIwTHNKY2lIakUreFhRZz09
END:VEVENT
BEGIN:VEVENT
DTSTART;TZID=UTC:20271228T100000
DTEND;TZID=UTC:20271228T230000
DTSTAMP:20260421T121042
CREATED:20250611T222118Z
LAST-MODIFIED:20250613T170147Z
UID:10012971-1829988000-1830034800@myrecovery.org
SUMMARY:AA - Elders 12x12 - Format: (50+)12x12 Discussion
DESCRIPTION:12X12: Recovery meetings center around topics pulled from A.A. conference-approved literature\, including the Big Book and the Twelve Steps and Twelve Traditions book. The Trusted Servant speaks about the topic and opens the meeting up for discussion for all attendees. \nCLICK HERE to join the meeting!
URL:https://myrecovery.org/event/aa-elders-12x12-format-5012x12-discussion/2027-12-28/
CATEGORIES:12x12,Elders
ATTACH;FMTTYPE=image/jpeg:https://myrecovery.org/wp-content/uploads/2024/09/AA-Elders-12x12-Format-5012x12-Discussion.jpg
LOCATION:https://zoom.us/j/91452702089?pwd=NmtSNjVpMWIwTHNKY2lIakUreFhRZz09
END:VEVENT
BEGIN:VEVENT
DTSTART;TZID=UTC:20280104T100000
DTEND;TZID=UTC:20280104T230000
DTSTAMP:20260421T121042
CREATED:20250611T222118Z
LAST-MODIFIED:20250613T170147Z
UID:10012972-1830592800-1830639600@myrecovery.org
SUMMARY:AA - Elders 12x12 - Format: (50+)12x12 Discussion
DESCRIPTION:12X12: Recovery meetings center around topics pulled from A.A. conference-approved literature\, including the Big Book and the Twelve Steps and Twelve Traditions book. The Trusted Servant speaks about the topic and opens the meeting up for discussion for all attendees. \nCLICK HERE to join the meeting!
URL:https://myrecovery.org/event/aa-elders-12x12-format-5012x12-discussion/2028-01-04/
CATEGORIES:12x12,Elders
ATTACH;FMTTYPE=image/jpeg:https://myrecovery.org/wp-content/uploads/2024/09/AA-Elders-12x12-Format-5012x12-Discussion.jpg
LOCATION:https://zoom.us/j/91452702089?pwd=NmtSNjVpMWIwTHNKY2lIakUreFhRZz09
END:VEVENT
BEGIN:VEVENT
DTSTART;TZID=UTC:20280111T100000
DTEND;TZID=UTC:20280111T230000
DTSTAMP:20260421T121042
CREATED:20250611T222118Z
LAST-MODIFIED:20250613T170147Z
UID:10012973-1831197600-1831244400@myrecovery.org
SUMMARY:AA - Elders 12x12 - Format: (50+)12x12 Discussion
DESCRIPTION:12X12: Recovery meetings center around topics pulled from A.A. conference-approved literature\, including the Big Book and the Twelve Steps and Twelve Traditions book. The Trusted Servant speaks about the topic and opens the meeting up for discussion for all attendees. \nCLICK HERE to join the meeting!
URL:https://myrecovery.org/event/aa-elders-12x12-format-5012x12-discussion/2028-01-11/
CATEGORIES:12x12,Elders
ATTACH;FMTTYPE=image/jpeg:https://myrecovery.org/wp-content/uploads/2024/09/AA-Elders-12x12-Format-5012x12-Discussion.jpg
LOCATION:https://zoom.us/j/91452702089?pwd=NmtSNjVpMWIwTHNKY2lIakUreFhRZz09
END:VEVENT
BEGIN:VEVENT
DTSTART;TZID=UTC:20280118T100000
DTEND;TZID=UTC:20280118T230000
DTSTAMP:20260421T121042
CREATED:20250611T222118Z
LAST-MODIFIED:20250613T170147Z
UID:10012974-1831802400-1831849200@myrecovery.org
SUMMARY:AA - Elders 12x12 - Format: (50+)12x12 Discussion
DESCRIPTION:12X12: Recovery meetings center around topics pulled from A.A. conference-approved literature\, including the Big Book and the Twelve Steps and Twelve Traditions book. The Trusted Servant speaks about the topic and opens the meeting up for discussion for all attendees. \nCLICK HERE to join the meeting!
URL:https://myrecovery.org/event/aa-elders-12x12-format-5012x12-discussion/2028-01-18/
CATEGORIES:12x12,Elders
ATTACH;FMTTYPE=image/jpeg:https://myrecovery.org/wp-content/uploads/2024/09/AA-Elders-12x12-Format-5012x12-Discussion.jpg
LOCATION:https://zoom.us/j/91452702089?pwd=NmtSNjVpMWIwTHNKY2lIakUreFhRZz09
END:VEVENT
BEGIN:VEVENT
DTSTART;TZID=UTC:20280125T100000
DTEND;TZID=UTC:20280125T230000
DTSTAMP:20260421T121042
CREATED:20250611T222118Z
LAST-MODIFIED:20250613T170147Z
UID:10012975-1832407200-1832454000@myrecovery.org
SUMMARY:AA - Elders 12x12 - Format: (50+)12x12 Discussion
DESCRIPTION:12X12: Recovery meetings center around topics pulled from A.A. conference-approved literature\, including the Big Book and the Twelve Steps and Twelve Traditions book. The Trusted Servant speaks about the topic and opens the meeting up for discussion for all attendees. \nCLICK HERE to join the meeting!
URL:https://myrecovery.org/event/aa-elders-12x12-format-5012x12-discussion/2028-01-25/
CATEGORIES:12x12,Elders
ATTACH;FMTTYPE=image/jpeg:https://myrecovery.org/wp-content/uploads/2024/09/AA-Elders-12x12-Format-5012x12-Discussion.jpg
LOCATION:https://zoom.us/j/91452702089?pwd=NmtSNjVpMWIwTHNKY2lIakUreFhRZz09
END:VEVENT
BEGIN:VEVENT
DTSTART;TZID=UTC:20280201T100000
DTEND;TZID=UTC:20280201T230000
DTSTAMP:20260421T121042
CREATED:20250611T222118Z
LAST-MODIFIED:20250613T170147Z
UID:10012976-1833012000-1833058800@myrecovery.org
SUMMARY:AA - Elders 12x12 - Format: (50+)12x12 Discussion
DESCRIPTION:12X12: Recovery meetings center around topics pulled from A.A. conference-approved literature\, including the Big Book and the Twelve Steps and Twelve Traditions book. The Trusted Servant speaks about the topic and opens the meeting up for discussion for all attendees. \nCLICK HERE to join the meeting!
URL:https://myrecovery.org/event/aa-elders-12x12-format-5012x12-discussion/2028-02-01/
CATEGORIES:12x12,Elders
ATTACH;FMTTYPE=image/jpeg:https://myrecovery.org/wp-content/uploads/2024/09/AA-Elders-12x12-Format-5012x12-Discussion.jpg
LOCATION:https://zoom.us/j/91452702089?pwd=NmtSNjVpMWIwTHNKY2lIakUreFhRZz09
END:VEVENT
BEGIN:VEVENT
DTSTART;TZID=UTC:20280208T100000
DTEND;TZID=UTC:20280208T230000
DTSTAMP:20260421T121042
CREATED:20250611T222118Z
LAST-MODIFIED:20250613T170147Z
UID:10012977-1833616800-1833663600@myrecovery.org
SUMMARY:AA - Elders 12x12 - Format: (50+)12x12 Discussion
DESCRIPTION:12X12: Recovery meetings center around topics pulled from A.A. conference-approved literature\, including the Big Book and the Twelve Steps and Twelve Traditions book. The Trusted Servant speaks about the topic and opens the meeting up for discussion for all attendees. \nCLICK HERE to join the meeting!
URL:https://myrecovery.org/event/aa-elders-12x12-format-5012x12-discussion/2028-02-08/
CATEGORIES:12x12,Elders
ATTACH;FMTTYPE=image/jpeg:https://myrecovery.org/wp-content/uploads/2024/09/AA-Elders-12x12-Format-5012x12-Discussion.jpg
LOCATION:https://zoom.us/j/91452702089?pwd=NmtSNjVpMWIwTHNKY2lIakUreFhRZz09
END:VEVENT
BEGIN:VEVENT
DTSTART;TZID=UTC:20280215T100000
DTEND;TZID=UTC:20280215T230000
DTSTAMP:20260421T121042
CREATED:20250611T222118Z
LAST-MODIFIED:20250613T170147Z
UID:10012978-1834221600-1834268400@myrecovery.org
SUMMARY:AA - Elders 12x12 - Format: (50+)12x12 Discussion
DESCRIPTION:12X12: Recovery meetings center around topics pulled from A.A. conference-approved literature\, including the Big Book and the Twelve Steps and Twelve Traditions book. The Trusted Servant speaks about the topic and opens the meeting up for discussion for all attendees. \nCLICK HERE to join the meeting!
URL:https://myrecovery.org/event/aa-elders-12x12-format-5012x12-discussion/2028-02-15/
CATEGORIES:12x12,Elders
ATTACH;FMTTYPE=image/jpeg:https://myrecovery.org/wp-content/uploads/2024/09/AA-Elders-12x12-Format-5012x12-Discussion.jpg
LOCATION:https://zoom.us/j/91452702089?pwd=NmtSNjVpMWIwTHNKY2lIakUreFhRZz09
END:VEVENT
BEGIN:VEVENT
DTSTART;TZID=UTC:20280222T100000
DTEND;TZID=UTC:20280222T230000
DTSTAMP:20260421T121042
CREATED:20250611T222118Z
LAST-MODIFIED:20250613T170147Z
UID:10012979-1834826400-1834873200@myrecovery.org
SUMMARY:AA - Elders 12x12 - Format: (50+)12x12 Discussion
DESCRIPTION:12X12: Recovery meetings center around topics pulled from A.A. conference-approved literature\, including the Big Book and the Twelve Steps and Twelve Traditions book. The Trusted Servant speaks about the topic and opens the meeting up for discussion for all attendees. \nCLICK HERE to join the meeting!
URL:https://myrecovery.org/event/aa-elders-12x12-format-5012x12-discussion/2028-02-22/
CATEGORIES:12x12,Elders
ATTACH;FMTTYPE=image/jpeg:https://myrecovery.org/wp-content/uploads/2024/09/AA-Elders-12x12-Format-5012x12-Discussion.jpg
LOCATION:https://zoom.us/j/91452702089?pwd=NmtSNjVpMWIwTHNKY2lIakUreFhRZz09
END:VEVENT
BEGIN:VEVENT
DTSTART;TZID=UTC:20280229T100000
DTEND;TZID=UTC:20280229T230000
DTSTAMP:20260421T121042
CREATED:20250611T222118Z
LAST-MODIFIED:20250613T170147Z
UID:10012980-1835431200-1835478000@myrecovery.org
SUMMARY:AA - Elders 12x12 - Format: (50+)12x12 Discussion
DESCRIPTION:12X12: Recovery meetings center around topics pulled from A.A. conference-approved literature\, including the Big Book and the Twelve Steps and Twelve Traditions book. The Trusted Servant speaks about the topic and opens the meeting up for discussion for all attendees. \nCLICK HERE to join the meeting!
URL:https://myrecovery.org/event/aa-elders-12x12-format-5012x12-discussion/2028-02-29/
CATEGORIES:12x12,Elders
ATTACH;FMTTYPE=image/jpeg:https://myrecovery.org/wp-content/uploads/2024/09/AA-Elders-12x12-Format-5012x12-Discussion.jpg
LOCATION:https://zoom.us/j/91452702089?pwd=NmtSNjVpMWIwTHNKY2lIakUreFhRZz09
END:VEVENT
BEGIN:VEVENT
DTSTART;TZID=UTC:20280307T100000
DTEND;TZID=UTC:20280307T230000
DTSTAMP:20260421T121042
CREATED:20250611T222118Z
LAST-MODIFIED:20250613T170147Z
UID:10012981-1836036000-1836082800@myrecovery.org
SUMMARY:AA - Elders 12x12 - Format: (50+)12x12 Discussion
DESCRIPTION:12X12: Recovery meetings center around topics pulled from A.A. conference-approved literature\, including the Big Book and the Twelve Steps and Twelve Traditions book. The Trusted Servant speaks about the topic and opens the meeting up for discussion for all attendees. \nCLICK HERE to join the meeting!
URL:https://myrecovery.org/event/aa-elders-12x12-format-5012x12-discussion/2028-03-07/
CATEGORIES:12x12,Elders
ATTACH;FMTTYPE=image/jpeg:https://myrecovery.org/wp-content/uploads/2024/09/AA-Elders-12x12-Format-5012x12-Discussion.jpg
LOCATION:https://zoom.us/j/91452702089?pwd=NmtSNjVpMWIwTHNKY2lIakUreFhRZz09
END:VEVENT
BEGIN:VEVENT
DTSTART;TZID=UTC:20280314T100000
DTEND;TZID=UTC:20280314T230000
DTSTAMP:20260421T121042
CREATED:20250611T222118Z
LAST-MODIFIED:20250613T170147Z
UID:10012982-1836640800-1836687600@myrecovery.org
SUMMARY:AA - Elders 12x12 - Format: (50+)12x12 Discussion
DESCRIPTION:12X12: Recovery meetings center around topics pulled from A.A. conference-approved literature\, including the Big Book and the Twelve Steps and Twelve Traditions book. The Trusted Servant speaks about the topic and opens the meeting up for discussion for all attendees. \nCLICK HERE to join the meeting!
URL:https://myrecovery.org/event/aa-elders-12x12-format-5012x12-discussion/2028-03-14/
CATEGORIES:12x12,Elders
ATTACH;FMTTYPE=image/jpeg:https://myrecovery.org/wp-content/uploads/2024/09/AA-Elders-12x12-Format-5012x12-Discussion.jpg
LOCATION:https://zoom.us/j/91452702089?pwd=NmtSNjVpMWIwTHNKY2lIakUreFhRZz09
END:VEVENT
BEGIN:VEVENT
DTSTART;TZID=UTC:20280321T100000
DTEND;TZID=UTC:20280321T230000
DTSTAMP:20260421T121042
CREATED:20250611T222118Z
LAST-MODIFIED:20250613T170147Z
UID:10012983-1837245600-1837292400@myrecovery.org
SUMMARY:AA - Elders 12x12 - Format: (50+)12x12 Discussion
DESCRIPTION:12X12: Recovery meetings center around topics pulled from A.A. conference-approved literature\, including the Big Book and the Twelve Steps and Twelve Traditions book. The Trusted Servant speaks about the topic and opens the meeting up for discussion for all attendees. \nCLICK HERE to join the meeting!
URL:https://myrecovery.org/event/aa-elders-12x12-format-5012x12-discussion/2028-03-21/
CATEGORIES:12x12,Elders
ATTACH;FMTTYPE=image/jpeg:https://myrecovery.org/wp-content/uploads/2024/09/AA-Elders-12x12-Format-5012x12-Discussion.jpg
LOCATION:https://zoom.us/j/91452702089?pwd=NmtSNjVpMWIwTHNKY2lIakUreFhRZz09
END:VEVENT
BEGIN:VEVENT
DTSTART;TZID=UTC:20280328T100000
DTEND;TZID=UTC:20280328T230000
DTSTAMP:20260421T121042
CREATED:20250611T222118Z
LAST-MODIFIED:20250613T170147Z
UID:10012984-1837850400-1837897200@myrecovery.org
SUMMARY:AA - Elders 12x12 - Format: (50+)12x12 Discussion
DESCRIPTION:12X12: Recovery meetings center around topics pulled from A.A. conference-approved literature\, including the Big Book and the Twelve Steps and Twelve Traditions book. The Trusted Servant speaks about the topic and opens the meeting up for discussion for all attendees. \nCLICK HERE to join the meeting!
URL:https://myrecovery.org/event/aa-elders-12x12-format-5012x12-discussion/2028-03-28/
CATEGORIES:12x12,Elders
ATTACH;FMTTYPE=image/jpeg:https://myrecovery.org/wp-content/uploads/2024/09/AA-Elders-12x12-Format-5012x12-Discussion.jpg
LOCATION:https://zoom.us/j/91452702089?pwd=NmtSNjVpMWIwTHNKY2lIakUreFhRZz09
END:VEVENT
END:VCALENDAR