BEGIN:VCALENDAR
VERSION:2.0
PRODID:-//My Recovery - ECPv6.15.17//NONSGML v1.0//EN
CALSCALE:GREGORIAN
METHOD:PUBLISH
X-WR-CALNAME:My Recovery
X-ORIGINAL-URL:https://myrecovery.org
X-WR-CALDESC:Events for My Recovery
REFRESH-INTERVAL;VALUE=DURATION:PT1H
X-Robots-Tag:noindex
X-PUBLISHED-TTL:PT1H
BEGIN:VTIMEZONE
TZID:UTC
BEGIN:STANDARD
TZOFFSETFROM:+0000
TZOFFSETTO:+0000
TZNAME:UTC
DTSTART:20260101T000000
END:STANDARD
END:VTIMEZONE
BEGIN:VEVENT
DTSTART;TZID=UTC:20270323T100000
DTEND;TZID=UTC:20270323T230000
DTSTAMP:20260421T085459
CREATED:20250611T222118Z
LAST-MODIFIED:20250613T170147Z
UID:10012931-1805796000-1805842800@myrecovery.org
SUMMARY:AA - Elders 12x12 - Format: (50+)12x12 Discussion
DESCRIPTION:12X12: Recovery meetings center around topics pulled from A.A. conference-approved literature\, including the Big Book and the Twelve Steps and Twelve Traditions book. The Trusted Servant speaks about the topic and opens the meeting up for discussion for all attendees. \nCLICK HERE to join the meeting!
URL:https://myrecovery.org/event/aa-elders-12x12-format-5012x12-discussion/2027-03-23/
CATEGORIES:12x12,Elders
ATTACH;FMTTYPE=image/jpeg:https://myrecovery.org/wp-content/uploads/2024/09/AA-Elders-12x12-Format-5012x12-Discussion.jpg
LOCATION:https://zoom.us/j/91452702089?pwd=NmtSNjVpMWIwTHNKY2lIakUreFhRZz09
END:VEVENT
BEGIN:VEVENT
DTSTART;TZID=UTC:20270330T100000
DTEND;TZID=UTC:20270330T230000
DTSTAMP:20260421T085459
CREATED:20250611T222118Z
LAST-MODIFIED:20250613T170147Z
UID:10012932-1806400800-1806447600@myrecovery.org
SUMMARY:AA - Elders 12x12 - Format: (50+)12x12 Discussion
DESCRIPTION:12X12: Recovery meetings center around topics pulled from A.A. conference-approved literature\, including the Big Book and the Twelve Steps and Twelve Traditions book. The Trusted Servant speaks about the topic and opens the meeting up for discussion for all attendees. \nCLICK HERE to join the meeting!
URL:https://myrecovery.org/event/aa-elders-12x12-format-5012x12-discussion/2027-03-30/
CATEGORIES:12x12,Elders
ATTACH;FMTTYPE=image/jpeg:https://myrecovery.org/wp-content/uploads/2024/09/AA-Elders-12x12-Format-5012x12-Discussion.jpg
LOCATION:https://zoom.us/j/91452702089?pwd=NmtSNjVpMWIwTHNKY2lIakUreFhRZz09
END:VEVENT
BEGIN:VEVENT
DTSTART;TZID=UTC:20270406T100000
DTEND;TZID=UTC:20270406T230000
DTSTAMP:20260421T085459
CREATED:20250611T222118Z
LAST-MODIFIED:20250613T170147Z
UID:10012933-1807005600-1807052400@myrecovery.org
SUMMARY:AA - Elders 12x12 - Format: (50+)12x12 Discussion
DESCRIPTION:12X12: Recovery meetings center around topics pulled from A.A. conference-approved literature\, including the Big Book and the Twelve Steps and Twelve Traditions book. The Trusted Servant speaks about the topic and opens the meeting up for discussion for all attendees. \nCLICK HERE to join the meeting!
URL:https://myrecovery.org/event/aa-elders-12x12-format-5012x12-discussion/2027-04-06/
CATEGORIES:12x12,Elders
ATTACH;FMTTYPE=image/jpeg:https://myrecovery.org/wp-content/uploads/2024/09/AA-Elders-12x12-Format-5012x12-Discussion.jpg
LOCATION:https://zoom.us/j/91452702089?pwd=NmtSNjVpMWIwTHNKY2lIakUreFhRZz09
END:VEVENT
BEGIN:VEVENT
DTSTART;TZID=UTC:20270413T100000
DTEND;TZID=UTC:20270413T230000
DTSTAMP:20260421T085459
CREATED:20250611T222118Z
LAST-MODIFIED:20250613T170147Z
UID:10012934-1807610400-1807657200@myrecovery.org
SUMMARY:AA - Elders 12x12 - Format: (50+)12x12 Discussion
DESCRIPTION:12X12: Recovery meetings center around topics pulled from A.A. conference-approved literature\, including the Big Book and the Twelve Steps and Twelve Traditions book. The Trusted Servant speaks about the topic and opens the meeting up for discussion for all attendees. \nCLICK HERE to join the meeting!
URL:https://myrecovery.org/event/aa-elders-12x12-format-5012x12-discussion/2027-04-13/
CATEGORIES:12x12,Elders
ATTACH;FMTTYPE=image/jpeg:https://myrecovery.org/wp-content/uploads/2024/09/AA-Elders-12x12-Format-5012x12-Discussion.jpg
LOCATION:https://zoom.us/j/91452702089?pwd=NmtSNjVpMWIwTHNKY2lIakUreFhRZz09
END:VEVENT
BEGIN:VEVENT
DTSTART;TZID=UTC:20270420T100000
DTEND;TZID=UTC:20270420T230000
DTSTAMP:20260421T085459
CREATED:20250611T222118Z
LAST-MODIFIED:20250613T170147Z
UID:10012935-1808215200-1808262000@myrecovery.org
SUMMARY:AA - Elders 12x12 - Format: (50+)12x12 Discussion
DESCRIPTION:12X12: Recovery meetings center around topics pulled from A.A. conference-approved literature\, including the Big Book and the Twelve Steps and Twelve Traditions book. The Trusted Servant speaks about the topic and opens the meeting up for discussion for all attendees. \nCLICK HERE to join the meeting!
URL:https://myrecovery.org/event/aa-elders-12x12-format-5012x12-discussion/2027-04-20/
CATEGORIES:12x12,Elders
ATTACH;FMTTYPE=image/jpeg:https://myrecovery.org/wp-content/uploads/2024/09/AA-Elders-12x12-Format-5012x12-Discussion.jpg
LOCATION:https://zoom.us/j/91452702089?pwd=NmtSNjVpMWIwTHNKY2lIakUreFhRZz09
END:VEVENT
BEGIN:VEVENT
DTSTART;TZID=UTC:20270427T100000
DTEND;TZID=UTC:20270427T230000
DTSTAMP:20260421T085459
CREATED:20250611T222118Z
LAST-MODIFIED:20250613T170147Z
UID:10012936-1808820000-1808866800@myrecovery.org
SUMMARY:AA - Elders 12x12 - Format: (50+)12x12 Discussion
DESCRIPTION:12X12: Recovery meetings center around topics pulled from A.A. conference-approved literature\, including the Big Book and the Twelve Steps and Twelve Traditions book. The Trusted Servant speaks about the topic and opens the meeting up for discussion for all attendees. \nCLICK HERE to join the meeting!
URL:https://myrecovery.org/event/aa-elders-12x12-format-5012x12-discussion/2027-04-27/
CATEGORIES:12x12,Elders
ATTACH;FMTTYPE=image/jpeg:https://myrecovery.org/wp-content/uploads/2024/09/AA-Elders-12x12-Format-5012x12-Discussion.jpg
LOCATION:https://zoom.us/j/91452702089?pwd=NmtSNjVpMWIwTHNKY2lIakUreFhRZz09
END:VEVENT
BEGIN:VEVENT
DTSTART;TZID=UTC:20270504T100000
DTEND;TZID=UTC:20270504T230000
DTSTAMP:20260421T085459
CREATED:20250611T222118Z
LAST-MODIFIED:20250613T170147Z
UID:10012937-1809424800-1809471600@myrecovery.org
SUMMARY:AA - Elders 12x12 - Format: (50+)12x12 Discussion
DESCRIPTION:12X12: Recovery meetings center around topics pulled from A.A. conference-approved literature\, including the Big Book and the Twelve Steps and Twelve Traditions book. The Trusted Servant speaks about the topic and opens the meeting up for discussion for all attendees. \nCLICK HERE to join the meeting!
URL:https://myrecovery.org/event/aa-elders-12x12-format-5012x12-discussion/2027-05-04/
CATEGORIES:12x12,Elders
ATTACH;FMTTYPE=image/jpeg:https://myrecovery.org/wp-content/uploads/2024/09/AA-Elders-12x12-Format-5012x12-Discussion.jpg
LOCATION:https://zoom.us/j/91452702089?pwd=NmtSNjVpMWIwTHNKY2lIakUreFhRZz09
END:VEVENT
BEGIN:VEVENT
DTSTART;TZID=UTC:20270511T100000
DTEND;TZID=UTC:20270511T230000
DTSTAMP:20260421T085459
CREATED:20250611T222118Z
LAST-MODIFIED:20250613T170147Z
UID:10012938-1810029600-1810076400@myrecovery.org
SUMMARY:AA - Elders 12x12 - Format: (50+)12x12 Discussion
DESCRIPTION:12X12: Recovery meetings center around topics pulled from A.A. conference-approved literature\, including the Big Book and the Twelve Steps and Twelve Traditions book. The Trusted Servant speaks about the topic and opens the meeting up for discussion for all attendees. \nCLICK HERE to join the meeting!
URL:https://myrecovery.org/event/aa-elders-12x12-format-5012x12-discussion/2027-05-11/
CATEGORIES:12x12,Elders
ATTACH;FMTTYPE=image/jpeg:https://myrecovery.org/wp-content/uploads/2024/09/AA-Elders-12x12-Format-5012x12-Discussion.jpg
LOCATION:https://zoom.us/j/91452702089?pwd=NmtSNjVpMWIwTHNKY2lIakUreFhRZz09
END:VEVENT
BEGIN:VEVENT
DTSTART;TZID=UTC:20270518T100000
DTEND;TZID=UTC:20270518T230000
DTSTAMP:20260421T085459
CREATED:20250611T222118Z
LAST-MODIFIED:20250613T170147Z
UID:10012939-1810634400-1810681200@myrecovery.org
SUMMARY:AA - Elders 12x12 - Format: (50+)12x12 Discussion
DESCRIPTION:12X12: Recovery meetings center around topics pulled from A.A. conference-approved literature\, including the Big Book and the Twelve Steps and Twelve Traditions book. The Trusted Servant speaks about the topic and opens the meeting up for discussion for all attendees. \nCLICK HERE to join the meeting!
URL:https://myrecovery.org/event/aa-elders-12x12-format-5012x12-discussion/2027-05-18/
CATEGORIES:12x12,Elders
ATTACH;FMTTYPE=image/jpeg:https://myrecovery.org/wp-content/uploads/2024/09/AA-Elders-12x12-Format-5012x12-Discussion.jpg
LOCATION:https://zoom.us/j/91452702089?pwd=NmtSNjVpMWIwTHNKY2lIakUreFhRZz09
END:VEVENT
BEGIN:VEVENT
DTSTART;TZID=UTC:20270525T100000
DTEND;TZID=UTC:20270525T230000
DTSTAMP:20260421T085459
CREATED:20250611T222118Z
LAST-MODIFIED:20250613T170147Z
UID:10012940-1811239200-1811286000@myrecovery.org
SUMMARY:AA - Elders 12x12 - Format: (50+)12x12 Discussion
DESCRIPTION:12X12: Recovery meetings center around topics pulled from A.A. conference-approved literature\, including the Big Book and the Twelve Steps and Twelve Traditions book. The Trusted Servant speaks about the topic and opens the meeting up for discussion for all attendees. \nCLICK HERE to join the meeting!
URL:https://myrecovery.org/event/aa-elders-12x12-format-5012x12-discussion/2027-05-25/
CATEGORIES:12x12,Elders
ATTACH;FMTTYPE=image/jpeg:https://myrecovery.org/wp-content/uploads/2024/09/AA-Elders-12x12-Format-5012x12-Discussion.jpg
LOCATION:https://zoom.us/j/91452702089?pwd=NmtSNjVpMWIwTHNKY2lIakUreFhRZz09
END:VEVENT
BEGIN:VEVENT
DTSTART;TZID=UTC:20270601T100000
DTEND;TZID=UTC:20270601T230000
DTSTAMP:20260421T085459
CREATED:20250611T222118Z
LAST-MODIFIED:20250613T170147Z
UID:10012941-1811844000-1811890800@myrecovery.org
SUMMARY:AA - Elders 12x12 - Format: (50+)12x12 Discussion
DESCRIPTION:12X12: Recovery meetings center around topics pulled from A.A. conference-approved literature\, including the Big Book and the Twelve Steps and Twelve Traditions book. The Trusted Servant speaks about the topic and opens the meeting up for discussion for all attendees. \nCLICK HERE to join the meeting!
URL:https://myrecovery.org/event/aa-elders-12x12-format-5012x12-discussion/2027-06-01/
CATEGORIES:12x12,Elders
ATTACH;FMTTYPE=image/jpeg:https://myrecovery.org/wp-content/uploads/2024/09/AA-Elders-12x12-Format-5012x12-Discussion.jpg
LOCATION:https://zoom.us/j/91452702089?pwd=NmtSNjVpMWIwTHNKY2lIakUreFhRZz09
END:VEVENT
BEGIN:VEVENT
DTSTART;TZID=UTC:20270608T100000
DTEND;TZID=UTC:20270608T230000
DTSTAMP:20260421T085459
CREATED:20250611T222118Z
LAST-MODIFIED:20250613T170147Z
UID:10012942-1812448800-1812495600@myrecovery.org
SUMMARY:AA - Elders 12x12 - Format: (50+)12x12 Discussion
DESCRIPTION:12X12: Recovery meetings center around topics pulled from A.A. conference-approved literature\, including the Big Book and the Twelve Steps and Twelve Traditions book. The Trusted Servant speaks about the topic and opens the meeting up for discussion for all attendees. \nCLICK HERE to join the meeting!
URL:https://myrecovery.org/event/aa-elders-12x12-format-5012x12-discussion/2027-06-08/
CATEGORIES:12x12,Elders
ATTACH;FMTTYPE=image/jpeg:https://myrecovery.org/wp-content/uploads/2024/09/AA-Elders-12x12-Format-5012x12-Discussion.jpg
LOCATION:https://zoom.us/j/91452702089?pwd=NmtSNjVpMWIwTHNKY2lIakUreFhRZz09
END:VEVENT
BEGIN:VEVENT
DTSTART;TZID=UTC:20270615T100000
DTEND;TZID=UTC:20270615T230000
DTSTAMP:20260421T085459
CREATED:20250611T222118Z
LAST-MODIFIED:20250613T170147Z
UID:10012943-1813053600-1813100400@myrecovery.org
SUMMARY:AA - Elders 12x12 - Format: (50+)12x12 Discussion
DESCRIPTION:12X12: Recovery meetings center around topics pulled from A.A. conference-approved literature\, including the Big Book and the Twelve Steps and Twelve Traditions book. The Trusted Servant speaks about the topic and opens the meeting up for discussion for all attendees. \nCLICK HERE to join the meeting!
URL:https://myrecovery.org/event/aa-elders-12x12-format-5012x12-discussion/2027-06-15/
CATEGORIES:12x12,Elders
ATTACH;FMTTYPE=image/jpeg:https://myrecovery.org/wp-content/uploads/2024/09/AA-Elders-12x12-Format-5012x12-Discussion.jpg
LOCATION:https://zoom.us/j/91452702089?pwd=NmtSNjVpMWIwTHNKY2lIakUreFhRZz09
END:VEVENT
BEGIN:VEVENT
DTSTART;TZID=UTC:20270622T100000
DTEND;TZID=UTC:20270622T230000
DTSTAMP:20260421T085459
CREATED:20250611T222118Z
LAST-MODIFIED:20250613T170147Z
UID:10012944-1813658400-1813705200@myrecovery.org
SUMMARY:AA - Elders 12x12 - Format: (50+)12x12 Discussion
DESCRIPTION:12X12: Recovery meetings center around topics pulled from A.A. conference-approved literature\, including the Big Book and the Twelve Steps and Twelve Traditions book. The Trusted Servant speaks about the topic and opens the meeting up for discussion for all attendees. \nCLICK HERE to join the meeting!
URL:https://myrecovery.org/event/aa-elders-12x12-format-5012x12-discussion/2027-06-22/
CATEGORIES:12x12,Elders
ATTACH;FMTTYPE=image/jpeg:https://myrecovery.org/wp-content/uploads/2024/09/AA-Elders-12x12-Format-5012x12-Discussion.jpg
LOCATION:https://zoom.us/j/91452702089?pwd=NmtSNjVpMWIwTHNKY2lIakUreFhRZz09
END:VEVENT
BEGIN:VEVENT
DTSTART;TZID=UTC:20270629T100000
DTEND;TZID=UTC:20270629T230000
DTSTAMP:20260421T085459
CREATED:20250611T222118Z
LAST-MODIFIED:20250613T170147Z
UID:10012945-1814263200-1814310000@myrecovery.org
SUMMARY:AA - Elders 12x12 - Format: (50+)12x12 Discussion
DESCRIPTION:12X12: Recovery meetings center around topics pulled from A.A. conference-approved literature\, including the Big Book and the Twelve Steps and Twelve Traditions book. The Trusted Servant speaks about the topic and opens the meeting up for discussion for all attendees. \nCLICK HERE to join the meeting!
URL:https://myrecovery.org/event/aa-elders-12x12-format-5012x12-discussion/2027-06-29/
CATEGORIES:12x12,Elders
ATTACH;FMTTYPE=image/jpeg:https://myrecovery.org/wp-content/uploads/2024/09/AA-Elders-12x12-Format-5012x12-Discussion.jpg
LOCATION:https://zoom.us/j/91452702089?pwd=NmtSNjVpMWIwTHNKY2lIakUreFhRZz09
END:VEVENT
BEGIN:VEVENT
DTSTART;TZID=UTC:20270706T100000
DTEND;TZID=UTC:20270706T230000
DTSTAMP:20260421T085459
CREATED:20250611T222118Z
LAST-MODIFIED:20250613T170147Z
UID:10012946-1814868000-1814914800@myrecovery.org
SUMMARY:AA - Elders 12x12 - Format: (50+)12x12 Discussion
DESCRIPTION:12X12: Recovery meetings center around topics pulled from A.A. conference-approved literature\, including the Big Book and the Twelve Steps and Twelve Traditions book. The Trusted Servant speaks about the topic and opens the meeting up for discussion for all attendees. \nCLICK HERE to join the meeting!
URL:https://myrecovery.org/event/aa-elders-12x12-format-5012x12-discussion/2027-07-06/
CATEGORIES:12x12,Elders
ATTACH;FMTTYPE=image/jpeg:https://myrecovery.org/wp-content/uploads/2024/09/AA-Elders-12x12-Format-5012x12-Discussion.jpg
LOCATION:https://zoom.us/j/91452702089?pwd=NmtSNjVpMWIwTHNKY2lIakUreFhRZz09
END:VEVENT
BEGIN:VEVENT
DTSTART;TZID=UTC:20270713T100000
DTEND;TZID=UTC:20270713T230000
DTSTAMP:20260421T085459
CREATED:20250611T222118Z
LAST-MODIFIED:20250613T170147Z
UID:10012947-1815472800-1815519600@myrecovery.org
SUMMARY:AA - Elders 12x12 - Format: (50+)12x12 Discussion
DESCRIPTION:12X12: Recovery meetings center around topics pulled from A.A. conference-approved literature\, including the Big Book and the Twelve Steps and Twelve Traditions book. The Trusted Servant speaks about the topic and opens the meeting up for discussion for all attendees. \nCLICK HERE to join the meeting!
URL:https://myrecovery.org/event/aa-elders-12x12-format-5012x12-discussion/2027-07-13/
CATEGORIES:12x12,Elders
ATTACH;FMTTYPE=image/jpeg:https://myrecovery.org/wp-content/uploads/2024/09/AA-Elders-12x12-Format-5012x12-Discussion.jpg
LOCATION:https://zoom.us/j/91452702089?pwd=NmtSNjVpMWIwTHNKY2lIakUreFhRZz09
END:VEVENT
BEGIN:VEVENT
DTSTART;TZID=UTC:20270720T100000
DTEND;TZID=UTC:20270720T230000
DTSTAMP:20260421T085459
CREATED:20250611T222118Z
LAST-MODIFIED:20250613T170147Z
UID:10012948-1816077600-1816124400@myrecovery.org
SUMMARY:AA - Elders 12x12 - Format: (50+)12x12 Discussion
DESCRIPTION:12X12: Recovery meetings center around topics pulled from A.A. conference-approved literature\, including the Big Book and the Twelve Steps and Twelve Traditions book. The Trusted Servant speaks about the topic and opens the meeting up for discussion for all attendees. \nCLICK HERE to join the meeting!
URL:https://myrecovery.org/event/aa-elders-12x12-format-5012x12-discussion/2027-07-20/
CATEGORIES:12x12,Elders
ATTACH;FMTTYPE=image/jpeg:https://myrecovery.org/wp-content/uploads/2024/09/AA-Elders-12x12-Format-5012x12-Discussion.jpg
LOCATION:https://zoom.us/j/91452702089?pwd=NmtSNjVpMWIwTHNKY2lIakUreFhRZz09
END:VEVENT
BEGIN:VEVENT
DTSTART;TZID=UTC:20270727T100000
DTEND;TZID=UTC:20270727T230000
DTSTAMP:20260421T085459
CREATED:20250611T222118Z
LAST-MODIFIED:20250613T170147Z
UID:10012949-1816682400-1816729200@myrecovery.org
SUMMARY:AA - Elders 12x12 - Format: (50+)12x12 Discussion
DESCRIPTION:12X12: Recovery meetings center around topics pulled from A.A. conference-approved literature\, including the Big Book and the Twelve Steps and Twelve Traditions book. The Trusted Servant speaks about the topic and opens the meeting up for discussion for all attendees. \nCLICK HERE to join the meeting!
URL:https://myrecovery.org/event/aa-elders-12x12-format-5012x12-discussion/2027-07-27/
CATEGORIES:12x12,Elders
ATTACH;FMTTYPE=image/jpeg:https://myrecovery.org/wp-content/uploads/2024/09/AA-Elders-12x12-Format-5012x12-Discussion.jpg
LOCATION:https://zoom.us/j/91452702089?pwd=NmtSNjVpMWIwTHNKY2lIakUreFhRZz09
END:VEVENT
BEGIN:VEVENT
DTSTART;TZID=UTC:20270803T100000
DTEND;TZID=UTC:20270803T230000
DTSTAMP:20260421T085459
CREATED:20250611T222118Z
LAST-MODIFIED:20250613T170147Z
UID:10012950-1817287200-1817334000@myrecovery.org
SUMMARY:AA - Elders 12x12 - Format: (50+)12x12 Discussion
DESCRIPTION:12X12: Recovery meetings center around topics pulled from A.A. conference-approved literature\, including the Big Book and the Twelve Steps and Twelve Traditions book. The Trusted Servant speaks about the topic and opens the meeting up for discussion for all attendees. \nCLICK HERE to join the meeting!
URL:https://myrecovery.org/event/aa-elders-12x12-format-5012x12-discussion/2027-08-03/
CATEGORIES:12x12,Elders
ATTACH;FMTTYPE=image/jpeg:https://myrecovery.org/wp-content/uploads/2024/09/AA-Elders-12x12-Format-5012x12-Discussion.jpg
LOCATION:https://zoom.us/j/91452702089?pwd=NmtSNjVpMWIwTHNKY2lIakUreFhRZz09
END:VEVENT
BEGIN:VEVENT
DTSTART;TZID=UTC:20270810T100000
DTEND;TZID=UTC:20270810T230000
DTSTAMP:20260421T085459
CREATED:20250611T222118Z
LAST-MODIFIED:20250613T170147Z
UID:10012951-1817892000-1817938800@myrecovery.org
SUMMARY:AA - Elders 12x12 - Format: (50+)12x12 Discussion
DESCRIPTION:12X12: Recovery meetings center around topics pulled from A.A. conference-approved literature\, including the Big Book and the Twelve Steps and Twelve Traditions book. The Trusted Servant speaks about the topic and opens the meeting up for discussion for all attendees. \nCLICK HERE to join the meeting!
URL:https://myrecovery.org/event/aa-elders-12x12-format-5012x12-discussion/2027-08-10/
CATEGORIES:12x12,Elders
ATTACH;FMTTYPE=image/jpeg:https://myrecovery.org/wp-content/uploads/2024/09/AA-Elders-12x12-Format-5012x12-Discussion.jpg
LOCATION:https://zoom.us/j/91452702089?pwd=NmtSNjVpMWIwTHNKY2lIakUreFhRZz09
END:VEVENT
BEGIN:VEVENT
DTSTART;TZID=UTC:20270817T100000
DTEND;TZID=UTC:20270817T230000
DTSTAMP:20260421T085459
CREATED:20250611T222118Z
LAST-MODIFIED:20250613T170147Z
UID:10012952-1818496800-1818543600@myrecovery.org
SUMMARY:AA - Elders 12x12 - Format: (50+)12x12 Discussion
DESCRIPTION:12X12: Recovery meetings center around topics pulled from A.A. conference-approved literature\, including the Big Book and the Twelve Steps and Twelve Traditions book. The Trusted Servant speaks about the topic and opens the meeting up for discussion for all attendees. \nCLICK HERE to join the meeting!
URL:https://myrecovery.org/event/aa-elders-12x12-format-5012x12-discussion/2027-08-17/
CATEGORIES:12x12,Elders
ATTACH;FMTTYPE=image/jpeg:https://myrecovery.org/wp-content/uploads/2024/09/AA-Elders-12x12-Format-5012x12-Discussion.jpg
LOCATION:https://zoom.us/j/91452702089?pwd=NmtSNjVpMWIwTHNKY2lIakUreFhRZz09
END:VEVENT
BEGIN:VEVENT
DTSTART;TZID=UTC:20270824T100000
DTEND;TZID=UTC:20270824T230000
DTSTAMP:20260421T085459
CREATED:20250611T222118Z
LAST-MODIFIED:20250613T170147Z
UID:10012953-1819101600-1819148400@myrecovery.org
SUMMARY:AA - Elders 12x12 - Format: (50+)12x12 Discussion
DESCRIPTION:12X12: Recovery meetings center around topics pulled from A.A. conference-approved literature\, including the Big Book and the Twelve Steps and Twelve Traditions book. The Trusted Servant speaks about the topic and opens the meeting up for discussion for all attendees. \nCLICK HERE to join the meeting!
URL:https://myrecovery.org/event/aa-elders-12x12-format-5012x12-discussion/2027-08-24/
CATEGORIES:12x12,Elders
ATTACH;FMTTYPE=image/jpeg:https://myrecovery.org/wp-content/uploads/2024/09/AA-Elders-12x12-Format-5012x12-Discussion.jpg
LOCATION:https://zoom.us/j/91452702089?pwd=NmtSNjVpMWIwTHNKY2lIakUreFhRZz09
END:VEVENT
BEGIN:VEVENT
DTSTART;TZID=UTC:20270831T100000
DTEND;TZID=UTC:20270831T230000
DTSTAMP:20260421T085459
CREATED:20250611T222118Z
LAST-MODIFIED:20250613T170147Z
UID:10012954-1819706400-1819753200@myrecovery.org
SUMMARY:AA - Elders 12x12 - Format: (50+)12x12 Discussion
DESCRIPTION:12X12: Recovery meetings center around topics pulled from A.A. conference-approved literature\, including the Big Book and the Twelve Steps and Twelve Traditions book. The Trusted Servant speaks about the topic and opens the meeting up for discussion for all attendees. \nCLICK HERE to join the meeting!
URL:https://myrecovery.org/event/aa-elders-12x12-format-5012x12-discussion/2027-08-31/
CATEGORIES:12x12,Elders
ATTACH;FMTTYPE=image/jpeg:https://myrecovery.org/wp-content/uploads/2024/09/AA-Elders-12x12-Format-5012x12-Discussion.jpg
LOCATION:https://zoom.us/j/91452702089?pwd=NmtSNjVpMWIwTHNKY2lIakUreFhRZz09
END:VEVENT
BEGIN:VEVENT
DTSTART;TZID=UTC:20270907T100000
DTEND;TZID=UTC:20270907T230000
DTSTAMP:20260421T085459
CREATED:20250611T222118Z
LAST-MODIFIED:20250613T170147Z
UID:10012955-1820311200-1820358000@myrecovery.org
SUMMARY:AA - Elders 12x12 - Format: (50+)12x12 Discussion
DESCRIPTION:12X12: Recovery meetings center around topics pulled from A.A. conference-approved literature\, including the Big Book and the Twelve Steps and Twelve Traditions book. The Trusted Servant speaks about the topic and opens the meeting up for discussion for all attendees. \nCLICK HERE to join the meeting!
URL:https://myrecovery.org/event/aa-elders-12x12-format-5012x12-discussion/2027-09-07/
CATEGORIES:12x12,Elders
ATTACH;FMTTYPE=image/jpeg:https://myrecovery.org/wp-content/uploads/2024/09/AA-Elders-12x12-Format-5012x12-Discussion.jpg
LOCATION:https://zoom.us/j/91452702089?pwd=NmtSNjVpMWIwTHNKY2lIakUreFhRZz09
END:VEVENT
BEGIN:VEVENT
DTSTART;TZID=UTC:20270914T100000
DTEND;TZID=UTC:20270914T230000
DTSTAMP:20260421T085459
CREATED:20250611T222118Z
LAST-MODIFIED:20250613T170147Z
UID:10012956-1820916000-1820962800@myrecovery.org
SUMMARY:AA - Elders 12x12 - Format: (50+)12x12 Discussion
DESCRIPTION:12X12: Recovery meetings center around topics pulled from A.A. conference-approved literature\, including the Big Book and the Twelve Steps and Twelve Traditions book. The Trusted Servant speaks about the topic and opens the meeting up for discussion for all attendees. \nCLICK HERE to join the meeting!
URL:https://myrecovery.org/event/aa-elders-12x12-format-5012x12-discussion/2027-09-14/
CATEGORIES:12x12,Elders
ATTACH;FMTTYPE=image/jpeg:https://myrecovery.org/wp-content/uploads/2024/09/AA-Elders-12x12-Format-5012x12-Discussion.jpg
LOCATION:https://zoom.us/j/91452702089?pwd=NmtSNjVpMWIwTHNKY2lIakUreFhRZz09
END:VEVENT
BEGIN:VEVENT
DTSTART;TZID=UTC:20270921T100000
DTEND;TZID=UTC:20270921T230000
DTSTAMP:20260421T085459
CREATED:20250611T222118Z
LAST-MODIFIED:20250613T170147Z
UID:10012957-1821520800-1821567600@myrecovery.org
SUMMARY:AA - Elders 12x12 - Format: (50+)12x12 Discussion
DESCRIPTION:12X12: Recovery meetings center around topics pulled from A.A. conference-approved literature\, including the Big Book and the Twelve Steps and Twelve Traditions book. The Trusted Servant speaks about the topic and opens the meeting up for discussion for all attendees. \nCLICK HERE to join the meeting!
URL:https://myrecovery.org/event/aa-elders-12x12-format-5012x12-discussion/2027-09-21/
CATEGORIES:12x12,Elders
ATTACH;FMTTYPE=image/jpeg:https://myrecovery.org/wp-content/uploads/2024/09/AA-Elders-12x12-Format-5012x12-Discussion.jpg
LOCATION:https://zoom.us/j/91452702089?pwd=NmtSNjVpMWIwTHNKY2lIakUreFhRZz09
END:VEVENT
BEGIN:VEVENT
DTSTART;TZID=UTC:20270928T100000
DTEND;TZID=UTC:20270928T230000
DTSTAMP:20260421T085459
CREATED:20250611T222118Z
LAST-MODIFIED:20250613T170147Z
UID:10012958-1822125600-1822172400@myrecovery.org
SUMMARY:AA - Elders 12x12 - Format: (50+)12x12 Discussion
DESCRIPTION:12X12: Recovery meetings center around topics pulled from A.A. conference-approved literature\, including the Big Book and the Twelve Steps and Twelve Traditions book. The Trusted Servant speaks about the topic and opens the meeting up for discussion for all attendees. \nCLICK HERE to join the meeting!
URL:https://myrecovery.org/event/aa-elders-12x12-format-5012x12-discussion/2027-09-28/
CATEGORIES:12x12,Elders
ATTACH;FMTTYPE=image/jpeg:https://myrecovery.org/wp-content/uploads/2024/09/AA-Elders-12x12-Format-5012x12-Discussion.jpg
LOCATION:https://zoom.us/j/91452702089?pwd=NmtSNjVpMWIwTHNKY2lIakUreFhRZz09
END:VEVENT
BEGIN:VEVENT
DTSTART;TZID=UTC:20271005T100000
DTEND;TZID=UTC:20271005T230000
DTSTAMP:20260421T085459
CREATED:20250611T222118Z
LAST-MODIFIED:20250613T170147Z
UID:10012959-1822730400-1822777200@myrecovery.org
SUMMARY:AA - Elders 12x12 - Format: (50+)12x12 Discussion
DESCRIPTION:12X12: Recovery meetings center around topics pulled from A.A. conference-approved literature\, including the Big Book and the Twelve Steps and Twelve Traditions book. The Trusted Servant speaks about the topic and opens the meeting up for discussion for all attendees. \nCLICK HERE to join the meeting!
URL:https://myrecovery.org/event/aa-elders-12x12-format-5012x12-discussion/2027-10-05/
CATEGORIES:12x12,Elders
ATTACH;FMTTYPE=image/jpeg:https://myrecovery.org/wp-content/uploads/2024/09/AA-Elders-12x12-Format-5012x12-Discussion.jpg
LOCATION:https://zoom.us/j/91452702089?pwd=NmtSNjVpMWIwTHNKY2lIakUreFhRZz09
END:VEVENT
BEGIN:VEVENT
DTSTART;TZID=UTC:20271012T100000
DTEND;TZID=UTC:20271012T230000
DTSTAMP:20260421T085459
CREATED:20250611T222118Z
LAST-MODIFIED:20250613T170147Z
UID:10012960-1823335200-1823382000@myrecovery.org
SUMMARY:AA - Elders 12x12 - Format: (50+)12x12 Discussion
DESCRIPTION:12X12: Recovery meetings center around topics pulled from A.A. conference-approved literature\, including the Big Book and the Twelve Steps and Twelve Traditions book. The Trusted Servant speaks about the topic and opens the meeting up for discussion for all attendees. \nCLICK HERE to join the meeting!
URL:https://myrecovery.org/event/aa-elders-12x12-format-5012x12-discussion/2027-10-12/
CATEGORIES:12x12,Elders
ATTACH;FMTTYPE=image/jpeg:https://myrecovery.org/wp-content/uploads/2024/09/AA-Elders-12x12-Format-5012x12-Discussion.jpg
LOCATION:https://zoom.us/j/91452702089?pwd=NmtSNjVpMWIwTHNKY2lIakUreFhRZz09
END:VEVENT
END:VCALENDAR