BEGIN:VCALENDAR
VERSION:2.0
PRODID:-//My Recovery - ECPv6.15.17//NONSGML v1.0//EN
CALSCALE:GREGORIAN
METHOD:PUBLISH
X-WR-CALNAME:My Recovery
X-ORIGINAL-URL:https://myrecovery.org
X-WR-CALDESC:Events for My Recovery
REFRESH-INTERVAL;VALUE=DURATION:PT1H
X-Robots-Tag:noindex
X-PUBLISHED-TTL:PT1H
BEGIN:VTIMEZONE
TZID:UTC
BEGIN:STANDARD
TZOFFSETFROM:+0000
TZOFFSETTO:+0000
TZNAME:UTC
DTSTART:20290101T000000
END:STANDARD
END:VTIMEZONE
BEGIN:VEVENT
DTSTART;TZID=UTC:20300319T100000
DTEND;TZID=UTC:20300319T230000
DTSTAMP:20260422T065046
CREATED:20250611T222118Z
LAST-MODIFIED:20250613T170147Z
UID:10013087-1900144800-1900191600@myrecovery.org
SUMMARY:AA - Elders 12x12 - Format: (50+)12x12 Discussion
DESCRIPTION:12X12: Recovery meetings center around topics pulled from A.A. conference-approved literature\, including the Big Book and the Twelve Steps and Twelve Traditions book. The Trusted Servant speaks about the topic and opens the meeting up for discussion for all attendees. \nCLICK HERE to join the meeting!
URL:https://myrecovery.org/event/aa-elders-12x12-format-5012x12-discussion/2030-03-19/
CATEGORIES:12x12,Elders
ATTACH;FMTTYPE=image/jpeg:https://myrecovery.org/wp-content/uploads/2024/09/AA-Elders-12x12-Format-5012x12-Discussion.jpg
LOCATION:https://zoom.us/j/91452702089?pwd=NmtSNjVpMWIwTHNKY2lIakUreFhRZz09
END:VEVENT
BEGIN:VEVENT
DTSTART;TZID=UTC:20300326T100000
DTEND;TZID=UTC:20300326T230000
DTSTAMP:20260422T065046
CREATED:20250611T222118Z
LAST-MODIFIED:20250613T170147Z
UID:10013088-1900749600-1900796400@myrecovery.org
SUMMARY:AA - Elders 12x12 - Format: (50+)12x12 Discussion
DESCRIPTION:12X12: Recovery meetings center around topics pulled from A.A. conference-approved literature\, including the Big Book and the Twelve Steps and Twelve Traditions book. The Trusted Servant speaks about the topic and opens the meeting up for discussion for all attendees. \nCLICK HERE to join the meeting!
URL:https://myrecovery.org/event/aa-elders-12x12-format-5012x12-discussion/2030-03-26/
CATEGORIES:12x12,Elders
ATTACH;FMTTYPE=image/jpeg:https://myrecovery.org/wp-content/uploads/2024/09/AA-Elders-12x12-Format-5012x12-Discussion.jpg
LOCATION:https://zoom.us/j/91452702089?pwd=NmtSNjVpMWIwTHNKY2lIakUreFhRZz09
END:VEVENT
BEGIN:VEVENT
DTSTART;TZID=UTC:20300402T100000
DTEND;TZID=UTC:20300402T230000
DTSTAMP:20260422T065046
CREATED:20250611T222118Z
LAST-MODIFIED:20250613T170147Z
UID:10013089-1901354400-1901401200@myrecovery.org
SUMMARY:AA - Elders 12x12 - Format: (50+)12x12 Discussion
DESCRIPTION:12X12: Recovery meetings center around topics pulled from A.A. conference-approved literature\, including the Big Book and the Twelve Steps and Twelve Traditions book. The Trusted Servant speaks about the topic and opens the meeting up for discussion for all attendees. \nCLICK HERE to join the meeting!
URL:https://myrecovery.org/event/aa-elders-12x12-format-5012x12-discussion/2030-04-02/
CATEGORIES:12x12,Elders
ATTACH;FMTTYPE=image/jpeg:https://myrecovery.org/wp-content/uploads/2024/09/AA-Elders-12x12-Format-5012x12-Discussion.jpg
LOCATION:https://zoom.us/j/91452702089?pwd=NmtSNjVpMWIwTHNKY2lIakUreFhRZz09
END:VEVENT
BEGIN:VEVENT
DTSTART;TZID=UTC:20300409T100000
DTEND;TZID=UTC:20300409T230000
DTSTAMP:20260422T065046
CREATED:20250611T222118Z
LAST-MODIFIED:20250613T170147Z
UID:10013090-1901959200-1902006000@myrecovery.org
SUMMARY:AA - Elders 12x12 - Format: (50+)12x12 Discussion
DESCRIPTION:12X12: Recovery meetings center around topics pulled from A.A. conference-approved literature\, including the Big Book and the Twelve Steps and Twelve Traditions book. The Trusted Servant speaks about the topic and opens the meeting up for discussion for all attendees. \nCLICK HERE to join the meeting!
URL:https://myrecovery.org/event/aa-elders-12x12-format-5012x12-discussion/2030-04-09/
CATEGORIES:12x12,Elders
ATTACH;FMTTYPE=image/jpeg:https://myrecovery.org/wp-content/uploads/2024/09/AA-Elders-12x12-Format-5012x12-Discussion.jpg
LOCATION:https://zoom.us/j/91452702089?pwd=NmtSNjVpMWIwTHNKY2lIakUreFhRZz09
END:VEVENT
BEGIN:VEVENT
DTSTART;TZID=UTC:20300416T100000
DTEND;TZID=UTC:20300416T230000
DTSTAMP:20260422T065046
CREATED:20250611T222118Z
LAST-MODIFIED:20250613T170147Z
UID:10013091-1902564000-1902610800@myrecovery.org
SUMMARY:AA - Elders 12x12 - Format: (50+)12x12 Discussion
DESCRIPTION:12X12: Recovery meetings center around topics pulled from A.A. conference-approved literature\, including the Big Book and the Twelve Steps and Twelve Traditions book. The Trusted Servant speaks about the topic and opens the meeting up for discussion for all attendees. \nCLICK HERE to join the meeting!
URL:https://myrecovery.org/event/aa-elders-12x12-format-5012x12-discussion/2030-04-16/
CATEGORIES:12x12,Elders
ATTACH;FMTTYPE=image/jpeg:https://myrecovery.org/wp-content/uploads/2024/09/AA-Elders-12x12-Format-5012x12-Discussion.jpg
LOCATION:https://zoom.us/j/91452702089?pwd=NmtSNjVpMWIwTHNKY2lIakUreFhRZz09
END:VEVENT
BEGIN:VEVENT
DTSTART;TZID=UTC:20300423T100000
DTEND;TZID=UTC:20300423T230000
DTSTAMP:20260422T065046
CREATED:20250611T222118Z
LAST-MODIFIED:20250613T170147Z
UID:10013092-1903168800-1903215600@myrecovery.org
SUMMARY:AA - Elders 12x12 - Format: (50+)12x12 Discussion
DESCRIPTION:12X12: Recovery meetings center around topics pulled from A.A. conference-approved literature\, including the Big Book and the Twelve Steps and Twelve Traditions book. The Trusted Servant speaks about the topic and opens the meeting up for discussion for all attendees. \nCLICK HERE to join the meeting!
URL:https://myrecovery.org/event/aa-elders-12x12-format-5012x12-discussion/2030-04-23/
CATEGORIES:12x12,Elders
ATTACH;FMTTYPE=image/jpeg:https://myrecovery.org/wp-content/uploads/2024/09/AA-Elders-12x12-Format-5012x12-Discussion.jpg
LOCATION:https://zoom.us/j/91452702089?pwd=NmtSNjVpMWIwTHNKY2lIakUreFhRZz09
END:VEVENT
BEGIN:VEVENT
DTSTART;TZID=UTC:20300430T100000
DTEND;TZID=UTC:20300430T230000
DTSTAMP:20260422T065046
CREATED:20250611T222118Z
LAST-MODIFIED:20250613T170147Z
UID:10013093-1903773600-1903820400@myrecovery.org
SUMMARY:AA - Elders 12x12 - Format: (50+)12x12 Discussion
DESCRIPTION:12X12: Recovery meetings center around topics pulled from A.A. conference-approved literature\, including the Big Book and the Twelve Steps and Twelve Traditions book. The Trusted Servant speaks about the topic and opens the meeting up for discussion for all attendees. \nCLICK HERE to join the meeting!
URL:https://myrecovery.org/event/aa-elders-12x12-format-5012x12-discussion/2030-04-30/
CATEGORIES:12x12,Elders
ATTACH;FMTTYPE=image/jpeg:https://myrecovery.org/wp-content/uploads/2024/09/AA-Elders-12x12-Format-5012x12-Discussion.jpg
LOCATION:https://zoom.us/j/91452702089?pwd=NmtSNjVpMWIwTHNKY2lIakUreFhRZz09
END:VEVENT
BEGIN:VEVENT
DTSTART;TZID=UTC:20300507T100000
DTEND;TZID=UTC:20300507T230000
DTSTAMP:20260422T065046
CREATED:20250611T222118Z
LAST-MODIFIED:20250613T170147Z
UID:10013094-1904378400-1904425200@myrecovery.org
SUMMARY:AA - Elders 12x12 - Format: (50+)12x12 Discussion
DESCRIPTION:12X12: Recovery meetings center around topics pulled from A.A. conference-approved literature\, including the Big Book and the Twelve Steps and Twelve Traditions book. The Trusted Servant speaks about the topic and opens the meeting up for discussion for all attendees. \nCLICK HERE to join the meeting!
URL:https://myrecovery.org/event/aa-elders-12x12-format-5012x12-discussion/2030-05-07/
CATEGORIES:12x12,Elders
ATTACH;FMTTYPE=image/jpeg:https://myrecovery.org/wp-content/uploads/2024/09/AA-Elders-12x12-Format-5012x12-Discussion.jpg
LOCATION:https://zoom.us/j/91452702089?pwd=NmtSNjVpMWIwTHNKY2lIakUreFhRZz09
END:VEVENT
BEGIN:VEVENT
DTSTART;TZID=UTC:20300514T100000
DTEND;TZID=UTC:20300514T230000
DTSTAMP:20260422T065046
CREATED:20250611T222118Z
LAST-MODIFIED:20250613T170147Z
UID:10013095-1904983200-1905030000@myrecovery.org
SUMMARY:AA - Elders 12x12 - Format: (50+)12x12 Discussion
DESCRIPTION:12X12: Recovery meetings center around topics pulled from A.A. conference-approved literature\, including the Big Book and the Twelve Steps and Twelve Traditions book. The Trusted Servant speaks about the topic and opens the meeting up for discussion for all attendees. \nCLICK HERE to join the meeting!
URL:https://myrecovery.org/event/aa-elders-12x12-format-5012x12-discussion/2030-05-14/
CATEGORIES:12x12,Elders
ATTACH;FMTTYPE=image/jpeg:https://myrecovery.org/wp-content/uploads/2024/09/AA-Elders-12x12-Format-5012x12-Discussion.jpg
LOCATION:https://zoom.us/j/91452702089?pwd=NmtSNjVpMWIwTHNKY2lIakUreFhRZz09
END:VEVENT
BEGIN:VEVENT
DTSTART;TZID=UTC:20300521T100000
DTEND;TZID=UTC:20300521T230000
DTSTAMP:20260422T065046
CREATED:20250611T222118Z
LAST-MODIFIED:20250613T170147Z
UID:10013096-1905588000-1905634800@myrecovery.org
SUMMARY:AA - Elders 12x12 - Format: (50+)12x12 Discussion
DESCRIPTION:12X12: Recovery meetings center around topics pulled from A.A. conference-approved literature\, including the Big Book and the Twelve Steps and Twelve Traditions book. The Trusted Servant speaks about the topic and opens the meeting up for discussion for all attendees. \nCLICK HERE to join the meeting!
URL:https://myrecovery.org/event/aa-elders-12x12-format-5012x12-discussion/2030-05-21/
CATEGORIES:12x12,Elders
ATTACH;FMTTYPE=image/jpeg:https://myrecovery.org/wp-content/uploads/2024/09/AA-Elders-12x12-Format-5012x12-Discussion.jpg
LOCATION:https://zoom.us/j/91452702089?pwd=NmtSNjVpMWIwTHNKY2lIakUreFhRZz09
END:VEVENT
BEGIN:VEVENT
DTSTART;TZID=UTC:20300528T100000
DTEND;TZID=UTC:20300528T230000
DTSTAMP:20260422T065046
CREATED:20250611T222118Z
LAST-MODIFIED:20250613T170147Z
UID:10013097-1906192800-1906239600@myrecovery.org
SUMMARY:AA - Elders 12x12 - Format: (50+)12x12 Discussion
DESCRIPTION:12X12: Recovery meetings center around topics pulled from A.A. conference-approved literature\, including the Big Book and the Twelve Steps and Twelve Traditions book. The Trusted Servant speaks about the topic and opens the meeting up for discussion for all attendees. \nCLICK HERE to join the meeting!
URL:https://myrecovery.org/event/aa-elders-12x12-format-5012x12-discussion/2030-05-28/
CATEGORIES:12x12,Elders
ATTACH;FMTTYPE=image/jpeg:https://myrecovery.org/wp-content/uploads/2024/09/AA-Elders-12x12-Format-5012x12-Discussion.jpg
LOCATION:https://zoom.us/j/91452702089?pwd=NmtSNjVpMWIwTHNKY2lIakUreFhRZz09
END:VEVENT
BEGIN:VEVENT
DTSTART;TZID=UTC:20300604T100000
DTEND;TZID=UTC:20300604T230000
DTSTAMP:20260422T065046
CREATED:20250611T222118Z
LAST-MODIFIED:20250613T170147Z
UID:10013098-1906797600-1906844400@myrecovery.org
SUMMARY:AA - Elders 12x12 - Format: (50+)12x12 Discussion
DESCRIPTION:12X12: Recovery meetings center around topics pulled from A.A. conference-approved literature\, including the Big Book and the Twelve Steps and Twelve Traditions book. The Trusted Servant speaks about the topic and opens the meeting up for discussion for all attendees. \nCLICK HERE to join the meeting!
URL:https://myrecovery.org/event/aa-elders-12x12-format-5012x12-discussion/2030-06-04/
CATEGORIES:12x12,Elders
ATTACH;FMTTYPE=image/jpeg:https://myrecovery.org/wp-content/uploads/2024/09/AA-Elders-12x12-Format-5012x12-Discussion.jpg
LOCATION:https://zoom.us/j/91452702089?pwd=NmtSNjVpMWIwTHNKY2lIakUreFhRZz09
END:VEVENT
BEGIN:VEVENT
DTSTART;TZID=UTC:20300611T100000
DTEND;TZID=UTC:20300611T230000
DTSTAMP:20260422T065046
CREATED:20250611T222118Z
LAST-MODIFIED:20250613T170147Z
UID:10013099-1907402400-1907449200@myrecovery.org
SUMMARY:AA - Elders 12x12 - Format: (50+)12x12 Discussion
DESCRIPTION:12X12: Recovery meetings center around topics pulled from A.A. conference-approved literature\, including the Big Book and the Twelve Steps and Twelve Traditions book. The Trusted Servant speaks about the topic and opens the meeting up for discussion for all attendees. \nCLICK HERE to join the meeting!
URL:https://myrecovery.org/event/aa-elders-12x12-format-5012x12-discussion/2030-06-11/
CATEGORIES:12x12,Elders
ATTACH;FMTTYPE=image/jpeg:https://myrecovery.org/wp-content/uploads/2024/09/AA-Elders-12x12-Format-5012x12-Discussion.jpg
LOCATION:https://zoom.us/j/91452702089?pwd=NmtSNjVpMWIwTHNKY2lIakUreFhRZz09
END:VEVENT
END:VCALENDAR