BEGIN:VCALENDAR
VERSION:2.0
PRODID:-//My Recovery - ECPv6.15.17//NONSGML v1.0//EN
CALSCALE:GREGORIAN
METHOD:PUBLISH
X-WR-CALNAME:My Recovery
X-ORIGINAL-URL:https://myrecovery.org
X-WR-CALDESC:Events for My Recovery
REFRESH-INTERVAL;VALUE=DURATION:PT1H
X-Robots-Tag:noindex
X-PUBLISHED-TTL:PT1H
BEGIN:VTIMEZONE
TZID:UTC
BEGIN:STANDARD
TZOFFSETFROM:+0000
TZOFFSETTO:+0000
TZNAME:UTC
DTSTART:20280101T000000
END:STANDARD
END:VTIMEZONE
BEGIN:VEVENT
DTSTART;TZID=UTC:20290417T100000
DTEND;TZID=UTC:20290417T230000
DTSTAMP:20260422T002043
CREATED:20250611T222118Z
LAST-MODIFIED:20250613T170147Z
UID:10013039-1871114400-1871161200@myrecovery.org
SUMMARY:AA - Elders 12x12 - Format: (50+)12x12 Discussion
DESCRIPTION:12X12: Recovery meetings center around topics pulled from A.A. conference-approved literature\, including the Big Book and the Twelve Steps and Twelve Traditions book. The Trusted Servant speaks about the topic and opens the meeting up for discussion for all attendees. \nCLICK HERE to join the meeting!
URL:https://myrecovery.org/event/aa-elders-12x12-format-5012x12-discussion/2029-04-17/
CATEGORIES:12x12,Elders
ATTACH;FMTTYPE=image/jpeg:https://myrecovery.org/wp-content/uploads/2024/09/AA-Elders-12x12-Format-5012x12-Discussion.jpg
LOCATION:https://zoom.us/j/91452702089?pwd=NmtSNjVpMWIwTHNKY2lIakUreFhRZz09
END:VEVENT
BEGIN:VEVENT
DTSTART;TZID=UTC:20290424T100000
DTEND;TZID=UTC:20290424T230000
DTSTAMP:20260422T002043
CREATED:20250611T222118Z
LAST-MODIFIED:20250613T170147Z
UID:10013040-1871719200-1871766000@myrecovery.org
SUMMARY:AA - Elders 12x12 - Format: (50+)12x12 Discussion
DESCRIPTION:12X12: Recovery meetings center around topics pulled from A.A. conference-approved literature\, including the Big Book and the Twelve Steps and Twelve Traditions book. The Trusted Servant speaks about the topic and opens the meeting up for discussion for all attendees. \nCLICK HERE to join the meeting!
URL:https://myrecovery.org/event/aa-elders-12x12-format-5012x12-discussion/2029-04-24/
CATEGORIES:12x12,Elders
ATTACH;FMTTYPE=image/jpeg:https://myrecovery.org/wp-content/uploads/2024/09/AA-Elders-12x12-Format-5012x12-Discussion.jpg
LOCATION:https://zoom.us/j/91452702089?pwd=NmtSNjVpMWIwTHNKY2lIakUreFhRZz09
END:VEVENT
BEGIN:VEVENT
DTSTART;TZID=UTC:20290501T100000
DTEND;TZID=UTC:20290501T230000
DTSTAMP:20260422T002043
CREATED:20250611T222118Z
LAST-MODIFIED:20250613T170147Z
UID:10013041-1872324000-1872370800@myrecovery.org
SUMMARY:AA - Elders 12x12 - Format: (50+)12x12 Discussion
DESCRIPTION:12X12: Recovery meetings center around topics pulled from A.A. conference-approved literature\, including the Big Book and the Twelve Steps and Twelve Traditions book. The Trusted Servant speaks about the topic and opens the meeting up for discussion for all attendees. \nCLICK HERE to join the meeting!
URL:https://myrecovery.org/event/aa-elders-12x12-format-5012x12-discussion/2029-05-01/
CATEGORIES:12x12,Elders
ATTACH;FMTTYPE=image/jpeg:https://myrecovery.org/wp-content/uploads/2024/09/AA-Elders-12x12-Format-5012x12-Discussion.jpg
LOCATION:https://zoom.us/j/91452702089?pwd=NmtSNjVpMWIwTHNKY2lIakUreFhRZz09
END:VEVENT
BEGIN:VEVENT
DTSTART;TZID=UTC:20290508T100000
DTEND;TZID=UTC:20290508T230000
DTSTAMP:20260422T002043
CREATED:20250611T222118Z
LAST-MODIFIED:20250613T170147Z
UID:10013042-1872928800-1872975600@myrecovery.org
SUMMARY:AA - Elders 12x12 - Format: (50+)12x12 Discussion
DESCRIPTION:12X12: Recovery meetings center around topics pulled from A.A. conference-approved literature\, including the Big Book and the Twelve Steps and Twelve Traditions book. The Trusted Servant speaks about the topic and opens the meeting up for discussion for all attendees. \nCLICK HERE to join the meeting!
URL:https://myrecovery.org/event/aa-elders-12x12-format-5012x12-discussion/2029-05-08/
CATEGORIES:12x12,Elders
ATTACH;FMTTYPE=image/jpeg:https://myrecovery.org/wp-content/uploads/2024/09/AA-Elders-12x12-Format-5012x12-Discussion.jpg
LOCATION:https://zoom.us/j/91452702089?pwd=NmtSNjVpMWIwTHNKY2lIakUreFhRZz09
END:VEVENT
BEGIN:VEVENT
DTSTART;TZID=UTC:20290515T100000
DTEND;TZID=UTC:20290515T230000
DTSTAMP:20260422T002043
CREATED:20250611T222118Z
LAST-MODIFIED:20250613T170147Z
UID:10013043-1873533600-1873580400@myrecovery.org
SUMMARY:AA - Elders 12x12 - Format: (50+)12x12 Discussion
DESCRIPTION:12X12: Recovery meetings center around topics pulled from A.A. conference-approved literature\, including the Big Book and the Twelve Steps and Twelve Traditions book. The Trusted Servant speaks about the topic and opens the meeting up for discussion for all attendees. \nCLICK HERE to join the meeting!
URL:https://myrecovery.org/event/aa-elders-12x12-format-5012x12-discussion/2029-05-15/
CATEGORIES:12x12,Elders
ATTACH;FMTTYPE=image/jpeg:https://myrecovery.org/wp-content/uploads/2024/09/AA-Elders-12x12-Format-5012x12-Discussion.jpg
LOCATION:https://zoom.us/j/91452702089?pwd=NmtSNjVpMWIwTHNKY2lIakUreFhRZz09
END:VEVENT
BEGIN:VEVENT
DTSTART;TZID=UTC:20290522T100000
DTEND;TZID=UTC:20290522T230000
DTSTAMP:20260422T002043
CREATED:20250611T222118Z
LAST-MODIFIED:20250613T170147Z
UID:10013044-1874138400-1874185200@myrecovery.org
SUMMARY:AA - Elders 12x12 - Format: (50+)12x12 Discussion
DESCRIPTION:12X12: Recovery meetings center around topics pulled from A.A. conference-approved literature\, including the Big Book and the Twelve Steps and Twelve Traditions book. The Trusted Servant speaks about the topic and opens the meeting up for discussion for all attendees. \nCLICK HERE to join the meeting!
URL:https://myrecovery.org/event/aa-elders-12x12-format-5012x12-discussion/2029-05-22/
CATEGORIES:12x12,Elders
ATTACH;FMTTYPE=image/jpeg:https://myrecovery.org/wp-content/uploads/2024/09/AA-Elders-12x12-Format-5012x12-Discussion.jpg
LOCATION:https://zoom.us/j/91452702089?pwd=NmtSNjVpMWIwTHNKY2lIakUreFhRZz09
END:VEVENT
BEGIN:VEVENT
DTSTART;TZID=UTC:20290529T100000
DTEND;TZID=UTC:20290529T230000
DTSTAMP:20260422T002043
CREATED:20250611T222118Z
LAST-MODIFIED:20250613T170147Z
UID:10013045-1874743200-1874790000@myrecovery.org
SUMMARY:AA - Elders 12x12 - Format: (50+)12x12 Discussion
DESCRIPTION:12X12: Recovery meetings center around topics pulled from A.A. conference-approved literature\, including the Big Book and the Twelve Steps and Twelve Traditions book. The Trusted Servant speaks about the topic and opens the meeting up for discussion for all attendees. \nCLICK HERE to join the meeting!
URL:https://myrecovery.org/event/aa-elders-12x12-format-5012x12-discussion/2029-05-29/
CATEGORIES:12x12,Elders
ATTACH;FMTTYPE=image/jpeg:https://myrecovery.org/wp-content/uploads/2024/09/AA-Elders-12x12-Format-5012x12-Discussion.jpg
LOCATION:https://zoom.us/j/91452702089?pwd=NmtSNjVpMWIwTHNKY2lIakUreFhRZz09
END:VEVENT
BEGIN:VEVENT
DTSTART;TZID=UTC:20290605T100000
DTEND;TZID=UTC:20290605T230000
DTSTAMP:20260422T002043
CREATED:20250611T222118Z
LAST-MODIFIED:20250613T170147Z
UID:10013046-1875348000-1875394800@myrecovery.org
SUMMARY:AA - Elders 12x12 - Format: (50+)12x12 Discussion
DESCRIPTION:12X12: Recovery meetings center around topics pulled from A.A. conference-approved literature\, including the Big Book and the Twelve Steps and Twelve Traditions book. The Trusted Servant speaks about the topic and opens the meeting up for discussion for all attendees. \nCLICK HERE to join the meeting!
URL:https://myrecovery.org/event/aa-elders-12x12-format-5012x12-discussion/2029-06-05/
CATEGORIES:12x12,Elders
ATTACH;FMTTYPE=image/jpeg:https://myrecovery.org/wp-content/uploads/2024/09/AA-Elders-12x12-Format-5012x12-Discussion.jpg
LOCATION:https://zoom.us/j/91452702089?pwd=NmtSNjVpMWIwTHNKY2lIakUreFhRZz09
END:VEVENT
BEGIN:VEVENT
DTSTART;TZID=UTC:20290612T100000
DTEND;TZID=UTC:20290612T230000
DTSTAMP:20260422T002043
CREATED:20250611T222118Z
LAST-MODIFIED:20250613T170147Z
UID:10013047-1875952800-1875999600@myrecovery.org
SUMMARY:AA - Elders 12x12 - Format: (50+)12x12 Discussion
DESCRIPTION:12X12: Recovery meetings center around topics pulled from A.A. conference-approved literature\, including the Big Book and the Twelve Steps and Twelve Traditions book. The Trusted Servant speaks about the topic and opens the meeting up for discussion for all attendees. \nCLICK HERE to join the meeting!
URL:https://myrecovery.org/event/aa-elders-12x12-format-5012x12-discussion/2029-06-12/
CATEGORIES:12x12,Elders
ATTACH;FMTTYPE=image/jpeg:https://myrecovery.org/wp-content/uploads/2024/09/AA-Elders-12x12-Format-5012x12-Discussion.jpg
LOCATION:https://zoom.us/j/91452702089?pwd=NmtSNjVpMWIwTHNKY2lIakUreFhRZz09
END:VEVENT
BEGIN:VEVENT
DTSTART;TZID=UTC:20290619T100000
DTEND;TZID=UTC:20290619T230000
DTSTAMP:20260422T002043
CREATED:20250611T222118Z
LAST-MODIFIED:20250613T170147Z
UID:10013048-1876557600-1876604400@myrecovery.org
SUMMARY:AA - Elders 12x12 - Format: (50+)12x12 Discussion
DESCRIPTION:12X12: Recovery meetings center around topics pulled from A.A. conference-approved literature\, including the Big Book and the Twelve Steps and Twelve Traditions book. The Trusted Servant speaks about the topic and opens the meeting up for discussion for all attendees. \nCLICK HERE to join the meeting!
URL:https://myrecovery.org/event/aa-elders-12x12-format-5012x12-discussion/2029-06-19/
CATEGORIES:12x12,Elders
ATTACH;FMTTYPE=image/jpeg:https://myrecovery.org/wp-content/uploads/2024/09/AA-Elders-12x12-Format-5012x12-Discussion.jpg
LOCATION:https://zoom.us/j/91452702089?pwd=NmtSNjVpMWIwTHNKY2lIakUreFhRZz09
END:VEVENT
BEGIN:VEVENT
DTSTART;TZID=UTC:20290626T100000
DTEND;TZID=UTC:20290626T230000
DTSTAMP:20260422T002043
CREATED:20250611T222118Z
LAST-MODIFIED:20250613T170147Z
UID:10013049-1877162400-1877209200@myrecovery.org
SUMMARY:AA - Elders 12x12 - Format: (50+)12x12 Discussion
DESCRIPTION:12X12: Recovery meetings center around topics pulled from A.A. conference-approved literature\, including the Big Book and the Twelve Steps and Twelve Traditions book. The Trusted Servant speaks about the topic and opens the meeting up for discussion for all attendees. \nCLICK HERE to join the meeting!
URL:https://myrecovery.org/event/aa-elders-12x12-format-5012x12-discussion/2029-06-26/
CATEGORIES:12x12,Elders
ATTACH;FMTTYPE=image/jpeg:https://myrecovery.org/wp-content/uploads/2024/09/AA-Elders-12x12-Format-5012x12-Discussion.jpg
LOCATION:https://zoom.us/j/91452702089?pwd=NmtSNjVpMWIwTHNKY2lIakUreFhRZz09
END:VEVENT
BEGIN:VEVENT
DTSTART;TZID=UTC:20290703T100000
DTEND;TZID=UTC:20290703T230000
DTSTAMP:20260422T002043
CREATED:20250611T222118Z
LAST-MODIFIED:20250613T170147Z
UID:10013050-1877767200-1877814000@myrecovery.org
SUMMARY:AA - Elders 12x12 - Format: (50+)12x12 Discussion
DESCRIPTION:12X12: Recovery meetings center around topics pulled from A.A. conference-approved literature\, including the Big Book and the Twelve Steps and Twelve Traditions book. The Trusted Servant speaks about the topic and opens the meeting up for discussion for all attendees. \nCLICK HERE to join the meeting!
URL:https://myrecovery.org/event/aa-elders-12x12-format-5012x12-discussion/2029-07-03/
CATEGORIES:12x12,Elders
ATTACH;FMTTYPE=image/jpeg:https://myrecovery.org/wp-content/uploads/2024/09/AA-Elders-12x12-Format-5012x12-Discussion.jpg
LOCATION:https://zoom.us/j/91452702089?pwd=NmtSNjVpMWIwTHNKY2lIakUreFhRZz09
END:VEVENT
BEGIN:VEVENT
DTSTART;TZID=UTC:20290710T100000
DTEND;TZID=UTC:20290710T230000
DTSTAMP:20260422T002043
CREATED:20250611T222118Z
LAST-MODIFIED:20250613T170147Z
UID:10013051-1878372000-1878418800@myrecovery.org
SUMMARY:AA - Elders 12x12 - Format: (50+)12x12 Discussion
DESCRIPTION:12X12: Recovery meetings center around topics pulled from A.A. conference-approved literature\, including the Big Book and the Twelve Steps and Twelve Traditions book. The Trusted Servant speaks about the topic and opens the meeting up for discussion for all attendees. \nCLICK HERE to join the meeting!
URL:https://myrecovery.org/event/aa-elders-12x12-format-5012x12-discussion/2029-07-10/
CATEGORIES:12x12,Elders
ATTACH;FMTTYPE=image/jpeg:https://myrecovery.org/wp-content/uploads/2024/09/AA-Elders-12x12-Format-5012x12-Discussion.jpg
LOCATION:https://zoom.us/j/91452702089?pwd=NmtSNjVpMWIwTHNKY2lIakUreFhRZz09
END:VEVENT
BEGIN:VEVENT
DTSTART;TZID=UTC:20290717T100000
DTEND;TZID=UTC:20290717T230000
DTSTAMP:20260422T002043
CREATED:20250611T222118Z
LAST-MODIFIED:20250613T170147Z
UID:10013052-1878976800-1879023600@myrecovery.org
SUMMARY:AA - Elders 12x12 - Format: (50+)12x12 Discussion
DESCRIPTION:12X12: Recovery meetings center around topics pulled from A.A. conference-approved literature\, including the Big Book and the Twelve Steps and Twelve Traditions book. The Trusted Servant speaks about the topic and opens the meeting up for discussion for all attendees. \nCLICK HERE to join the meeting!
URL:https://myrecovery.org/event/aa-elders-12x12-format-5012x12-discussion/2029-07-17/
CATEGORIES:12x12,Elders
ATTACH;FMTTYPE=image/jpeg:https://myrecovery.org/wp-content/uploads/2024/09/AA-Elders-12x12-Format-5012x12-Discussion.jpg
LOCATION:https://zoom.us/j/91452702089?pwd=NmtSNjVpMWIwTHNKY2lIakUreFhRZz09
END:VEVENT
BEGIN:VEVENT
DTSTART;TZID=UTC:20290724T100000
DTEND;TZID=UTC:20290724T230000
DTSTAMP:20260422T002043
CREATED:20250611T222118Z
LAST-MODIFIED:20250613T170147Z
UID:10013053-1879581600-1879628400@myrecovery.org
SUMMARY:AA - Elders 12x12 - Format: (50+)12x12 Discussion
DESCRIPTION:12X12: Recovery meetings center around topics pulled from A.A. conference-approved literature\, including the Big Book and the Twelve Steps and Twelve Traditions book. The Trusted Servant speaks about the topic and opens the meeting up for discussion for all attendees. \nCLICK HERE to join the meeting!
URL:https://myrecovery.org/event/aa-elders-12x12-format-5012x12-discussion/2029-07-24/
CATEGORIES:12x12,Elders
ATTACH;FMTTYPE=image/jpeg:https://myrecovery.org/wp-content/uploads/2024/09/AA-Elders-12x12-Format-5012x12-Discussion.jpg
LOCATION:https://zoom.us/j/91452702089?pwd=NmtSNjVpMWIwTHNKY2lIakUreFhRZz09
END:VEVENT
BEGIN:VEVENT
DTSTART;TZID=UTC:20290731T100000
DTEND;TZID=UTC:20290731T230000
DTSTAMP:20260422T002043
CREATED:20250611T222118Z
LAST-MODIFIED:20250613T170147Z
UID:10013054-1880186400-1880233200@myrecovery.org
SUMMARY:AA - Elders 12x12 - Format: (50+)12x12 Discussion
DESCRIPTION:12X12: Recovery meetings center around topics pulled from A.A. conference-approved literature\, including the Big Book and the Twelve Steps and Twelve Traditions book. The Trusted Servant speaks about the topic and opens the meeting up for discussion for all attendees. \nCLICK HERE to join the meeting!
URL:https://myrecovery.org/event/aa-elders-12x12-format-5012x12-discussion/2029-07-31/
CATEGORIES:12x12,Elders
ATTACH;FMTTYPE=image/jpeg:https://myrecovery.org/wp-content/uploads/2024/09/AA-Elders-12x12-Format-5012x12-Discussion.jpg
LOCATION:https://zoom.us/j/91452702089?pwd=NmtSNjVpMWIwTHNKY2lIakUreFhRZz09
END:VEVENT
BEGIN:VEVENT
DTSTART;TZID=UTC:20290807T100000
DTEND;TZID=UTC:20290807T230000
DTSTAMP:20260422T002043
CREATED:20250611T222118Z
LAST-MODIFIED:20250613T170147Z
UID:10013055-1880791200-1880838000@myrecovery.org
SUMMARY:AA - Elders 12x12 - Format: (50+)12x12 Discussion
DESCRIPTION:12X12: Recovery meetings center around topics pulled from A.A. conference-approved literature\, including the Big Book and the Twelve Steps and Twelve Traditions book. The Trusted Servant speaks about the topic and opens the meeting up for discussion for all attendees. \nCLICK HERE to join the meeting!
URL:https://myrecovery.org/event/aa-elders-12x12-format-5012x12-discussion/2029-08-07/
CATEGORIES:12x12,Elders
ATTACH;FMTTYPE=image/jpeg:https://myrecovery.org/wp-content/uploads/2024/09/AA-Elders-12x12-Format-5012x12-Discussion.jpg
LOCATION:https://zoom.us/j/91452702089?pwd=NmtSNjVpMWIwTHNKY2lIakUreFhRZz09
END:VEVENT
BEGIN:VEVENT
DTSTART;TZID=UTC:20290814T100000
DTEND;TZID=UTC:20290814T230000
DTSTAMP:20260422T002043
CREATED:20250611T222118Z
LAST-MODIFIED:20250613T170147Z
UID:10013056-1881396000-1881442800@myrecovery.org
SUMMARY:AA - Elders 12x12 - Format: (50+)12x12 Discussion
DESCRIPTION:12X12: Recovery meetings center around topics pulled from A.A. conference-approved literature\, including the Big Book and the Twelve Steps and Twelve Traditions book. The Trusted Servant speaks about the topic and opens the meeting up for discussion for all attendees. \nCLICK HERE to join the meeting!
URL:https://myrecovery.org/event/aa-elders-12x12-format-5012x12-discussion/2029-08-14/
CATEGORIES:12x12,Elders
ATTACH;FMTTYPE=image/jpeg:https://myrecovery.org/wp-content/uploads/2024/09/AA-Elders-12x12-Format-5012x12-Discussion.jpg
LOCATION:https://zoom.us/j/91452702089?pwd=NmtSNjVpMWIwTHNKY2lIakUreFhRZz09
END:VEVENT
BEGIN:VEVENT
DTSTART;TZID=UTC:20290821T100000
DTEND;TZID=UTC:20290821T230000
DTSTAMP:20260422T002043
CREATED:20250611T222118Z
LAST-MODIFIED:20250613T170147Z
UID:10013057-1882000800-1882047600@myrecovery.org
SUMMARY:AA - Elders 12x12 - Format: (50+)12x12 Discussion
DESCRIPTION:12X12: Recovery meetings center around topics pulled from A.A. conference-approved literature\, including the Big Book and the Twelve Steps and Twelve Traditions book. The Trusted Servant speaks about the topic and opens the meeting up for discussion for all attendees. \nCLICK HERE to join the meeting!
URL:https://myrecovery.org/event/aa-elders-12x12-format-5012x12-discussion/2029-08-21/
CATEGORIES:12x12,Elders
ATTACH;FMTTYPE=image/jpeg:https://myrecovery.org/wp-content/uploads/2024/09/AA-Elders-12x12-Format-5012x12-Discussion.jpg
LOCATION:https://zoom.us/j/91452702089?pwd=NmtSNjVpMWIwTHNKY2lIakUreFhRZz09
END:VEVENT
BEGIN:VEVENT
DTSTART;TZID=UTC:20290828T100000
DTEND;TZID=UTC:20290828T230000
DTSTAMP:20260422T002043
CREATED:20250611T222118Z
LAST-MODIFIED:20250613T170147Z
UID:10013058-1882605600-1882652400@myrecovery.org
SUMMARY:AA - Elders 12x12 - Format: (50+)12x12 Discussion
DESCRIPTION:12X12: Recovery meetings center around topics pulled from A.A. conference-approved literature\, including the Big Book and the Twelve Steps and Twelve Traditions book. The Trusted Servant speaks about the topic and opens the meeting up for discussion for all attendees. \nCLICK HERE to join the meeting!
URL:https://myrecovery.org/event/aa-elders-12x12-format-5012x12-discussion/2029-08-28/
CATEGORIES:12x12,Elders
ATTACH;FMTTYPE=image/jpeg:https://myrecovery.org/wp-content/uploads/2024/09/AA-Elders-12x12-Format-5012x12-Discussion.jpg
LOCATION:https://zoom.us/j/91452702089?pwd=NmtSNjVpMWIwTHNKY2lIakUreFhRZz09
END:VEVENT
BEGIN:VEVENT
DTSTART;TZID=UTC:20290904T100000
DTEND;TZID=UTC:20290904T230000
DTSTAMP:20260422T002043
CREATED:20250611T222118Z
LAST-MODIFIED:20250613T170147Z
UID:10013059-1883210400-1883257200@myrecovery.org
SUMMARY:AA - Elders 12x12 - Format: (50+)12x12 Discussion
DESCRIPTION:12X12: Recovery meetings center around topics pulled from A.A. conference-approved literature\, including the Big Book and the Twelve Steps and Twelve Traditions book. The Trusted Servant speaks about the topic and opens the meeting up for discussion for all attendees. \nCLICK HERE to join the meeting!
URL:https://myrecovery.org/event/aa-elders-12x12-format-5012x12-discussion/2029-09-04/
CATEGORIES:12x12,Elders
ATTACH;FMTTYPE=image/jpeg:https://myrecovery.org/wp-content/uploads/2024/09/AA-Elders-12x12-Format-5012x12-Discussion.jpg
LOCATION:https://zoom.us/j/91452702089?pwd=NmtSNjVpMWIwTHNKY2lIakUreFhRZz09
END:VEVENT
BEGIN:VEVENT
DTSTART;TZID=UTC:20290911T100000
DTEND;TZID=UTC:20290911T230000
DTSTAMP:20260422T002043
CREATED:20250611T222118Z
LAST-MODIFIED:20250613T170147Z
UID:10013060-1883815200-1883862000@myrecovery.org
SUMMARY:AA - Elders 12x12 - Format: (50+)12x12 Discussion
DESCRIPTION:12X12: Recovery meetings center around topics pulled from A.A. conference-approved literature\, including the Big Book and the Twelve Steps and Twelve Traditions book. The Trusted Servant speaks about the topic and opens the meeting up for discussion for all attendees. \nCLICK HERE to join the meeting!
URL:https://myrecovery.org/event/aa-elders-12x12-format-5012x12-discussion/2029-09-11/
CATEGORIES:12x12,Elders
ATTACH;FMTTYPE=image/jpeg:https://myrecovery.org/wp-content/uploads/2024/09/AA-Elders-12x12-Format-5012x12-Discussion.jpg
LOCATION:https://zoom.us/j/91452702089?pwd=NmtSNjVpMWIwTHNKY2lIakUreFhRZz09
END:VEVENT
BEGIN:VEVENT
DTSTART;TZID=UTC:20290918T100000
DTEND;TZID=UTC:20290918T230000
DTSTAMP:20260422T002043
CREATED:20250611T222118Z
LAST-MODIFIED:20250613T170147Z
UID:10013061-1884420000-1884466800@myrecovery.org
SUMMARY:AA - Elders 12x12 - Format: (50+)12x12 Discussion
DESCRIPTION:12X12: Recovery meetings center around topics pulled from A.A. conference-approved literature\, including the Big Book and the Twelve Steps and Twelve Traditions book. The Trusted Servant speaks about the topic and opens the meeting up for discussion for all attendees. \nCLICK HERE to join the meeting!
URL:https://myrecovery.org/event/aa-elders-12x12-format-5012x12-discussion/2029-09-18/
CATEGORIES:12x12,Elders
ATTACH;FMTTYPE=image/jpeg:https://myrecovery.org/wp-content/uploads/2024/09/AA-Elders-12x12-Format-5012x12-Discussion.jpg
LOCATION:https://zoom.us/j/91452702089?pwd=NmtSNjVpMWIwTHNKY2lIakUreFhRZz09
END:VEVENT
BEGIN:VEVENT
DTSTART;TZID=UTC:20290925T100000
DTEND;TZID=UTC:20290925T230000
DTSTAMP:20260422T002043
CREATED:20250611T222118Z
LAST-MODIFIED:20250613T170147Z
UID:10013062-1885024800-1885071600@myrecovery.org
SUMMARY:AA - Elders 12x12 - Format: (50+)12x12 Discussion
DESCRIPTION:12X12: Recovery meetings center around topics pulled from A.A. conference-approved literature\, including the Big Book and the Twelve Steps and Twelve Traditions book. The Trusted Servant speaks about the topic and opens the meeting up for discussion for all attendees. \nCLICK HERE to join the meeting!
URL:https://myrecovery.org/event/aa-elders-12x12-format-5012x12-discussion/2029-09-25/
CATEGORIES:12x12,Elders
ATTACH;FMTTYPE=image/jpeg:https://myrecovery.org/wp-content/uploads/2024/09/AA-Elders-12x12-Format-5012x12-Discussion.jpg
LOCATION:https://zoom.us/j/91452702089?pwd=NmtSNjVpMWIwTHNKY2lIakUreFhRZz09
END:VEVENT
BEGIN:VEVENT
DTSTART;TZID=UTC:20291002T100000
DTEND;TZID=UTC:20291002T230000
DTSTAMP:20260422T002043
CREATED:20250611T222118Z
LAST-MODIFIED:20250613T170147Z
UID:10013063-1885629600-1885676400@myrecovery.org
SUMMARY:AA - Elders 12x12 - Format: (50+)12x12 Discussion
DESCRIPTION:12X12: Recovery meetings center around topics pulled from A.A. conference-approved literature\, including the Big Book and the Twelve Steps and Twelve Traditions book. The Trusted Servant speaks about the topic and opens the meeting up for discussion for all attendees. \nCLICK HERE to join the meeting!
URL:https://myrecovery.org/event/aa-elders-12x12-format-5012x12-discussion/2029-10-02/
CATEGORIES:12x12,Elders
ATTACH;FMTTYPE=image/jpeg:https://myrecovery.org/wp-content/uploads/2024/09/AA-Elders-12x12-Format-5012x12-Discussion.jpg
LOCATION:https://zoom.us/j/91452702089?pwd=NmtSNjVpMWIwTHNKY2lIakUreFhRZz09
END:VEVENT
BEGIN:VEVENT
DTSTART;TZID=UTC:20291009T100000
DTEND;TZID=UTC:20291009T230000
DTSTAMP:20260422T002043
CREATED:20250611T222118Z
LAST-MODIFIED:20250613T170147Z
UID:10013064-1886234400-1886281200@myrecovery.org
SUMMARY:AA - Elders 12x12 - Format: (50+)12x12 Discussion
DESCRIPTION:12X12: Recovery meetings center around topics pulled from A.A. conference-approved literature\, including the Big Book and the Twelve Steps and Twelve Traditions book. The Trusted Servant speaks about the topic and opens the meeting up for discussion for all attendees. \nCLICK HERE to join the meeting!
URL:https://myrecovery.org/event/aa-elders-12x12-format-5012x12-discussion/2029-10-09/
CATEGORIES:12x12,Elders
ATTACH;FMTTYPE=image/jpeg:https://myrecovery.org/wp-content/uploads/2024/09/AA-Elders-12x12-Format-5012x12-Discussion.jpg
LOCATION:https://zoom.us/j/91452702089?pwd=NmtSNjVpMWIwTHNKY2lIakUreFhRZz09
END:VEVENT
BEGIN:VEVENT
DTSTART;TZID=UTC:20291016T100000
DTEND;TZID=UTC:20291016T230000
DTSTAMP:20260422T002043
CREATED:20250611T222118Z
LAST-MODIFIED:20250613T170147Z
UID:10013065-1886839200-1886886000@myrecovery.org
SUMMARY:AA - Elders 12x12 - Format: (50+)12x12 Discussion
DESCRIPTION:12X12: Recovery meetings center around topics pulled from A.A. conference-approved literature\, including the Big Book and the Twelve Steps and Twelve Traditions book. The Trusted Servant speaks about the topic and opens the meeting up for discussion for all attendees. \nCLICK HERE to join the meeting!
URL:https://myrecovery.org/event/aa-elders-12x12-format-5012x12-discussion/2029-10-16/
CATEGORIES:12x12,Elders
ATTACH;FMTTYPE=image/jpeg:https://myrecovery.org/wp-content/uploads/2024/09/AA-Elders-12x12-Format-5012x12-Discussion.jpg
LOCATION:https://zoom.us/j/91452702089?pwd=NmtSNjVpMWIwTHNKY2lIakUreFhRZz09
END:VEVENT
BEGIN:VEVENT
DTSTART;TZID=UTC:20291023T100000
DTEND;TZID=UTC:20291023T230000
DTSTAMP:20260422T002043
CREATED:20250611T222118Z
LAST-MODIFIED:20250613T170147Z
UID:10013066-1887444000-1887490800@myrecovery.org
SUMMARY:AA - Elders 12x12 - Format: (50+)12x12 Discussion
DESCRIPTION:12X12: Recovery meetings center around topics pulled from A.A. conference-approved literature\, including the Big Book and the Twelve Steps and Twelve Traditions book. The Trusted Servant speaks about the topic and opens the meeting up for discussion for all attendees. \nCLICK HERE to join the meeting!
URL:https://myrecovery.org/event/aa-elders-12x12-format-5012x12-discussion/2029-10-23/
CATEGORIES:12x12,Elders
ATTACH;FMTTYPE=image/jpeg:https://myrecovery.org/wp-content/uploads/2024/09/AA-Elders-12x12-Format-5012x12-Discussion.jpg
LOCATION:https://zoom.us/j/91452702089?pwd=NmtSNjVpMWIwTHNKY2lIakUreFhRZz09
END:VEVENT
BEGIN:VEVENT
DTSTART;TZID=UTC:20291030T100000
DTEND;TZID=UTC:20291030T230000
DTSTAMP:20260422T002043
CREATED:20250611T222118Z
LAST-MODIFIED:20250613T170147Z
UID:10013067-1888048800-1888095600@myrecovery.org
SUMMARY:AA - Elders 12x12 - Format: (50+)12x12 Discussion
DESCRIPTION:12X12: Recovery meetings center around topics pulled from A.A. conference-approved literature\, including the Big Book and the Twelve Steps and Twelve Traditions book. The Trusted Servant speaks about the topic and opens the meeting up for discussion for all attendees. \nCLICK HERE to join the meeting!
URL:https://myrecovery.org/event/aa-elders-12x12-format-5012x12-discussion/2029-10-30/
CATEGORIES:12x12,Elders
ATTACH;FMTTYPE=image/jpeg:https://myrecovery.org/wp-content/uploads/2024/09/AA-Elders-12x12-Format-5012x12-Discussion.jpg
LOCATION:https://zoom.us/j/91452702089?pwd=NmtSNjVpMWIwTHNKY2lIakUreFhRZz09
END:VEVENT
BEGIN:VEVENT
DTSTART;TZID=UTC:20291106T100000
DTEND;TZID=UTC:20291106T230000
DTSTAMP:20260422T002043
CREATED:20250611T222118Z
LAST-MODIFIED:20250613T170147Z
UID:10013068-1888653600-1888700400@myrecovery.org
SUMMARY:AA - Elders 12x12 - Format: (50+)12x12 Discussion
DESCRIPTION:12X12: Recovery meetings center around topics pulled from A.A. conference-approved literature\, including the Big Book and the Twelve Steps and Twelve Traditions book. The Trusted Servant speaks about the topic and opens the meeting up for discussion for all attendees. \nCLICK HERE to join the meeting!
URL:https://myrecovery.org/event/aa-elders-12x12-format-5012x12-discussion/2029-11-06/
CATEGORIES:12x12,Elders
ATTACH;FMTTYPE=image/jpeg:https://myrecovery.org/wp-content/uploads/2024/09/AA-Elders-12x12-Format-5012x12-Discussion.jpg
LOCATION:https://zoom.us/j/91452702089?pwd=NmtSNjVpMWIwTHNKY2lIakUreFhRZz09
END:VEVENT
END:VCALENDAR