BEGIN:VCALENDAR
VERSION:2.0
PRODID:-//My Recovery - ECPv6.15.17//NONSGML v1.0//EN
CALSCALE:GREGORIAN
METHOD:PUBLISH
X-WR-CALNAME:My Recovery
X-ORIGINAL-URL:https://myrecovery.org
X-WR-CALDESC:Events for My Recovery
REFRESH-INTERVAL;VALUE=DURATION:PT1H
X-Robots-Tag:noindex
X-PUBLISHED-TTL:PT1H
BEGIN:VTIMEZONE
TZID:UTC
BEGIN:STANDARD
TZOFFSETFROM:+0000
TZOFFSETTO:+0000
TZNAME:UTC
DTSTART:20270101T000000
END:STANDARD
END:VTIMEZONE
BEGIN:VEVENT
DTSTART;TZID=UTC:20281031T100000
DTEND;TZID=UTC:20281031T230000
DTSTAMP:20260421T204408
CREATED:20250611T222118Z
LAST-MODIFIED:20250613T170147Z
UID:10013015-1856599200-1856646000@myrecovery.org
SUMMARY:AA - Elders 12x12 - Format: (50+)12x12 Discussion
DESCRIPTION:12X12: Recovery meetings center around topics pulled from A.A. conference-approved literature\, including the Big Book and the Twelve Steps and Twelve Traditions book. The Trusted Servant speaks about the topic and opens the meeting up for discussion for all attendees. \nCLICK HERE to join the meeting!
URL:https://myrecovery.org/event/aa-elders-12x12-format-5012x12-discussion/2028-10-31/
CATEGORIES:12x12,Elders
ATTACH;FMTTYPE=image/jpeg:https://myrecovery.org/wp-content/uploads/2024/09/AA-Elders-12x12-Format-5012x12-Discussion.jpg
LOCATION:https://zoom.us/j/91452702089?pwd=NmtSNjVpMWIwTHNKY2lIakUreFhRZz09
END:VEVENT
BEGIN:VEVENT
DTSTART;TZID=UTC:20281107T100000
DTEND;TZID=UTC:20281107T230000
DTSTAMP:20260421T204408
CREATED:20250611T222118Z
LAST-MODIFIED:20250613T170147Z
UID:10013016-1857204000-1857250800@myrecovery.org
SUMMARY:AA - Elders 12x12 - Format: (50+)12x12 Discussion
DESCRIPTION:12X12: Recovery meetings center around topics pulled from A.A. conference-approved literature\, including the Big Book and the Twelve Steps and Twelve Traditions book. The Trusted Servant speaks about the topic and opens the meeting up for discussion for all attendees. \nCLICK HERE to join the meeting!
URL:https://myrecovery.org/event/aa-elders-12x12-format-5012x12-discussion/2028-11-07/
CATEGORIES:12x12,Elders
ATTACH;FMTTYPE=image/jpeg:https://myrecovery.org/wp-content/uploads/2024/09/AA-Elders-12x12-Format-5012x12-Discussion.jpg
LOCATION:https://zoom.us/j/91452702089?pwd=NmtSNjVpMWIwTHNKY2lIakUreFhRZz09
END:VEVENT
BEGIN:VEVENT
DTSTART;TZID=UTC:20281114T100000
DTEND;TZID=UTC:20281114T230000
DTSTAMP:20260421T204408
CREATED:20250611T222118Z
LAST-MODIFIED:20250613T170147Z
UID:10013017-1857808800-1857855600@myrecovery.org
SUMMARY:AA - Elders 12x12 - Format: (50+)12x12 Discussion
DESCRIPTION:12X12: Recovery meetings center around topics pulled from A.A. conference-approved literature\, including the Big Book and the Twelve Steps and Twelve Traditions book. The Trusted Servant speaks about the topic and opens the meeting up for discussion for all attendees. \nCLICK HERE to join the meeting!
URL:https://myrecovery.org/event/aa-elders-12x12-format-5012x12-discussion/2028-11-14/
CATEGORIES:12x12,Elders
ATTACH;FMTTYPE=image/jpeg:https://myrecovery.org/wp-content/uploads/2024/09/AA-Elders-12x12-Format-5012x12-Discussion.jpg
LOCATION:https://zoom.us/j/91452702089?pwd=NmtSNjVpMWIwTHNKY2lIakUreFhRZz09
END:VEVENT
BEGIN:VEVENT
DTSTART;TZID=UTC:20281121T100000
DTEND;TZID=UTC:20281121T230000
DTSTAMP:20260421T204408
CREATED:20250611T222118Z
LAST-MODIFIED:20250613T170147Z
UID:10013018-1858413600-1858460400@myrecovery.org
SUMMARY:AA - Elders 12x12 - Format: (50+)12x12 Discussion
DESCRIPTION:12X12: Recovery meetings center around topics pulled from A.A. conference-approved literature\, including the Big Book and the Twelve Steps and Twelve Traditions book. The Trusted Servant speaks about the topic and opens the meeting up for discussion for all attendees. \nCLICK HERE to join the meeting!
URL:https://myrecovery.org/event/aa-elders-12x12-format-5012x12-discussion/2028-11-21/
CATEGORIES:12x12,Elders
ATTACH;FMTTYPE=image/jpeg:https://myrecovery.org/wp-content/uploads/2024/09/AA-Elders-12x12-Format-5012x12-Discussion.jpg
LOCATION:https://zoom.us/j/91452702089?pwd=NmtSNjVpMWIwTHNKY2lIakUreFhRZz09
END:VEVENT
BEGIN:VEVENT
DTSTART;TZID=UTC:20281128T100000
DTEND;TZID=UTC:20281128T230000
DTSTAMP:20260421T204408
CREATED:20250611T222118Z
LAST-MODIFIED:20250613T170147Z
UID:10013019-1859018400-1859065200@myrecovery.org
SUMMARY:AA - Elders 12x12 - Format: (50+)12x12 Discussion
DESCRIPTION:12X12: Recovery meetings center around topics pulled from A.A. conference-approved literature\, including the Big Book and the Twelve Steps and Twelve Traditions book. The Trusted Servant speaks about the topic and opens the meeting up for discussion for all attendees. \nCLICK HERE to join the meeting!
URL:https://myrecovery.org/event/aa-elders-12x12-format-5012x12-discussion/2028-11-28/
CATEGORIES:12x12,Elders
ATTACH;FMTTYPE=image/jpeg:https://myrecovery.org/wp-content/uploads/2024/09/AA-Elders-12x12-Format-5012x12-Discussion.jpg
LOCATION:https://zoom.us/j/91452702089?pwd=NmtSNjVpMWIwTHNKY2lIakUreFhRZz09
END:VEVENT
BEGIN:VEVENT
DTSTART;TZID=UTC:20281205T100000
DTEND;TZID=UTC:20281205T230000
DTSTAMP:20260421T204408
CREATED:20250611T222118Z
LAST-MODIFIED:20250613T170147Z
UID:10013020-1859623200-1859670000@myrecovery.org
SUMMARY:AA - Elders 12x12 - Format: (50+)12x12 Discussion
DESCRIPTION:12X12: Recovery meetings center around topics pulled from A.A. conference-approved literature\, including the Big Book and the Twelve Steps and Twelve Traditions book. The Trusted Servant speaks about the topic and opens the meeting up for discussion for all attendees. \nCLICK HERE to join the meeting!
URL:https://myrecovery.org/event/aa-elders-12x12-format-5012x12-discussion/2028-12-05/
CATEGORIES:12x12,Elders
ATTACH;FMTTYPE=image/jpeg:https://myrecovery.org/wp-content/uploads/2024/09/AA-Elders-12x12-Format-5012x12-Discussion.jpg
LOCATION:https://zoom.us/j/91452702089?pwd=NmtSNjVpMWIwTHNKY2lIakUreFhRZz09
END:VEVENT
BEGIN:VEVENT
DTSTART;TZID=UTC:20281212T100000
DTEND;TZID=UTC:20281212T230000
DTSTAMP:20260421T204408
CREATED:20250611T222118Z
LAST-MODIFIED:20250613T170147Z
UID:10013021-1860228000-1860274800@myrecovery.org
SUMMARY:AA - Elders 12x12 - Format: (50+)12x12 Discussion
DESCRIPTION:12X12: Recovery meetings center around topics pulled from A.A. conference-approved literature\, including the Big Book and the Twelve Steps and Twelve Traditions book. The Trusted Servant speaks about the topic and opens the meeting up for discussion for all attendees. \nCLICK HERE to join the meeting!
URL:https://myrecovery.org/event/aa-elders-12x12-format-5012x12-discussion/2028-12-12/
CATEGORIES:12x12,Elders
ATTACH;FMTTYPE=image/jpeg:https://myrecovery.org/wp-content/uploads/2024/09/AA-Elders-12x12-Format-5012x12-Discussion.jpg
LOCATION:https://zoom.us/j/91452702089?pwd=NmtSNjVpMWIwTHNKY2lIakUreFhRZz09
END:VEVENT
BEGIN:VEVENT
DTSTART;TZID=UTC:20281219T100000
DTEND;TZID=UTC:20281219T230000
DTSTAMP:20260421T204408
CREATED:20250611T222118Z
LAST-MODIFIED:20250613T170147Z
UID:10013022-1860832800-1860879600@myrecovery.org
SUMMARY:AA - Elders 12x12 - Format: (50+)12x12 Discussion
DESCRIPTION:12X12: Recovery meetings center around topics pulled from A.A. conference-approved literature\, including the Big Book and the Twelve Steps and Twelve Traditions book. The Trusted Servant speaks about the topic and opens the meeting up for discussion for all attendees. \nCLICK HERE to join the meeting!
URL:https://myrecovery.org/event/aa-elders-12x12-format-5012x12-discussion/2028-12-19/
CATEGORIES:12x12,Elders
ATTACH;FMTTYPE=image/jpeg:https://myrecovery.org/wp-content/uploads/2024/09/AA-Elders-12x12-Format-5012x12-Discussion.jpg
LOCATION:https://zoom.us/j/91452702089?pwd=NmtSNjVpMWIwTHNKY2lIakUreFhRZz09
END:VEVENT
BEGIN:VEVENT
DTSTART;TZID=UTC:20281226T100000
DTEND;TZID=UTC:20281226T230000
DTSTAMP:20260421T204408
CREATED:20250611T222118Z
LAST-MODIFIED:20250613T170147Z
UID:10013023-1861437600-1861484400@myrecovery.org
SUMMARY:AA - Elders 12x12 - Format: (50+)12x12 Discussion
DESCRIPTION:12X12: Recovery meetings center around topics pulled from A.A. conference-approved literature\, including the Big Book and the Twelve Steps and Twelve Traditions book. The Trusted Servant speaks about the topic and opens the meeting up for discussion for all attendees. \nCLICK HERE to join the meeting!
URL:https://myrecovery.org/event/aa-elders-12x12-format-5012x12-discussion/2028-12-26/
CATEGORIES:12x12,Elders
ATTACH;FMTTYPE=image/jpeg:https://myrecovery.org/wp-content/uploads/2024/09/AA-Elders-12x12-Format-5012x12-Discussion.jpg
LOCATION:https://zoom.us/j/91452702089?pwd=NmtSNjVpMWIwTHNKY2lIakUreFhRZz09
END:VEVENT
BEGIN:VEVENT
DTSTART;TZID=UTC:20290102T100000
DTEND;TZID=UTC:20290102T230000
DTSTAMP:20260421T204408
CREATED:20250611T222118Z
LAST-MODIFIED:20250613T170147Z
UID:10013024-1862042400-1862089200@myrecovery.org
SUMMARY:AA - Elders 12x12 - Format: (50+)12x12 Discussion
DESCRIPTION:12X12: Recovery meetings center around topics pulled from A.A. conference-approved literature\, including the Big Book and the Twelve Steps and Twelve Traditions book. The Trusted Servant speaks about the topic and opens the meeting up for discussion for all attendees. \nCLICK HERE to join the meeting!
URL:https://myrecovery.org/event/aa-elders-12x12-format-5012x12-discussion/2029-01-02/
CATEGORIES:12x12,Elders
ATTACH;FMTTYPE=image/jpeg:https://myrecovery.org/wp-content/uploads/2024/09/AA-Elders-12x12-Format-5012x12-Discussion.jpg
LOCATION:https://zoom.us/j/91452702089?pwd=NmtSNjVpMWIwTHNKY2lIakUreFhRZz09
END:VEVENT
BEGIN:VEVENT
DTSTART;TZID=UTC:20290109T100000
DTEND;TZID=UTC:20290109T230000
DTSTAMP:20260421T204408
CREATED:20250611T222118Z
LAST-MODIFIED:20250613T170147Z
UID:10013025-1862647200-1862694000@myrecovery.org
SUMMARY:AA - Elders 12x12 - Format: (50+)12x12 Discussion
DESCRIPTION:12X12: Recovery meetings center around topics pulled from A.A. conference-approved literature\, including the Big Book and the Twelve Steps and Twelve Traditions book. The Trusted Servant speaks about the topic and opens the meeting up for discussion for all attendees. \nCLICK HERE to join the meeting!
URL:https://myrecovery.org/event/aa-elders-12x12-format-5012x12-discussion/2029-01-09/
CATEGORIES:12x12,Elders
ATTACH;FMTTYPE=image/jpeg:https://myrecovery.org/wp-content/uploads/2024/09/AA-Elders-12x12-Format-5012x12-Discussion.jpg
LOCATION:https://zoom.us/j/91452702089?pwd=NmtSNjVpMWIwTHNKY2lIakUreFhRZz09
END:VEVENT
BEGIN:VEVENT
DTSTART;TZID=UTC:20290116T100000
DTEND;TZID=UTC:20290116T230000
DTSTAMP:20260421T204408
CREATED:20250611T222118Z
LAST-MODIFIED:20250613T170147Z
UID:10013026-1863252000-1863298800@myrecovery.org
SUMMARY:AA - Elders 12x12 - Format: (50+)12x12 Discussion
DESCRIPTION:12X12: Recovery meetings center around topics pulled from A.A. conference-approved literature\, including the Big Book and the Twelve Steps and Twelve Traditions book. The Trusted Servant speaks about the topic and opens the meeting up for discussion for all attendees. \nCLICK HERE to join the meeting!
URL:https://myrecovery.org/event/aa-elders-12x12-format-5012x12-discussion/2029-01-16/
CATEGORIES:12x12,Elders
ATTACH;FMTTYPE=image/jpeg:https://myrecovery.org/wp-content/uploads/2024/09/AA-Elders-12x12-Format-5012x12-Discussion.jpg
LOCATION:https://zoom.us/j/91452702089?pwd=NmtSNjVpMWIwTHNKY2lIakUreFhRZz09
END:VEVENT
BEGIN:VEVENT
DTSTART;TZID=UTC:20290123T100000
DTEND;TZID=UTC:20290123T230000
DTSTAMP:20260421T204408
CREATED:20250611T222118Z
LAST-MODIFIED:20250613T170147Z
UID:10013027-1863856800-1863903600@myrecovery.org
SUMMARY:AA - Elders 12x12 - Format: (50+)12x12 Discussion
DESCRIPTION:12X12: Recovery meetings center around topics pulled from A.A. conference-approved literature\, including the Big Book and the Twelve Steps and Twelve Traditions book. The Trusted Servant speaks about the topic and opens the meeting up for discussion for all attendees. \nCLICK HERE to join the meeting!
URL:https://myrecovery.org/event/aa-elders-12x12-format-5012x12-discussion/2029-01-23/
CATEGORIES:12x12,Elders
ATTACH;FMTTYPE=image/jpeg:https://myrecovery.org/wp-content/uploads/2024/09/AA-Elders-12x12-Format-5012x12-Discussion.jpg
LOCATION:https://zoom.us/j/91452702089?pwd=NmtSNjVpMWIwTHNKY2lIakUreFhRZz09
END:VEVENT
BEGIN:VEVENT
DTSTART;TZID=UTC:20290130T100000
DTEND;TZID=UTC:20290130T230000
DTSTAMP:20260421T204408
CREATED:20250611T222118Z
LAST-MODIFIED:20250613T170147Z
UID:10013028-1864461600-1864508400@myrecovery.org
SUMMARY:AA - Elders 12x12 - Format: (50+)12x12 Discussion
DESCRIPTION:12X12: Recovery meetings center around topics pulled from A.A. conference-approved literature\, including the Big Book and the Twelve Steps and Twelve Traditions book. The Trusted Servant speaks about the topic and opens the meeting up for discussion for all attendees. \nCLICK HERE to join the meeting!
URL:https://myrecovery.org/event/aa-elders-12x12-format-5012x12-discussion/2029-01-30/
CATEGORIES:12x12,Elders
ATTACH;FMTTYPE=image/jpeg:https://myrecovery.org/wp-content/uploads/2024/09/AA-Elders-12x12-Format-5012x12-Discussion.jpg
LOCATION:https://zoom.us/j/91452702089?pwd=NmtSNjVpMWIwTHNKY2lIakUreFhRZz09
END:VEVENT
BEGIN:VEVENT
DTSTART;TZID=UTC:20290206T100000
DTEND;TZID=UTC:20290206T230000
DTSTAMP:20260421T204408
CREATED:20250611T222118Z
LAST-MODIFIED:20250613T170147Z
UID:10013029-1865066400-1865113200@myrecovery.org
SUMMARY:AA - Elders 12x12 - Format: (50+)12x12 Discussion
DESCRIPTION:12X12: Recovery meetings center around topics pulled from A.A. conference-approved literature\, including the Big Book and the Twelve Steps and Twelve Traditions book. The Trusted Servant speaks about the topic and opens the meeting up for discussion for all attendees. \nCLICK HERE to join the meeting!
URL:https://myrecovery.org/event/aa-elders-12x12-format-5012x12-discussion/2029-02-06/
CATEGORIES:12x12,Elders
ATTACH;FMTTYPE=image/jpeg:https://myrecovery.org/wp-content/uploads/2024/09/AA-Elders-12x12-Format-5012x12-Discussion.jpg
LOCATION:https://zoom.us/j/91452702089?pwd=NmtSNjVpMWIwTHNKY2lIakUreFhRZz09
END:VEVENT
BEGIN:VEVENT
DTSTART;TZID=UTC:20290213T100000
DTEND;TZID=UTC:20290213T230000
DTSTAMP:20260421T204408
CREATED:20250611T222118Z
LAST-MODIFIED:20250613T170147Z
UID:10013030-1865671200-1865718000@myrecovery.org
SUMMARY:AA - Elders 12x12 - Format: (50+)12x12 Discussion
DESCRIPTION:12X12: Recovery meetings center around topics pulled from A.A. conference-approved literature\, including the Big Book and the Twelve Steps and Twelve Traditions book. The Trusted Servant speaks about the topic and opens the meeting up for discussion for all attendees. \nCLICK HERE to join the meeting!
URL:https://myrecovery.org/event/aa-elders-12x12-format-5012x12-discussion/2029-02-13/
CATEGORIES:12x12,Elders
ATTACH;FMTTYPE=image/jpeg:https://myrecovery.org/wp-content/uploads/2024/09/AA-Elders-12x12-Format-5012x12-Discussion.jpg
LOCATION:https://zoom.us/j/91452702089?pwd=NmtSNjVpMWIwTHNKY2lIakUreFhRZz09
END:VEVENT
BEGIN:VEVENT
DTSTART;TZID=UTC:20290220T100000
DTEND;TZID=UTC:20290220T230000
DTSTAMP:20260421T204408
CREATED:20250611T222118Z
LAST-MODIFIED:20250613T170147Z
UID:10013031-1866276000-1866322800@myrecovery.org
SUMMARY:AA - Elders 12x12 - Format: (50+)12x12 Discussion
DESCRIPTION:12X12: Recovery meetings center around topics pulled from A.A. conference-approved literature\, including the Big Book and the Twelve Steps and Twelve Traditions book. The Trusted Servant speaks about the topic and opens the meeting up for discussion for all attendees. \nCLICK HERE to join the meeting!
URL:https://myrecovery.org/event/aa-elders-12x12-format-5012x12-discussion/2029-02-20/
CATEGORIES:12x12,Elders
ATTACH;FMTTYPE=image/jpeg:https://myrecovery.org/wp-content/uploads/2024/09/AA-Elders-12x12-Format-5012x12-Discussion.jpg
LOCATION:https://zoom.us/j/91452702089?pwd=NmtSNjVpMWIwTHNKY2lIakUreFhRZz09
END:VEVENT
BEGIN:VEVENT
DTSTART;TZID=UTC:20290227T100000
DTEND;TZID=UTC:20290227T230000
DTSTAMP:20260421T204408
CREATED:20250611T222118Z
LAST-MODIFIED:20250613T170147Z
UID:10013032-1866880800-1866927600@myrecovery.org
SUMMARY:AA - Elders 12x12 - Format: (50+)12x12 Discussion
DESCRIPTION:12X12: Recovery meetings center around topics pulled from A.A. conference-approved literature\, including the Big Book and the Twelve Steps and Twelve Traditions book. The Trusted Servant speaks about the topic and opens the meeting up for discussion for all attendees. \nCLICK HERE to join the meeting!
URL:https://myrecovery.org/event/aa-elders-12x12-format-5012x12-discussion/2029-02-27/
CATEGORIES:12x12,Elders
ATTACH;FMTTYPE=image/jpeg:https://myrecovery.org/wp-content/uploads/2024/09/AA-Elders-12x12-Format-5012x12-Discussion.jpg
LOCATION:https://zoom.us/j/91452702089?pwd=NmtSNjVpMWIwTHNKY2lIakUreFhRZz09
END:VEVENT
BEGIN:VEVENT
DTSTART;TZID=UTC:20290306T100000
DTEND;TZID=UTC:20290306T230000
DTSTAMP:20260421T204408
CREATED:20250611T222118Z
LAST-MODIFIED:20250613T170147Z
UID:10013033-1867485600-1867532400@myrecovery.org
SUMMARY:AA - Elders 12x12 - Format: (50+)12x12 Discussion
DESCRIPTION:12X12: Recovery meetings center around topics pulled from A.A. conference-approved literature\, including the Big Book and the Twelve Steps and Twelve Traditions book. The Trusted Servant speaks about the topic and opens the meeting up for discussion for all attendees. \nCLICK HERE to join the meeting!
URL:https://myrecovery.org/event/aa-elders-12x12-format-5012x12-discussion/2029-03-06/
CATEGORIES:12x12,Elders
ATTACH;FMTTYPE=image/jpeg:https://myrecovery.org/wp-content/uploads/2024/09/AA-Elders-12x12-Format-5012x12-Discussion.jpg
LOCATION:https://zoom.us/j/91452702089?pwd=NmtSNjVpMWIwTHNKY2lIakUreFhRZz09
END:VEVENT
BEGIN:VEVENT
DTSTART;TZID=UTC:20290313T100000
DTEND;TZID=UTC:20290313T230000
DTSTAMP:20260421T204408
CREATED:20250611T222118Z
LAST-MODIFIED:20250613T170147Z
UID:10013034-1868090400-1868137200@myrecovery.org
SUMMARY:AA - Elders 12x12 - Format: (50+)12x12 Discussion
DESCRIPTION:12X12: Recovery meetings center around topics pulled from A.A. conference-approved literature\, including the Big Book and the Twelve Steps and Twelve Traditions book. The Trusted Servant speaks about the topic and opens the meeting up for discussion for all attendees. \nCLICK HERE to join the meeting!
URL:https://myrecovery.org/event/aa-elders-12x12-format-5012x12-discussion/2029-03-13/
CATEGORIES:12x12,Elders
ATTACH;FMTTYPE=image/jpeg:https://myrecovery.org/wp-content/uploads/2024/09/AA-Elders-12x12-Format-5012x12-Discussion.jpg
LOCATION:https://zoom.us/j/91452702089?pwd=NmtSNjVpMWIwTHNKY2lIakUreFhRZz09
END:VEVENT
BEGIN:VEVENT
DTSTART;TZID=UTC:20290320T100000
DTEND;TZID=UTC:20290320T230000
DTSTAMP:20260421T204408
CREATED:20250611T222118Z
LAST-MODIFIED:20250613T170147Z
UID:10013035-1868695200-1868742000@myrecovery.org
SUMMARY:AA - Elders 12x12 - Format: (50+)12x12 Discussion
DESCRIPTION:12X12: Recovery meetings center around topics pulled from A.A. conference-approved literature\, including the Big Book and the Twelve Steps and Twelve Traditions book. The Trusted Servant speaks about the topic and opens the meeting up for discussion for all attendees. \nCLICK HERE to join the meeting!
URL:https://myrecovery.org/event/aa-elders-12x12-format-5012x12-discussion/2029-03-20/
CATEGORIES:12x12,Elders
ATTACH;FMTTYPE=image/jpeg:https://myrecovery.org/wp-content/uploads/2024/09/AA-Elders-12x12-Format-5012x12-Discussion.jpg
LOCATION:https://zoom.us/j/91452702089?pwd=NmtSNjVpMWIwTHNKY2lIakUreFhRZz09
END:VEVENT
BEGIN:VEVENT
DTSTART;TZID=UTC:20290327T100000
DTEND;TZID=UTC:20290327T230000
DTSTAMP:20260421T204408
CREATED:20250611T222118Z
LAST-MODIFIED:20250613T170147Z
UID:10013036-1869300000-1869346800@myrecovery.org
SUMMARY:AA - Elders 12x12 - Format: (50+)12x12 Discussion
DESCRIPTION:12X12: Recovery meetings center around topics pulled from A.A. conference-approved literature\, including the Big Book and the Twelve Steps and Twelve Traditions book. The Trusted Servant speaks about the topic and opens the meeting up for discussion for all attendees. \nCLICK HERE to join the meeting!
URL:https://myrecovery.org/event/aa-elders-12x12-format-5012x12-discussion/2029-03-27/
CATEGORIES:12x12,Elders
ATTACH;FMTTYPE=image/jpeg:https://myrecovery.org/wp-content/uploads/2024/09/AA-Elders-12x12-Format-5012x12-Discussion.jpg
LOCATION:https://zoom.us/j/91452702089?pwd=NmtSNjVpMWIwTHNKY2lIakUreFhRZz09
END:VEVENT
BEGIN:VEVENT
DTSTART;TZID=UTC:20290403T100000
DTEND;TZID=UTC:20290403T230000
DTSTAMP:20260421T204408
CREATED:20250611T222118Z
LAST-MODIFIED:20250613T170147Z
UID:10013037-1869904800-1869951600@myrecovery.org
SUMMARY:AA - Elders 12x12 - Format: (50+)12x12 Discussion
DESCRIPTION:12X12: Recovery meetings center around topics pulled from A.A. conference-approved literature\, including the Big Book and the Twelve Steps and Twelve Traditions book. The Trusted Servant speaks about the topic and opens the meeting up for discussion for all attendees. \nCLICK HERE to join the meeting!
URL:https://myrecovery.org/event/aa-elders-12x12-format-5012x12-discussion/2029-04-03/
CATEGORIES:12x12,Elders
ATTACH;FMTTYPE=image/jpeg:https://myrecovery.org/wp-content/uploads/2024/09/AA-Elders-12x12-Format-5012x12-Discussion.jpg
LOCATION:https://zoom.us/j/91452702089?pwd=NmtSNjVpMWIwTHNKY2lIakUreFhRZz09
END:VEVENT
BEGIN:VEVENT
DTSTART;TZID=UTC:20290410T100000
DTEND;TZID=UTC:20290410T230000
DTSTAMP:20260421T204408
CREATED:20250611T222118Z
LAST-MODIFIED:20250613T170147Z
UID:10013038-1870509600-1870556400@myrecovery.org
SUMMARY:AA - Elders 12x12 - Format: (50+)12x12 Discussion
DESCRIPTION:12X12: Recovery meetings center around topics pulled from A.A. conference-approved literature\, including the Big Book and the Twelve Steps and Twelve Traditions book. The Trusted Servant speaks about the topic and opens the meeting up for discussion for all attendees. \nCLICK HERE to join the meeting!
URL:https://myrecovery.org/event/aa-elders-12x12-format-5012x12-discussion/2029-04-10/
CATEGORIES:12x12,Elders
ATTACH;FMTTYPE=image/jpeg:https://myrecovery.org/wp-content/uploads/2024/09/AA-Elders-12x12-Format-5012x12-Discussion.jpg
LOCATION:https://zoom.us/j/91452702089?pwd=NmtSNjVpMWIwTHNKY2lIakUreFhRZz09
END:VEVENT
BEGIN:VEVENT
DTSTART;TZID=UTC:20290417T100000
DTEND;TZID=UTC:20290417T230000
DTSTAMP:20260421T204408
CREATED:20250611T222118Z
LAST-MODIFIED:20250613T170147Z
UID:10013039-1871114400-1871161200@myrecovery.org
SUMMARY:AA - Elders 12x12 - Format: (50+)12x12 Discussion
DESCRIPTION:12X12: Recovery meetings center around topics pulled from A.A. conference-approved literature\, including the Big Book and the Twelve Steps and Twelve Traditions book. The Trusted Servant speaks about the topic and opens the meeting up for discussion for all attendees. \nCLICK HERE to join the meeting!
URL:https://myrecovery.org/event/aa-elders-12x12-format-5012x12-discussion/2029-04-17/
CATEGORIES:12x12,Elders
ATTACH;FMTTYPE=image/jpeg:https://myrecovery.org/wp-content/uploads/2024/09/AA-Elders-12x12-Format-5012x12-Discussion.jpg
LOCATION:https://zoom.us/j/91452702089?pwd=NmtSNjVpMWIwTHNKY2lIakUreFhRZz09
END:VEVENT
BEGIN:VEVENT
DTSTART;TZID=UTC:20290424T100000
DTEND;TZID=UTC:20290424T230000
DTSTAMP:20260421T204408
CREATED:20250611T222118Z
LAST-MODIFIED:20250613T170147Z
UID:10013040-1871719200-1871766000@myrecovery.org
SUMMARY:AA - Elders 12x12 - Format: (50+)12x12 Discussion
DESCRIPTION:12X12: Recovery meetings center around topics pulled from A.A. conference-approved literature\, including the Big Book and the Twelve Steps and Twelve Traditions book. The Trusted Servant speaks about the topic and opens the meeting up for discussion for all attendees. \nCLICK HERE to join the meeting!
URL:https://myrecovery.org/event/aa-elders-12x12-format-5012x12-discussion/2029-04-24/
CATEGORIES:12x12,Elders
ATTACH;FMTTYPE=image/jpeg:https://myrecovery.org/wp-content/uploads/2024/09/AA-Elders-12x12-Format-5012x12-Discussion.jpg
LOCATION:https://zoom.us/j/91452702089?pwd=NmtSNjVpMWIwTHNKY2lIakUreFhRZz09
END:VEVENT
BEGIN:VEVENT
DTSTART;TZID=UTC:20290501T100000
DTEND;TZID=UTC:20290501T230000
DTSTAMP:20260421T204408
CREATED:20250611T222118Z
LAST-MODIFIED:20250613T170147Z
UID:10013041-1872324000-1872370800@myrecovery.org
SUMMARY:AA - Elders 12x12 - Format: (50+)12x12 Discussion
DESCRIPTION:12X12: Recovery meetings center around topics pulled from A.A. conference-approved literature\, including the Big Book and the Twelve Steps and Twelve Traditions book. The Trusted Servant speaks about the topic and opens the meeting up for discussion for all attendees. \nCLICK HERE to join the meeting!
URL:https://myrecovery.org/event/aa-elders-12x12-format-5012x12-discussion/2029-05-01/
CATEGORIES:12x12,Elders
ATTACH;FMTTYPE=image/jpeg:https://myrecovery.org/wp-content/uploads/2024/09/AA-Elders-12x12-Format-5012x12-Discussion.jpg
LOCATION:https://zoom.us/j/91452702089?pwd=NmtSNjVpMWIwTHNKY2lIakUreFhRZz09
END:VEVENT
BEGIN:VEVENT
DTSTART;TZID=UTC:20290508T100000
DTEND;TZID=UTC:20290508T230000
DTSTAMP:20260421T204408
CREATED:20250611T222118Z
LAST-MODIFIED:20250613T170147Z
UID:10013042-1872928800-1872975600@myrecovery.org
SUMMARY:AA - Elders 12x12 - Format: (50+)12x12 Discussion
DESCRIPTION:12X12: Recovery meetings center around topics pulled from A.A. conference-approved literature\, including the Big Book and the Twelve Steps and Twelve Traditions book. The Trusted Servant speaks about the topic and opens the meeting up for discussion for all attendees. \nCLICK HERE to join the meeting!
URL:https://myrecovery.org/event/aa-elders-12x12-format-5012x12-discussion/2029-05-08/
CATEGORIES:12x12,Elders
ATTACH;FMTTYPE=image/jpeg:https://myrecovery.org/wp-content/uploads/2024/09/AA-Elders-12x12-Format-5012x12-Discussion.jpg
LOCATION:https://zoom.us/j/91452702089?pwd=NmtSNjVpMWIwTHNKY2lIakUreFhRZz09
END:VEVENT
BEGIN:VEVENT
DTSTART;TZID=UTC:20290515T100000
DTEND;TZID=UTC:20290515T230000
DTSTAMP:20260421T204408
CREATED:20250611T222118Z
LAST-MODIFIED:20250613T170147Z
UID:10013043-1873533600-1873580400@myrecovery.org
SUMMARY:AA - Elders 12x12 - Format: (50+)12x12 Discussion
DESCRIPTION:12X12: Recovery meetings center around topics pulled from A.A. conference-approved literature\, including the Big Book and the Twelve Steps and Twelve Traditions book. The Trusted Servant speaks about the topic and opens the meeting up for discussion for all attendees. \nCLICK HERE to join the meeting!
URL:https://myrecovery.org/event/aa-elders-12x12-format-5012x12-discussion/2029-05-15/
CATEGORIES:12x12,Elders
ATTACH;FMTTYPE=image/jpeg:https://myrecovery.org/wp-content/uploads/2024/09/AA-Elders-12x12-Format-5012x12-Discussion.jpg
LOCATION:https://zoom.us/j/91452702089?pwd=NmtSNjVpMWIwTHNKY2lIakUreFhRZz09
END:VEVENT
BEGIN:VEVENT
DTSTART;TZID=UTC:20290522T100000
DTEND;TZID=UTC:20290522T230000
DTSTAMP:20260421T204408
CREATED:20250611T222118Z
LAST-MODIFIED:20250613T170147Z
UID:10013044-1874138400-1874185200@myrecovery.org
SUMMARY:AA - Elders 12x12 - Format: (50+)12x12 Discussion
DESCRIPTION:12X12: Recovery meetings center around topics pulled from A.A. conference-approved literature\, including the Big Book and the Twelve Steps and Twelve Traditions book. The Trusted Servant speaks about the topic and opens the meeting up for discussion for all attendees. \nCLICK HERE to join the meeting!
URL:https://myrecovery.org/event/aa-elders-12x12-format-5012x12-discussion/2029-05-22/
CATEGORIES:12x12,Elders
ATTACH;FMTTYPE=image/jpeg:https://myrecovery.org/wp-content/uploads/2024/09/AA-Elders-12x12-Format-5012x12-Discussion.jpg
LOCATION:https://zoom.us/j/91452702089?pwd=NmtSNjVpMWIwTHNKY2lIakUreFhRZz09
END:VEVENT
END:VCALENDAR